BEGIN:VCALENDAR
VERSION:2.0
PRODID:-//Goodwill Industries of Middle Tennessee, Inc. - ECPv6.15.13//NONSGML v1.0//EN
CALSCALE:GREGORIAN
METHOD:PUBLISH
X-ORIGINAL-URL:https://giveit2goodwill.org
X-WR-CALDESC:Events for Goodwill Industries of Middle Tennessee, Inc.
REFRESH-INTERVAL;VALUE=DURATION:PT1H
X-Robots-Tag:noindex
X-PUBLISHED-TTL:PT1H
BEGIN:VTIMEZONE
TZID:America/Chicago
BEGIN:DAYLIGHT
TZOFFSETFROM:-0600
TZOFFSETTO:-0500
TZNAME:CDT
DTSTART:20250309T080000
END:DAYLIGHT
BEGIN:STANDARD
TZOFFSETFROM:-0500
TZOFFSETTO:-0600
TZNAME:CST
DTSTART:20251102T070000
END:STANDARD
BEGIN:DAYLIGHT
TZOFFSETFROM:-0600
TZOFFSETTO:-0500
TZNAME:CDT
DTSTART:20260308T080000
END:DAYLIGHT
BEGIN:STANDARD
TZOFFSETFROM:-0500
TZOFFSETTO:-0600
TZNAME:CST
DTSTART:20261101T070000
END:STANDARD
BEGIN:DAYLIGHT
TZOFFSETFROM:-0600
TZOFFSETTO:-0500
TZNAME:CDT
DTSTART:20270314T080000
END:DAYLIGHT
BEGIN:STANDARD
TZOFFSETFROM:-0500
TZOFFSETTO:-0600
TZNAME:CST
DTSTART:20271107T070000
END:STANDARD
END:VTIMEZONE
BEGIN:VEVENT
DTSTART;TZID=America/Chicago:20260701T110000
DTEND;TZID=America/Chicago:20260701T120000
DTSTAMP:20260424T051851
CREATED:20250827T134538Z
LAST-MODIFIED:20260422T195306Z
UID:10029177-1782903600-1782907200@giveit2goodwill.org
SUMMARY:Resume Writing (Virtual Training)
DESCRIPTION:Goodwill Career Solutions will conduct a free Virtual Resume Writing Class on the first Wednesday and third and fourth Thursday of every month from 11:00AM – 12:00PM. Participants must pre-register by at their closet Career Center or calling (615) 742-4151.
URL:https://giveit2goodwill.org/calendar/resume-writing-virtual-training/2026-07-01/
LOCATION:TN
CATEGORIES:Nashville
END:VEVENT
BEGIN:VEVENT
DTSTART;TZID=America/Chicago:20260701T130000
DTEND;TZID=America/Chicago:20260701T140000
DTSTAMP:20260424T051851
CREATED:20260327T125250Z
LAST-MODIFIED:20260422T154141Z
UID:10028997-1782910800-1782914400@giveit2goodwill.org
SUMMARY:Interviewing for Work (Virtual)
DESCRIPTION:Goodwill Career Solutions will conduct a free Virtual Interviewing for Work Class on the first Wednesday\, third Thursday\, and last Thursday of every month from 1:00 PM – 2:00 PM. Participants must pre-register by visiting their closet Career Center or calling (615) 742-4151.
URL:https://giveit2goodwill.org/calendar/interviewing-for-work-virtual/2026-07-01/
LOCATION:TN
CATEGORIES:Nashville
ORGANIZER;CN="Goodwill Middle Tennessee":MAILTO:training@givegw.org
END:VEVENT
BEGIN:VEVENT
DTSTART;TZID=America/Chicago:20260709T100000
DTEND;TZID=America/Chicago:20260709T120000
DTSTAMP:20260424T051851
CREATED:20260422T201148Z
LAST-MODIFIED:20260422T201148Z
UID:10029297-1783591200-1783598400@giveit2goodwill.org
SUMMARY:Work from Home (Virtual)
DESCRIPTION:Goodwill Career Solutions will conduct a free Virtual Work from Home Class on the second Thursday of every month from 10:00 AM – 12:00 PM. Participants must pre-register by visiting their closet Career Center or calling (615) 742-4151.
URL:https://giveit2goodwill.org/calendar/work-from-home-virtual/2026-07-09/
LOCATION:TN
CATEGORIES:Virtual
ORGANIZER;CN="Goodwill Middle Tennessee":MAILTO:training@givegw.org
END:VEVENT
BEGIN:VEVENT
DTSTART;TZID=America/Chicago:20260709T120000
DTEND;TZID=America/Chicago:20260709T140000
DTSTAMP:20260424T051851
CREATED:20260422T200749Z
LAST-MODIFIED:20260422T200749Z
UID:10029237-1783598400-1783605600@giveit2goodwill.org
SUMMARY:Money Matters in Brentwood
DESCRIPTION:Goodwill Career Solutions will conduct a free Money Matters (Financial Literacy) Class on the second Thursday of each month from 12 p.m. – 2 p.m.\, at the Brentwood (Mill Creek) Career Solutions Location. Participants must pre-register by visiting the career center or calling (615) 953-0040.
URL:https://giveit2goodwill.org/calendar/money-matters-in-brentwood/2026-07-09/
LOCATION:Mill Creek Career Solutions\, 6708 Nolensville Pike\, Brentwood\, TN\, 37027\, United States
CATEGORIES:Brentwood
ORGANIZER;CN="Goodwill Middle Tennessee":MAILTO:training@givegw.org
END:VEVENT
BEGIN:VEVENT
DTSTART;TZID=America/Chicago:20260709T130000
DTEND;TZID=America/Chicago:20260709T150000
DTSTAMP:20260424T051851
CREATED:20260422T201444Z
LAST-MODIFIED:20260422T201444Z
UID:10029357-1783602000-1783609200@giveit2goodwill.org
SUMMARY:Explore & Apply (Virtual)
DESCRIPTION:Goodwill Career Solutions will conduct a free Virtual Explore Jobs Online & Apply for Work Class on the second Thursday of every month from 1:00 PM – 3:00 PM. Participants must pre-register by visiting their closet Career Center or calling (615) 742-4151.
URL:https://giveit2goodwill.org/calendar/explore-apply-virtual/2026-07-09/
LOCATION:TN
CATEGORIES:Virtual
ORGANIZER;CN="Goodwill Middle Tennessee":MAILTO:training@givegw.org
END:VEVENT
BEGIN:VEVENT
DTSTART;TZID=America/Chicago:20260714T130000
DTEND;TZID=America/Chicago:20260714T153000
DTSTAMP:20260424T051851
CREATED:20250708T025524Z
LAST-MODIFIED:20260327T141801Z
UID:10028301-1784034000-1784043000@giveit2goodwill.org
SUMMARY:Intermediate OPS in Nashville
DESCRIPTION:Goodwill Career Solutions will conduct a free Intermediate Office Productivity Class on the second Tuesday of each month from 1 p.m. – 3:30 p.m. at the Nashville Career Solutions Location (Lifsey Building). Participants must pre-register by visiting www.giveit2goodwill.org/digital-literacy or calling (615) 742-4151.
URL:https://giveit2goodwill.org/calendar/intermediate-ops-in-nashville/2026-07-14/
LOCATION:TN
CATEGORIES:Nashville
END:VEVENT
BEGIN:VEVENT
DTSTART;TZID=America/Chicago:20260714T140000
DTEND;TZID=America/Chicago:20260714T160000
DTSTAMP:20260424T051851
CREATED:20250827T140639Z
LAST-MODIFIED:20260422T193805Z
UID:10022811-1784037600-1784044800@giveit2goodwill.org
SUMMARY:Basic Digital Literacy in Lebanon
DESCRIPTION:Goodwill Career Solutions will conduct a free Basic Digital Literacy Class from 2:00 p.m. – 4:00 p.m. on the second Tuesday of every other month\, at the Lebanon Career Solutions Location (Indian Lake). Participants must pre-register by visiting the closet career center or calling (615) 742-4151.
URL:https://giveit2goodwill.org/calendar/money-matters-financial-lit-in-lebanon/2026-07-14/
LOCATION:Lebanon Career Solutions\, 1414 W Main St\, Lebanon\, TN\, 37087\, United States
CATEGORIES:Lebanon
END:VEVENT
BEGIN:VEVENT
DTSTART;TZID=America/Chicago:20260715T090000
DTEND;TZID=America/Chicago:20260715T120000
DTSTAMP:20260424T051851
CREATED:20250916T200803Z
LAST-MODIFIED:20260327T142614Z
UID:10026108-1784106000-1784116800@giveit2goodwill.org
SUMMARY:Beginner OPS in Mt. Juliet
DESCRIPTION:Goodwill Career Solutions will conduct a free Beginner Office Productivity Class from 9 a.m. – 12 p.m. on the third Wednesday of every other month. Participants must pre-register by visiting a career center or calling (615) 288-2389.
URL:https://giveit2goodwill.org/calendar/beginner-ops-in-mt-juliet/2026-07-15/
LOCATION:TN
CATEGORIES:Mt. Juliet
ORGANIZER;CN="Goodwill Middle Tennessee":MAILTO:training@givegw.org
END:VEVENT
BEGIN:VEVENT
DTSTART;TZID=America/Chicago:20260715T130000
DTEND;TZID=America/Chicago:20260715T153000
DTSTAMP:20260424T051851
CREATED:20251226T220931Z
LAST-MODIFIED:20260421T184616Z
UID:10026258-1784120400-1784129400@giveit2goodwill.org
SUMMARY:Intermediate OPS in Mt. Juliet
DESCRIPTION:Goodwill Career Solutions will conduct a free Intermediate Office Productivity Class from 1 p.m. – 3:30 p.m. on the third Wednesday of every other month. Participants must pre-register by visiting a career center or calling (615) 288-2389.
URL:https://giveit2goodwill.org/calendar/intermediate-ops-in-mt-juliet/2026-07-15/
LOCATION:Mt. Juliet Goodwill Career Solutions\, 1985 Providence West Parkway\, Mt. Juliet\, TN\, 37122\, United States
CATEGORIES:Mt. Juliet
ORGANIZER;CN="Goodwill Middle Tennessee":MAILTO:training@givegw.org
END:VEVENT
BEGIN:VEVENT
DTSTART;TZID=America/Chicago:20260716T110000
DTEND;TZID=America/Chicago:20260716T120000
DTSTAMP:20260424T051851
CREATED:20260422T203229Z
LAST-MODIFIED:20260422T203229Z
UID:10029537-1784199600-1784203200@giveit2goodwill.org
SUMMARY:Resume Writing (Virtual Training)
DESCRIPTION:Goodwill Career Solutions will conduct a free Virtual Resume Writing Class on the first Wednesday\, third Thursday\, and last Thursday of every month from 11:00 AM – 12:00 PM. Participants must pre-register by visiting their closet Career Center or calling (615) 742-4151.
URL:https://giveit2goodwill.org/calendar/resume-writing-virtual-training-2/2026-07-16/
LOCATION:TN
CATEGORIES:Virtual
ORGANIZER;CN="Goodwill Middle Tennessee":MAILTO:training@givegw.org
END:VEVENT
BEGIN:VEVENT
DTSTART;TZID=America/Chicago:20260716T130000
DTEND;TZID=America/Chicago:20260716T140000
DTSTAMP:20260424T051851
CREATED:20260422T155221Z
LAST-MODIFIED:20260422T155221Z
UID:10029057-1784206800-1784210400@giveit2goodwill.org
SUMMARY:Interviewing for Work (Virtual)
DESCRIPTION:Goodwill Career Solutions will conduct a free Virtual Interviewing for Work Class on the first Wednesday\, third Thursday\, and last Thursday of every month from 1:00 PM – 2:00 PM. Participants must pre-register by visiting their closet Career Center or calling (615) 742-4151.
URL:https://giveit2goodwill.org/calendar/interviewing-for-work-virtual-3/2026-07-16/
LOCATION:TN
CATEGORIES:Nashville
ORGANIZER;CN="Goodwill Middle Tennessee":MAILTO:training@givegw.org
END:VEVENT
BEGIN:VEVENT
DTSTART;TZID=America/Chicago:20260721T090000
DTEND;TZID=America/Chicago:20260721T120000
DTSTAMP:20260424T051851
CREATED:20260422T202457Z
LAST-MODIFIED:20260422T202457Z
UID:10029477-1784624400-1784635200@giveit2goodwill.org
SUMMARY:Beginner OPS in Spring Hill
DESCRIPTION:Goodwill Career Solutions will conduct a free Beginner Office Productivity Class from 9 a.m.-noon on the fourth Tuesday of every other month\, at the Spring Hill Career Solutions Location. Participants must pre-register by visiting their closest career center or calling (931) 548-3460.
URL:https://giveit2goodwill.org/calendar/beginner-ops-in-spring-hill-2/2026-07-21/
LOCATION:Spring Hill Goodwill Career Solutions\, 1008 Nasdaq St.\, Spring Hill\, TN\, 37174
CATEGORIES:Spring Hill
ORGANIZER;CN="Goodwill Middle Tennessee":MAILTO:training@givegw.org
END:VEVENT
BEGIN:VEVENT
DTSTART;TZID=America/Chicago:20260721T100000
DTEND;TZID=America/Chicago:20260721T120000
DTSTAMP:20260424T051851
CREATED:20250722T222503Z
LAST-MODIFIED:20260327T140429Z
UID:10028001-1784628000-1784635200@giveit2goodwill.org
SUMMARY:Beginner Google Workspace in Nashville
DESCRIPTION:Goodwill Career Solutions will conduct a free Beginner Google Workspace Class on the third Tuesday of every month from 10 a.m. – 12 p.m. at the Nashville Career Solutions Location (Lifsey Building). Participants must pre-register by visiting www.giveit2goodwill.org/digital-literacy or calling (615) 742-4151.
URL:https://giveit2goodwill.org/calendar/beginner-google-workspace-in-nashville-2/2026-07-21/
LOCATION:TN
CATEGORIES:Nashville
END:VEVENT
BEGIN:VEVENT
DTSTART;TZID=America/Chicago:20260721T100000
DTEND;TZID=America/Chicago:20260721T120000
DTSTAMP:20260424T051851
CREATED:20260422T202050Z
LAST-MODIFIED:20260422T202050Z
UID:10029417-1784628000-1784635200@giveit2goodwill.org
SUMMARY:Explore & Apply (Virtual)
DESCRIPTION:Goodwill Career Solutions will conduct a free Virtual Explore Jobs Online & Apply for Work Class on the third Tuesday of every month from 10:00 AM – 12:00 PM. Participants must pre-register by visiting their closet Career Center or calling (615) 742-4151.
URL:https://giveit2goodwill.org/calendar/explore-apply-virtual-2/2026-07-21/
LOCATION:TN
CATEGORIES:Virtual
ORGANIZER;CN="Goodwill Middle Tennessee":MAILTO:training@givegw.org
END:VEVENT
BEGIN:VEVENT
DTSTART;TZID=America/Chicago:20260721T130000
DTEND;TZID=America/Chicago:20260721T153000
DTSTAMP:20260424T051851
CREATED:20250722T222705Z
LAST-MODIFIED:20260327T141207Z
UID:10028121-1784638800-1784647800@giveit2goodwill.org
SUMMARY:Intermediate Google Workspace in Nashville
DESCRIPTION:Goodwill Career Solutions will conduct a free Intermediate Google Workspace Class on the third Tuesday of every month from 1 p.m. – 3:30 p.m. at the Nashville Career Solutions Location (Lifsey Building). Participants must pre-register by visiting www.giveit2goodwill.org/digital-literacy or calling (615) 742-4151.
URL:https://giveit2goodwill.org/calendar/intermediate-google-workspace-in-nashville-2/2026-07-21/
LOCATION:TN
CATEGORIES:Nashville
END:VEVENT
BEGIN:VEVENT
DTSTART;TZID=America/Chicago:20260722T090000
DTEND;TZID=America/Chicago:20260722T110000
DTSTAMP:20260424T051851
CREATED:20260327T150810Z
LAST-MODIFIED:20260422T204430Z
UID:10028580-1784710800-1784718000@giveit2goodwill.org
SUMMARY:Beginner Google Workspace in Murfreesboro
DESCRIPTION:Goodwill Career Solutions will conduct a free Beginner Google Workspace Class from 9 a.m. – 11 a.m. on Wednesday\, May 27\, at the Murfreesboro Career Solutions Location. Participants must pre-register by visiting the closest career center or calling (615) 346-1818.
URL:https://giveit2goodwill.org/calendar/beginner-google-workspace-in-murfreesboro/2026-07-22/
LOCATION:TN
CATEGORIES:Murfreesboro
ORGANIZER;CN="Goodwill Middle Tennessee":MAILTO:training@givegw.org
END:VEVENT
BEGIN:VEVENT
DTSTART;TZID=America/Chicago:20260722T120000
DTEND;TZID=America/Chicago:20260722T140000
DTSTAMP:20260424T051851
CREATED:20260422T210909Z
LAST-MODIFIED:20260422T210909Z
UID:10029836-1784721600-1784728800@giveit2goodwill.org
SUMMARY:Intermediate Google Workspace in Murfreesboro
DESCRIPTION:Goodwill Career Solutions will conduct a free Intermediate Google Workspace Class from 12 p.m. – 2 p.m. on the last Wednesday of every other month\, at the Murfreesboro Career Solutions Location. Participants must pre-register by visiting the closest career center or calling (615) 346-1818.
URL:https://giveit2goodwill.org/calendar/intermediate-google-workspace-in-murfreesboro/2026-07-22/
LOCATION:Murfreesboro Goodwill Career Solutions\, 2955 S. Church St.\, Murfreesboro\, TN\, 37127\, United States
CATEGORIES:Murfreesboro
ORGANIZER;CN="Goodwill Middle Tennessee":MAILTO:training@givegw.org
END:VEVENT
BEGIN:VEVENT
DTSTART;TZID=America/Chicago:20260723T110000
DTEND;TZID=America/Chicago:20260723T120000
DTSTAMP:20260424T051851
CREATED:20260327T150552Z
LAST-MODIFIED:20260422T205433Z
UID:10029778-1784804400-1784808000@giveit2goodwill.org
SUMMARY:Resume Writing (Virtual)
DESCRIPTION:Goodwill Career Solutions will conduct a free Virtual Resume Writing Class on the first Wednesday and third and fourth Thursday of every month from 11:00PM – 12:00PM. Participants must pre-register by at their closet Career Center or calling (615) 742-4151.
URL:https://giveit2goodwill.org/calendar/resume-writing-virtual/2026-07-23/
LOCATION:TN
CATEGORIES:Nashville
ORGANIZER;CN="Goodwill Middle Tennessee":MAILTO:training@givegw.org
END:VEVENT
BEGIN:VEVENT
DTSTART;TZID=America/Chicago:20260723T130000
DTEND;TZID=America/Chicago:20260723T140000
DTSTAMP:20260424T051851
CREATED:20260327T131957Z
LAST-MODIFIED:20260422T205204Z
UID:10029718-1784811600-1784815200@giveit2goodwill.org
SUMMARY:Interviewing for Work (Virtual)
DESCRIPTION:Goodwill Career Solutions will conduct a free Virtual Interviewing for Work Class on the first Wednesday and third and fourth Thursday of every month from 1:00PM – 2:00PM. Participants must pre-register by at their closet Career Center or calling (615) 742-4151.
URL:https://giveit2goodwill.org/calendar/interviewing-for-work-virtual-2/2026-07-23/
LOCATION:TN
CATEGORIES:Nashville
ORGANIZER;CN="Goodwill Middle Tennessee":MAILTO:training@givegw.org
END:VEVENT
BEGIN:VEVENT
DTSTART;TZID=America/Chicago:20260728T100000
DTEND;TZID=America/Chicago:20260728T120000
DTSTAMP:20260424T051851
CREATED:20260422T203854Z
LAST-MODIFIED:20260422T204235Z
UID:10029657-1785232800-1785240000@giveit2goodwill.org
SUMMARY:Work from Home (Virtual)
DESCRIPTION:Goodwill Career Solutions will conduct a free Virtual Work from Home Class on the last Tuesday of every month from 10:00 AM – 12:00 PM. Participants must pre-register by visiting their closet Career Center or calling (615) 742-4151.
URL:https://giveit2goodwill.org/calendar/work-from-home-virtual-2/2026-07-28/
LOCATION:TN
CATEGORIES:Virtual
ORGANIZER;CN="Goodwill Middle Tennessee":MAILTO:training@givegw.org
END:VEVENT
BEGIN:VEVENT
DTSTART;TZID=America/Chicago:20260803T080000
DTEND;TZID=America/Chicago:20260803T170000
DTSTAMP:20260424T051851
CREATED:20260330T152837Z
LAST-MODIFIED:20260413T155857Z
UID:10028942-1785744000-1785776400@giveit2goodwill.org
SUMMARY:Construction Training Begins – Jackson
DESCRIPTION:Goodwill Career Solutions will conduct a free\, four-week Construction and Weatherization Training Program from 8:00 am – 5:00 pm four days per week at its facility at 1320 S. Highland Avenue in Jackson.    \nParticipants attend classes five days per week for four weeks at one of our Goodwill facilities in West Nashville or South Jackson. Three hours of each day are spent in the classroom\, and three are spent in the workshop. The course covers safety\, construction math\, hand and power tools\, blueprints\, rigging\, weatherization\, communication\, forklift operation\, employability skills and more. Graduates receive an OSHA 10 safety certification. \nWhat You’ll Learn:\nConstruction safety\nHands-on use of hand and power tools\nReading blueprints\nBasic rigging\nConstruction math\nEmployability skills and more \nWhat You’ll Receive:\nStudents receive a stipend of $100 per week while in the program\nOSHA 10 certification\nJob placement services upon completion\nParticipants must register as a Goodwill Client and be on a free service plan with a Career Coach.
URL:https://giveit2goodwill.org/calendar/construction-training-begins-jackson/2026-08-03/
LOCATION:Career Solutions-Jackson\, 1320 South Highland\, Jackson\, Tennessee\, 35301
ORGANIZER;CN="Goodwill Middle Tennessee":MAILTO:training@givegw.org
END:VEVENT
BEGIN:VEVENT
DTSTART;TZID=America/Chicago:20260805T110000
DTEND;TZID=America/Chicago:20260805T120000
DTSTAMP:20260424T051851
CREATED:20250827T134538Z
LAST-MODIFIED:20260422T195306Z
UID:10029178-1785927600-1785931200@giveit2goodwill.org
SUMMARY:Resume Writing (Virtual Training)
DESCRIPTION:Goodwill Career Solutions will conduct a free Virtual Resume Writing Class on the first Wednesday and third and fourth Thursday of every month from 11:00AM – 12:00PM. Participants must pre-register by at their closet Career Center or calling (615) 742-4151.
URL:https://giveit2goodwill.org/calendar/resume-writing-virtual-training/2026-08-05/
LOCATION:TN
CATEGORIES:Nashville
END:VEVENT
BEGIN:VEVENT
DTSTART;TZID=America/Chicago:20260805T130000
DTEND;TZID=America/Chicago:20260805T140000
DTSTAMP:20260424T051851
CREATED:20260327T125250Z
LAST-MODIFIED:20260422T154141Z
UID:10028998-1785934800-1785938400@giveit2goodwill.org
SUMMARY:Interviewing for Work (Virtual)
DESCRIPTION:Goodwill Career Solutions will conduct a free Virtual Interviewing for Work Class on the first Wednesday\, third Thursday\, and last Thursday of every month from 1:00 PM – 2:00 PM. Participants must pre-register by visiting their closet Career Center or calling (615) 742-4151.
URL:https://giveit2goodwill.org/calendar/interviewing-for-work-virtual/2026-08-05/
LOCATION:TN
CATEGORIES:Nashville
ORGANIZER;CN="Goodwill Middle Tennessee":MAILTO:training@givegw.org
END:VEVENT
BEGIN:VEVENT
DTSTART;TZID=America/Chicago:20260805T140000
DTEND;TZID=America/Chicago:20260805T160000
DTSTAMP:20260424T051851
CREATED:20260327T125000Z
LAST-MODIFIED:20260327T125000Z
UID:10027729-1785938400-1785945600@giveit2goodwill.org
SUMMARY:Basic Digital Literacy in Murfreesboro
DESCRIPTION:Goodwill Career Solutions will conduct a free Basic Digital Literacy Class from 2:00pm – 4:00pm on the first Wednesday of every other month\, at the Murfreesboro Career Solutions Location. Participants must pre-register by visiting www.giveit2goodwill.org/digital-literacy or calling (615) 346-1818.
URL:https://giveit2goodwill.org/calendar/basic-digital-literacy-in-murfreesboro/2026-08-05/
LOCATION:TN
CATEGORIES:Murfreesboro
ORGANIZER;CN="Goodwill Middle Tennessee":MAILTO:training@givegw.org
END:VEVENT
BEGIN:VEVENT
DTSTART;TZID=America/Chicago:20260810T090000
DTEND;TZID=America/Chicago:20260810T120000
DTSTAMP:20260424T051851
CREATED:20250916T211625Z
LAST-MODIFIED:20260327T130901Z
UID:10027820-1786352400-1786363200@giveit2goodwill.org
SUMMARY:Beginner OPS in Murfreesboro
DESCRIPTION:Goodwill Career Solutions will conduct a free Beginner Office Productivity Class from 9:00AM – 12:00PM on Monday\, April 13\, at the Murfreesboro Career Solutions Location. Participants must pre-register by visiting the closest career center or calling (615) 346-1818.
URL:https://giveit2goodwill.org/calendar/beginner-ops-in-murfreesboro/2026-08-10/
LOCATION:TN
CATEGORIES:Murfreesboro
ORGANIZER;CN="Goodwill Middle Tennessee":MAILTO:training@givegw.org
END:VEVENT
BEGIN:VEVENT
DTSTART;TZID=America/Chicago:20260810T130000
DTEND;TZID=America/Chicago:20260810T153000
DTSTAMP:20260424T051851
CREATED:20250916T211833Z
LAST-MODIFIED:20260327T131030Z
UID:10027850-1786366800-1786375800@giveit2goodwill.org
SUMMARY:Intermediate OPS in Murfreesboro
DESCRIPTION:Goodwill Career Solutions will conduct a free Intermediate Office Productivity Class from 1 p.m. – 3:30 p.m. on Monday\, April 13\, at the Murfreesboro Career Solutions Location. Participants must pre-register by visiting the closest career center or calling (615) 346-1818.
URL:https://giveit2goodwill.org/calendar/intermediate-ops-in-murfreesboro/2026-08-10/
LOCATION:TN
CATEGORIES:Murfreesboro
ORGANIZER;CN="Goodwill Middle Tennessee":MAILTO:training@givegw.org
END:VEVENT
BEGIN:VEVENT
DTSTART;TZID=America/Chicago:20260811T090000
DTEND;TZID=America/Chicago:20260811T120000
DTSTAMP:20260424T051851
CREATED:20260327T135830Z
LAST-MODIFIED:20260327T140106Z
UID:10027970-1786438800-1786449600@giveit2goodwill.org
SUMMARY:Beginner Google Workspace in Spring Hill
DESCRIPTION:Goodwill Career Solutions will conduct a free Beginner Google Workspace Class from 9 a.m. – 12 a.m. on the second Tuesday of every other month\, at the Spring Hill Career Solutions Location. Participants must pre-register by visiting their closest career center or calling (931) 548-3460.
URL:https://giveit2goodwill.org/calendar/beginner-google-workspace-in-spring-hill/2026-08-11/
LOCATION:TN
CATEGORIES:Spring Hill
ORGANIZER;CN="Goodwill Middle Tennessee":MAILTO:training@givegw.org
END:VEVENT
BEGIN:VEVENT
DTSTART;TZID=America/Chicago:20260811T130000
DTEND;TZID=America/Chicago:20260811T153000
DTSTAMP:20260424T051851
CREATED:20250708T025524Z
LAST-MODIFIED:20260327T141801Z
UID:10028302-1786453200-1786462200@giveit2goodwill.org
SUMMARY:Intermediate OPS in Nashville
DESCRIPTION:Goodwill Career Solutions will conduct a free Intermediate Office Productivity Class on the second Tuesday of each month from 1 p.m. – 3:30 p.m. at the Nashville Career Solutions Location (Lifsey Building). Participants must pre-register by visiting www.giveit2goodwill.org/digital-literacy or calling (615) 742-4151.
URL:https://giveit2goodwill.org/calendar/intermediate-ops-in-nashville/2026-08-11/
LOCATION:TN
CATEGORIES:Nashville
END:VEVENT
BEGIN:VEVENT
DTSTART;TZID=America/Chicago:20260811T130000
DTEND;TZID=America/Chicago:20260811T153000
DTSTAMP:20260424T051851
CREATED:20260327T140031Z
LAST-MODIFIED:20260327T140031Z
UID:10027941-1786453200-1786462200@giveit2goodwill.org
SUMMARY:Intermediate Google Workspace in Spring Hill
DESCRIPTION:Goodwill Career Solutions will conduct a free Intermediate Google Workspace Class from 1:00 p.m. – 3:30 p.m. on the second Tuesday of every other month at the Spring Hill Career Solutions Location. Participants must pre-register by visiting their closest career center or calling (931) 548-3460.
URL:https://giveit2goodwill.org/calendar/intermediate-google-workspace-in-spring-hill/2026-08-11/
LOCATION:TN
CATEGORIES:Spring Hill
ORGANIZER;CN="Goodwill Middle Tennessee":MAILTO:training@givegw.org
END:VEVENT
BEGIN:VEVENT
DTSTART;TZID=America/Chicago:20260813T100000
DTEND;TZID=America/Chicago:20260813T120000
DTSTAMP:20260424T051851
CREATED:20260422T201148Z
LAST-MODIFIED:20260422T201148Z
UID:10029298-1786615200-1786622400@giveit2goodwill.org
SUMMARY:Work from Home (Virtual)
DESCRIPTION:Goodwill Career Solutions will conduct a free Virtual Work from Home Class on the second Thursday of every month from 10:00 AM – 12:00 PM. Participants must pre-register by visiting their closet Career Center or calling (615) 742-4151.
URL:https://giveit2goodwill.org/calendar/work-from-home-virtual/2026-08-13/
LOCATION:TN
CATEGORIES:Virtual
ORGANIZER;CN="Goodwill Middle Tennessee":MAILTO:training@givegw.org
END:VEVENT
END:VCALENDAR