BEGIN:VCALENDAR
VERSION:2.0
PRODID:-//Goodwill Industries of Middle Tennessee, Inc. - ECPv6.15.13//NONSGML v1.0//EN
CALSCALE:GREGORIAN
METHOD:PUBLISH
X-WR-CALNAME:Goodwill Industries of Middle Tennessee, Inc.
X-ORIGINAL-URL:https://giveit2goodwill.org
X-WR-CALDESC:Events for Goodwill Industries of Middle Tennessee, Inc.
REFRESH-INTERVAL;VALUE=DURATION:PT1H
X-Robots-Tag:noindex
X-PUBLISHED-TTL:PT1H
BEGIN:VTIMEZONE
TZID:America/Chicago
BEGIN:DAYLIGHT
TZOFFSETFROM:-0600
TZOFFSETTO:-0500
TZNAME:CDT
DTSTART:20250309T080000
END:DAYLIGHT
BEGIN:STANDARD
TZOFFSETFROM:-0500
TZOFFSETTO:-0600
TZNAME:CST
DTSTART:20251102T070000
END:STANDARD
BEGIN:DAYLIGHT
TZOFFSETFROM:-0600
TZOFFSETTO:-0500
TZNAME:CDT
DTSTART:20260308T080000
END:DAYLIGHT
BEGIN:STANDARD
TZOFFSETFROM:-0500
TZOFFSETTO:-0600
TZNAME:CST
DTSTART:20261101T070000
END:STANDARD
BEGIN:DAYLIGHT
TZOFFSETFROM:-0600
TZOFFSETTO:-0500
TZNAME:CDT
DTSTART:20270314T080000
END:DAYLIGHT
BEGIN:STANDARD
TZOFFSETFROM:-0500
TZOFFSETTO:-0600
TZNAME:CST
DTSTART:20271107T070000
END:STANDARD
END:VTIMEZONE
BEGIN:VEVENT
DTSTART;TZID=America/Chicago:20260415T090000
DTEND;TZID=America/Chicago:20260415T120000
DTSTAMP:20260423T053436
CREATED:20250916T200803Z
LAST-MODIFIED:20260327T142614Z
UID:10028358-1776243600-1776254400@giveit2goodwill.org
SUMMARY:Beginner OPS in Mt. Juliet
DESCRIPTION:Goodwill Career Solutions will conduct a free Beginner Office Productivity Class from 9 a.m. – 12 p.m. on the third Wednesday of every other month. Participants must pre-register by visiting a career center or calling (615) 288-2389.
URL:https://giveit2goodwill.org/calendar/beginner-ops-in-mt-juliet/2026-04-15/
CATEGORIES:Mt. Juliet
ORGANIZER;CN="Goodwill Middle Tennessee":MAILTO:training@givegw.org
END:VEVENT
BEGIN:VEVENT
DTSTART;TZID=America/Chicago:20260415T120000
DTEND;TZID=America/Chicago:20260415T140000
DTSTAMP:20260423T053436
CREATED:20260327T143632Z
LAST-MODIFIED:20260327T143632Z
UID:10028481-1776254400-1776261600@giveit2goodwill.org
SUMMARY:Resume Writing in Hendersonville
DESCRIPTION:Goodwill Career Solutions will conduct a free Resume Writing Class from 12 p.m. – 2 p.m. on Wednesday\, April 15th\, at the Hendersonville Career Solutions Location (Indian Lake). Participants must pre-register by visiting www.giveit2goodwill.org/digital-literacy or calling (615) 346-1810.
URL:https://giveit2goodwill.org/calendar/resume-writing-in-hendersonville/
CATEGORIES:Hendersonville
ORGANIZER;CN="Goodwill Middle Tennessee":MAILTO:training@givegw.org
END:VEVENT
BEGIN:VEVENT
DTSTART;TZID=America/Chicago:20260415T130000
DTEND;TZID=America/Chicago:20260415T153000
DTSTAMP:20260423T053436
CREATED:20251226T220931Z
LAST-MODIFIED:20260421T184616Z
UID:10028389-1776258000-1776267000@giveit2goodwill.org
SUMMARY:Intermediate OPS in Mt. Juliet
DESCRIPTION:Goodwill Career Solutions will conduct a free Intermediate Office Productivity Class from 1 p.m. – 3:30 p.m. on the third Wednesday of every other month. Participants must pre-register by visiting a career center or calling (615) 288-2389.
URL:https://giveit2goodwill.org/calendar/intermediate-ops-in-mt-juliet/2026-04-15/
LOCATION:Mt. Juliet Goodwill Career Solutions\, 1985 Providence West Parkway\, Mt. Juliet\, TN\, 37122\, United States
CATEGORIES:Mt. Juliet
ORGANIZER;CN="Goodwill Middle Tennessee":MAILTO:training@givegw.org
END:VEVENT
BEGIN:VEVENT
DTSTART;TZID=America/Chicago:20260415T133000
DTEND;TZID=America/Chicago:20260415T153000
DTSTAMP:20260423T053436
CREATED:20260407T182932Z
LAST-MODIFIED:20260409T132919Z
UID:10028951-1776259800-1776267000@giveit2goodwill.org
SUMMARY:Intermediate Digital Literacy in Crossville
DESCRIPTION:Goodwill Career Solutions will conduct a free Basic Digital Literacy Class from 1:30 p.m. – 3:30 p.m. on April 15th at the Crossville Career Solutions Location. Seating is limited and participants must pre-register by calling/texting (629) 237-3548.
URL:https://giveit2goodwill.org/calendar/intermediate-digital-literacy/
LOCATION:Crossville Career Services\, 910 Miller Avenue\, Crossville\, TN\, United States
CATEGORIES:Crossville
ORGANIZER;CN="Goodwill Middle Tennessee":MAILTO:training@givegw.org
END:VEVENT
BEGIN:VEVENT
DTSTART;TZID=America/Chicago:20260415T143000
DTEND;TZID=America/Chicago:20260415T163000
DTSTAMP:20260423T053436
CREATED:20250827T191158Z
LAST-MODIFIED:20260327T145027Z
UID:10028420-1776263400-1776270600@giveit2goodwill.org
SUMMARY:Financial Literacy (Money Matters)  in Hendersonville
DESCRIPTION:Goodwill Career Solutions will conduct a free Financial Literacy Class (Money Matters) from 2:30 – 4:30 p.m. on Wednesday\, April 15 at the Hendersonville Career Solutions Location (Indian Lake). Participants must pre-register by visiting their closest career center or calling (615) 346-1810.
URL:https://giveit2goodwill.org/calendar/basic-digital-literacy-in-hendersonville/
CATEGORIES:Hendersonville
END:VEVENT
BEGIN:VEVENT
DTSTART;TZID=America/Chicago:20260416T090000
DTEND;TZID=America/Chicago:20260416T103000
DTSTAMP:20260423T053436
CREATED:20260327T144001Z
LAST-MODIFIED:20260327T144001Z
UID:10028482-1776330000-1776335400@giveit2goodwill.org
SUMMARY:Job Fair Prep - Resume Support in Brentwood
DESCRIPTION:Goodwill Career Solutions will conduct a free Resume Support Class from 9 a.m. – 10:30a.m. on the Thursday before a Job Fair\, at the Brentwood (Mill Creek) Career Solutions Location. This session will help prepare you for Brentwood’s Job Fair\, which is held on the last Tuesday of each month. Participants must pre-register by calling (615) 953-0040.
URL:https://giveit2goodwill.org/calendar/job-fair-prep-resume-support-in-brentwood/
CATEGORIES:Brentwood
ORGANIZER;CN="Goodwill Middle Tennessee":MAILTO:training@givegw.org
END:VEVENT
BEGIN:VEVENT
DTSTART;TZID=America/Chicago:20260416T104500
DTEND;TZID=America/Chicago:20260416T121500
DTSTAMP:20260423T053436
CREATED:20260327T144220Z
LAST-MODIFIED:20260327T144220Z
UID:10028483-1776336300-1776341700@giveit2goodwill.org
SUMMARY:Job Fair Prep - Mock Interviews in Brentwood
DESCRIPTION:Goodwill Career Solutions will conduct Mock Interviews from 10:45a.m. – 12:15p.m. on the Thursday before a Job Fair\, at the Brentwood (Mill Creek) Career Solutions Location. This session will help prepare you for Brentwood’s Job Fair\, which is held on the last Tuesday of each month. Participants must pre-register by calling (615) 953-0040.
URL:https://giveit2goodwill.org/calendar/job-fair-prep-mock-interviews-in-brentwood/
CATEGORIES:Brentwood
ORGANIZER;CN="Goodwill Middle Tennessee":MAILTO:training@givegw.org
END:VEVENT
BEGIN:VEVENT
DTSTART;TZID=America/Chicago:20260416T120000
DTEND;TZID=America/Chicago:20260416T130000
DTSTAMP:20260423T053436
CREATED:20250827T134538Z
LAST-MODIFIED:20260422T195306Z
UID:10027694-1776340800-1776344400@giveit2goodwill.org
SUMMARY:Resume Writing (Virtual Training)
DESCRIPTION:Goodwill Career Solutions will conduct a free Virtual Resume Writing Class on the first Wednesday and third and fourth Thursday of every month from 11:00AM – 12:00PM. Participants must pre-register by at their closet Career Center or calling (615) 742-4151.
URL:https://giveit2goodwill.org/calendar/resume-writing-virtual-training/2026-04-16/
CATEGORIES:Nashville
END:VEVENT
BEGIN:VEVENT
DTSTART;TZID=America/Chicago:20260416T130000
DTEND;TZID=America/Chicago:20260416T150000
DTSTAMP:20260423T053436
CREATED:20250723T125037Z
LAST-MODIFIED:20260326T183341Z
UID:10025936-1776344400-1776351600@giveit2goodwill.org
SUMMARY:Money Matters (Financial Lit) in Brentwood
DESCRIPTION:Goodwill Career Solutions will conduct a free Money Matters (Financial Literacy) Class on Thursday\, April 16 from 1:00pm – 3:00pm\, at the Brentwood (Mill Creek) Career Solutions Location. Participants must pre-register by visiting the career center or calling (615) 953-0040.
URL:https://giveit2goodwill.org/calendar/money-matters-financial-lit-in-brentwood-2/
CATEGORIES:Brentwood
END:VEVENT
BEGIN:VEVENT
DTSTART;TZID=America/Chicago:20260416T130000
DTEND;TZID=America/Chicago:20260416T150000
DTSTAMP:20260423T053436
CREATED:20260327T144623Z
LAST-MODIFIED:20260327T144623Z
UID:10028484-1776344400-1776351600@giveit2goodwill.org
SUMMARY:Money Matters (Financial Lit) in Brentwood
DESCRIPTION:Goodwill Career Solutions will conduct a free Money Matters (Financial Literacy) Class on Thursday\, April 16 from 1PM – 3PM\, at the Brentwood (Mill Creek) Career Solutions Location. Participants must pre-register by visiting the career center or calling (615) 953-0040.
URL:https://giveit2goodwill.org/calendar/money-matters-financial-lit-in-brentwood/
CATEGORIES:Brentwood
ORGANIZER;CN="Goodwill Middle Tennessee":MAILTO:training@givegw.org
END:VEVENT
BEGIN:VEVENT
DTSTART;TZID=America/Chicago:20260420T090000
DTEND;TZID=America/Chicago:20260420T110000
DTSTAMP:20260423T053436
CREATED:20260326T201957Z
LAST-MODIFIED:20260327T140146Z
UID:10027661-1776675600-1776682800@giveit2goodwill.org
SUMMARY:Beginner Google Workspace in Dickson
DESCRIPTION:Goodwill Career Solutions will conduct a free Beginner Google Workspace Class from 9 a.m. – 12 p.m. on the third Monday of every other month\, at the Dickson Career Solutions Location. Participants must pre-register by visiting the career center or calling (615) 377-2566.
URL:https://giveit2goodwill.org/calendar/beginner-ops/2026-04-20/
CATEGORIES:Dickson
ORGANIZER;CN="Goodwill Middle Tennessee":MAILTO:training@givegw.org
END:VEVENT
BEGIN:VEVENT
DTSTART;TZID=America/Chicago:20260421T100000
DTEND;TZID=America/Chicago:20260421T120000
DTSTAMP:20260423T053436
CREATED:20250722T222503Z
LAST-MODIFIED:20260327T140429Z
UID:10027998-1776765600-1776772800@giveit2goodwill.org
SUMMARY:Beginner Google Workspace in Nashville
DESCRIPTION:Goodwill Career Solutions will conduct a free Beginner Google Workspace Class on the third Tuesday of every month from 10 a.m. – 12 p.m. at the Nashville Career Solutions Location (Lifsey Building). Participants must pre-register by visiting www.giveit2goodwill.org/digital-literacy or calling (615) 742-4151.
URL:https://giveit2goodwill.org/calendar/beginner-google-workspace-in-nashville-2/2026-04-21/
CATEGORIES:Nashville
END:VEVENT
BEGIN:VEVENT
DTSTART;TZID=America/Chicago:20260421T100000
DTEND;TZID=America/Chicago:20260421T120000
DTSTAMP:20260423T053436
CREATED:20260416T133504Z
LAST-MODIFIED:20260416T133504Z
UID:10028959-1776765600-1776772800@giveit2goodwill.org
SUMMARY:Job Fair in Mt. Juliet
DESCRIPTION:Goodwill will host a Job Fair for 9 plus employers\, which are seeking to fill numerous positions\, from 10:00 a.m. – 12:00 p.m. on Tuesday\, April 21\, 2026\, at the Goodwill Career Solutions Center at 1985 Providence Parkway in Mt. Juliet. \nEmployers include:\nWalmart Fulfillment Center\nDollar General\nInter-Con\nAbacus\nKroger\nWilson County Schools\nFifth-Third Bank\nContemporary Services Corp.\nGoodwill and more! \nOpenings Include:\nStore Managers\, Cashiers\, Stockers\, Security\, Computer & Electronic Technicians\, Translators\, Educational Assistants\, Bus Drivers\, Food Service\, Cashiers\, Customer Service\, Grocery Departments E-Commerce\, Event Staff Manufacturing & Warehouse – Forklift & Equipment Operators\, Assembly\, Pickers Packers\, and more.
URL:https://giveit2goodwill.org/calendar/job-fair-in-mt-juliet/
LOCATION:Mt. Juliet Goodwill Career Solutions\, 1985 Providence West Parkway\, Mt. Juliet\, TN\, 37122\, United States
CATEGORIES:Mt. Juliet
ORGANIZER;CN="Goodwill Middle Tennessee":MAILTO:training@givegw.org
END:VEVENT
BEGIN:VEVENT
DTSTART;TZID=America/Chicago:20260421T130000
DTEND;TZID=America/Chicago:20260421T153000
DTSTAMP:20260423T053436
CREATED:20250722T222705Z
LAST-MODIFIED:20260327T141207Z
UID:10028118-1776776400-1776785400@giveit2goodwill.org
SUMMARY:Intermediate Google Workspace in Nashville
DESCRIPTION:Goodwill Career Solutions will conduct a free Intermediate Google Workspace Class on the third Tuesday of every month from 1 p.m. – 3:30 p.m. at the Nashville Career Solutions Location (Lifsey Building). Participants must pre-register by visiting www.giveit2goodwill.org/digital-literacy or calling (615) 742-4151.
URL:https://giveit2goodwill.org/calendar/intermediate-google-workspace-in-nashville-2/2026-04-21/
CATEGORIES:Nashville
END:VEVENT
BEGIN:VEVENT
DTSTART;TZID=America/Chicago:20260422T090000
DTEND;TZID=America/Chicago:20260422T110000
DTSTAMP:20260423T053436
CREATED:20260327T150810Z
LAST-MODIFIED:20260422T204430Z
UID:10028577-1776848400-1776855600@giveit2goodwill.org
SUMMARY:Beginner Google Workspace in Murfreesboro
DESCRIPTION:Goodwill Career Solutions will conduct a free Beginner Google Workspace Class from 9 a.m. – 11 a.m. on Wednesday\, May 27\, at the Murfreesboro Career Solutions Location. Participants must pre-register by visiting the closest career center or calling (615) 346-1818.
URL:https://giveit2goodwill.org/calendar/beginner-google-workspace-in-murfreesboro/2026-04-22/
CATEGORIES:Murfreesboro
ORGANIZER;CN="Goodwill Middle Tennessee":MAILTO:training@givegw.org
END:VEVENT
BEGIN:VEVENT
DTSTART;TZID=America/Chicago:20260423T110000
DTEND;TZID=America/Chicago:20260423T120000
DTSTAMP:20260423T053436
CREATED:20260327T150552Z
LAST-MODIFIED:20260422T205433Z
UID:10029775-1776942000-1776945600@giveit2goodwill.org
SUMMARY:Resume Writing (Virtual)
DESCRIPTION:Goodwill Career Solutions will conduct a free Virtual Resume Writing Class on the first Wednesday and third and fourth Thursday of every month from 11:00PM – 12:00PM. Participants must pre-register by at their closet Career Center or calling (615) 742-4151.
URL:https://giveit2goodwill.org/calendar/resume-writing-virtual/2026-04-23/
CATEGORIES:Nashville
ORGANIZER;CN="Goodwill Middle Tennessee":MAILTO:training@givegw.org
END:VEVENT
BEGIN:VEVENT
DTSTART;TZID=America/Chicago:20260427T100000
DTEND;TZID=America/Chicago:20260427T120000
DTSTAMP:20260423T053436
CREATED:20260407T183615Z
LAST-MODIFIED:20260409T133115Z
UID:10028952-1777284000-1777291200@giveit2goodwill.org
SUMMARY:Resume Training in Crossville
DESCRIPTION:Goodwill Career Solutions will conduct a Resume Writing Class from 10:00 A.M. – 12:00PM. Seating is limited and participants must pre-register by calling/texting (629) 237-3548.
URL:https://giveit2goodwill.org/calendar/resume-training/
LOCATION:Crossville Career Services\, 910 Miller Avenue\, Crossville\, TN\, United States
CATEGORIES:Crossville
ORGANIZER;CN="Goodwill Middle Tennessee":MAILTO:training@givegw.org
END:VEVENT
BEGIN:VEVENT
DTSTART;TZID=America/Chicago:20260428T090000
DTEND;TZID=America/Chicago:20260428T120000
DTSTAMP:20260423T053436
CREATED:20250827T144456Z
LAST-MODIFIED:20260327T150218Z
UID:10028486-1777366800-1777377600@giveit2goodwill.org
SUMMARY:Beginner OPS in Hendersonville
DESCRIPTION:Goodwill Career Solutions will conduct a free Beginner Office Productivity Class from 9 a.m. – 12 p.m. on the fourth Tuesday of every other month\, at the Hendersonville Career Solutions Location (Indian Lake). Participants must pre-register by visiting their closest career center or calling (615) 346-1810.
URL:https://giveit2goodwill.org/calendar/beginner-ops-in-hendersonville-3/2026-04-28/
CATEGORIES:Hendersonville
END:VEVENT
BEGIN:VEVENT
DTSTART;TZID=America/Chicago:20260428T130000
DTEND;TZID=America/Chicago:20260428T153000
DTSTAMP:20260423T053436
CREATED:20260327T150403Z
LAST-MODIFIED:20260327T150403Z
UID:10028516-1777381200-1777390200@giveit2goodwill.org
SUMMARY:Intermediate OPS in Hendersonville
DESCRIPTION:Goodwill Career Solutions will conduct a free Intermediate Office Productivity Class from 1 p.m. – 3:30 p.m. on the fourth Tuesday of every other month\, at the Hendersonville Career Solutions Location (Indian Lake). Participants must pre-register by visiting their closest career center or calling (615) 346-1810.
URL:https://giveit2goodwill.org/calendar/intermediate-ops-in-hendersonville/
CATEGORIES:Hendersonville
ORGANIZER;CN="Goodwill Middle Tennessee":MAILTO:training@givegw.org
END:VEVENT
BEGIN:VEVENT
DTSTART;TZID=America/Chicago:20260429T100000
DTEND;TZID=America/Chicago:20260429T120000
DTSTAMP:20260423T053436
CREATED:20260327T151404Z
LAST-MODIFIED:20260327T151404Z
UID:10028757-1777456800-1777464000@giveit2goodwill.org
SUMMARY:Money Matters (Financial Lit) in Nashville
DESCRIPTION:Goodwill Career Solutions will conduct a free Money Matters (Financial Literacy) Class on the last Wednesday of each month from 10AM – 12PM at the Nashville Career Solutions Location (Lifsey Building). Participants must pre-register by visiting www.giveit2goodwill.org/digital-literacy or calling (615) 742-4151.
URL:https://giveit2goodwill.org/calendar/money-matters-financial-lit-in-nashville/
CATEGORIES:Nashville
ORGANIZER;CN="Goodwill Middle Tennessee":MAILTO:training@givegw.org
END:VEVENT
BEGIN:VEVENT
DTSTART;TZID=America/Chicago:20260504T090000
DTEND;TZID=America/Chicago:20260504T110000
DTSTAMP:20260423T053436
CREATED:20260417T180132Z
LAST-MODIFIED:20260417T180444Z
UID:10028961-1777885200-1777892400@giveit2goodwill.org
SUMMARY:Basic Digital Literacy Class in Tiny Town
DESCRIPTION:Goodwill Career Solutions will conduct a free Basic Digital Literacy Class on the first Monday of every month\, from 9p.m. – 11 a.m. at the Clarksville (Tiny Town) Career Solutions Location. Participants must pre-register by visiting the career center or calling (931) 241-4730
URL:https://giveit2goodwill.org/calendar/basic-digital-literacy-class-in-tiny-town/
LOCATION:Clarksville Goodwill Career Solutions\, 2001 Needmore Road\, Clarksville\, Tennessee\, 37042
CATEGORIES:Clarksville
ORGANIZER;CN="Goodwill Middle Tennessee":MAILTO:training@givegw.org
END:VEVENT
BEGIN:VEVENT
DTSTART;TZID=America/Chicago:20260504T120000
DTEND;TZID=America/Chicago:20260504T140000
DTSTAMP:20260423T053436
CREATED:20260417T180932Z
LAST-MODIFIED:20260417T180932Z
UID:10028962-1777896000-1777903200@giveit2goodwill.org
SUMMARY:Resume Writing Class in Tiny Town
DESCRIPTION:Goodwill Career Solutions will conduct a free Resume Writing Class from 12 p.m. – 2 p.m. on Monday\, May 4th\, at the Clarksville (Tiny Town) Career Solutions Location. Participants must pre-register by visiting www.giveit2goodwill.org/digital-literacy or calling (931) 241-4730.
URL:https://giveit2goodwill.org/calendar/resume-writing-class-in-tiny-town/
LOCATION:Clarksville Goodwill Career Solutions\, 2001 Needmore Road\, Clarksville\, Tennessee\, 37042
CATEGORIES:Clarksville
ORGANIZER;CN="Goodwill Middle Tennessee":MAILTO:training@givegw.org
END:VEVENT
BEGIN:VEVENT
DTSTART;TZID=America/Chicago:20260504T141500
DTEND;TZID=America/Chicago:20260504T161500
DTSTAMP:20260423T053436
CREATED:20260417T181145Z
LAST-MODIFIED:20260417T181145Z
UID:10028963-1777904100-1777911300@giveit2goodwill.org
SUMMARY:Money Matters Class in Tiny Town
DESCRIPTION:Goodwill Career Solutions will conduct a free Money Matters (Financial Literacy) Class from 2:15 p.m. – 4:15 p.m. on Monday\, May 4th\, at the Clarksville (Tiny Town) Career Solutions Location. Participants must pre-register by visiting www.giveit2goodwill.org/digital-literacy or calling (931) 241-4730.
URL:https://giveit2goodwill.org/calendar/money-matters-class-in-tiny-town/
LOCATION:Clarksville Goodwill Career Solutions\, 2001 Needmore Road\, Clarksville\, Tennessee\, 37042
CATEGORIES:Clarksville
ORGANIZER;CN="Goodwill Middle Tennessee":MAILTO:training@givegw.org
END:VEVENT
BEGIN:VEVENT
DTSTART;TZID=America/Chicago:20260506T090000
DTEND;TZID=America/Chicago:20260506T123000
DTSTAMP:20260423T053436
CREATED:20260417T195024Z
LAST-MODIFIED:20260417T195024Z
UID:10028966-1778058000-1778070600@giveit2goodwill.org
SUMMARY:Resume & Job Fair Prep: Mock Interviews in Spring Hill
DESCRIPTION:Goodwill Career Solutions will conduct a free Resume Support Class from 9 a.m. – 11a.m. (Resume Writing) and 11:30 am – 12:30 pm on May 6th at the Spring Hill Career Solutions Location. Participants must pre-register by calling (931) 548-3460.
URL:https://giveit2goodwill.org/calendar/resume-job-fair-prep-mock-interviews-in-spring-hill/
LOCATION:Spring Hill Goodwill Career Solutions\, 1008 Nasdaq St.\, Spring Hill\, TN\, 37174
CATEGORIES:Spring Hill
ORGANIZER;CN="Goodwill Middle Tennessee":MAILTO:training@givegw.org
END:VEVENT
BEGIN:VEVENT
DTSTART;TZID=America/Chicago:20260506T110000
DTEND;TZID=America/Chicago:20260506T120000
DTSTAMP:20260423T053436
CREATED:20250827T134538Z
LAST-MODIFIED:20260422T195306Z
UID:10029175-1778065200-1778068800@giveit2goodwill.org
SUMMARY:Resume Writing (Virtual Training)
DESCRIPTION:Goodwill Career Solutions will conduct a free Virtual Resume Writing Class on the first Wednesday and third and fourth Thursday of every month from 11:00AM – 12:00PM. Participants must pre-register by at their closet Career Center or calling (615) 742-4151.
URL:https://giveit2goodwill.org/calendar/resume-writing-virtual-training/2026-05-06/
CATEGORIES:Nashville
END:VEVENT
BEGIN:VEVENT
DTSTART;TZID=America/Chicago:20260506T130000
DTEND;TZID=America/Chicago:20260506T140000
DTSTAMP:20260423T053436
CREATED:20260327T125250Z
LAST-MODIFIED:20260422T154141Z
UID:10028995-1778072400-1778076000@giveit2goodwill.org
SUMMARY:Interviewing for Work (Virtual)
DESCRIPTION:Goodwill Career Solutions will conduct a free Virtual Interviewing for Work Class on the first Wednesday\, third Thursday\, and last Thursday of every month from 1:00 PM – 2:00 PM. Participants must pre-register by visiting their closet Career Center or calling (615) 742-4151.
URL:https://giveit2goodwill.org/calendar/interviewing-for-work-virtual/2026-05-06/
CATEGORIES:Nashville
ORGANIZER;CN="Goodwill Middle Tennessee":MAILTO:training@givegw.org
END:VEVENT
BEGIN:VEVENT
DTSTART;TZID=America/Chicago:20260506T140000
DTEND;TZID=America/Chicago:20260506T160000
DTSTAMP:20260423T053436
CREATED:20260417T195639Z
LAST-MODIFIED:20260417T195639Z
UID:10028967-1778076000-1778083200@giveit2goodwill.org
SUMMARY:Basic Digital Literacy Class in Murfreesboro
DESCRIPTION:Goodwill Career Solutions will conduct a free Basic Digital Literacy Class from 2:00pm – 4:00pm on the first Wednesday of every other month\, at the Murfreesboro Career Solutions Location. Participants must pre-register by visiting www.giveit2goodwill.org/digital-literacy or calling (615) 346-1818.
URL:https://giveit2goodwill.org/calendar/basic-digital-literacy-class-in-murfreesboro/
LOCATION:Murfreesboro Goodwill Career Solutions\, 2955 S. Church St.\, Murfreesboro\, TN\, 37127\, United States
CATEGORIES:Murfreesboro
ORGANIZER;CN="Goodwill Middle Tennessee":MAILTO:training@givegw.org
END:VEVENT
BEGIN:VEVENT
DTSTART;TZID=America/Chicago:20260507T130000
DTEND;TZID=America/Chicago:20260507T150000
DTSTAMP:20260423T053436
CREATED:20260417T195947Z
LAST-MODIFIED:20260417T195947Z
UID:10028968-1778158800-1778166000@giveit2goodwill.org
SUMMARY:Resume Writing Class in Nashville
DESCRIPTION:Goodwill Career Solutions will conduct a free Resume Writing Class every other Thursday from 1p.m. – 3p.m. at the Nashville Career Solutions Location (Lifsey Building). Participants must pre-register by visiting the career center or calling (615) 742-4151.
URL:https://giveit2goodwill.org/calendar/resume-writing-class-in-nashville/
LOCATION:Career Solutions – Nashville\, 937 Herman Street\, Nashville\, 37208\, United States
CATEGORIES:Nashville
ORGANIZER;CN="Goodwill Middle Tennessee":MAILTO:training@givegw.org
END:VEVENT
BEGIN:VEVENT
DTSTART;TZID=America/Chicago:20260511T080000
DTEND;TZID=America/Chicago:20260511T170000
DTSTAMP:20260423T053436
CREATED:20260330T152837Z
LAST-MODIFIED:20260413T155857Z
UID:10028940-1778486400-1778518800@giveit2goodwill.org
SUMMARY:Construction Training Begins – Jackson
DESCRIPTION:Goodwill Career Solutions will conduct a free\, four-week Construction and Weatherization Training Program from 8:00 am – 5:00 pm four days per week at its facility at 1320 S. Highland Avenue in Jackson.    \nParticipants attend classes five days per week for four weeks at one of our Goodwill facilities in West Nashville or South Jackson. Three hours of each day are spent in the classroom\, and three are spent in the workshop. The course covers safety\, construction math\, hand and power tools\, blueprints\, rigging\, weatherization\, communication\, forklift operation\, employability skills and more. Graduates receive an OSHA 10 safety certification. \nWhat You’ll Learn:\nConstruction safety\nHands-on use of hand and power tools\nReading blueprints\nBasic rigging\nConstruction math\nEmployability skills and more \nWhat You’ll Receive:\nStudents receive a stipend of $100 per week while in the program\nOSHA 10 certification\nJob placement services upon completion\nParticipants must register as a Goodwill Client and be on a free service plan with a Career Coach.
URL:https://giveit2goodwill.org/calendar/construction-training-begins-jackson/2026-05-11/
LOCATION:Career Solutions-Jackson\, 1320 South Highland\, Jackson\, Tennessee\, 35301
ORGANIZER;CN="Goodwill Middle Tennessee":MAILTO:training@givegw.org
END:VEVENT
BEGIN:VEVENT
DTSTART;TZID=America/Chicago:20260511T090000
DTEND;TZID=America/Chicago:20260511T110000
DTSTAMP:20260423T053436
CREATED:20260417T200705Z
LAST-MODIFIED:20260417T200705Z
UID:10028969-1778490000-1778497200@giveit2goodwill.org
SUMMARY:Basic Digital Literacy Class in Dickson
DESCRIPTION:Goodwill Career Solutions will conduct a free Basic Digital Literacy Class from 9 a.m. – 11 a.m. on Monday\, May 11th\, at the Dickson Career Solutions Location. Participants must pre-register by visiting www.giveit2goodwill.org/digital-literacy or calling (615) 377-2566.
URL:https://giveit2goodwill.org/calendar/basic-digital-literacy-class-in-dickson/
LOCATION:Dickson Goodwill Career Solutions\, 543 TN-46\, Dickson\, Tennessee\, 37055
CATEGORIES:Dickson
ORGANIZER;CN="Goodwill Middle Tennessee":MAILTO:training@givegw.org
END:VEVENT
END:VCALENDAR