BEGIN:VCALENDAR
VERSION:2.0
PRODID:-//Goodwill Industries of Middle Tennessee, Inc. - ECPv6.15.13//NONSGML v1.0//EN
CALSCALE:GREGORIAN
METHOD:PUBLISH
X-WR-CALNAME:Goodwill Industries of Middle Tennessee, Inc.
X-ORIGINAL-URL:https://giveit2goodwill.org
X-WR-CALDESC:Events for Goodwill Industries of Middle Tennessee, Inc.
REFRESH-INTERVAL;VALUE=DURATION:PT1H
X-Robots-Tag:noindex
X-PUBLISHED-TTL:PT1H
BEGIN:VTIMEZONE
TZID:America/Chicago
BEGIN:DAYLIGHT
TZOFFSETFROM:-0600
TZOFFSETTO:-0500
TZNAME:CDT
DTSTART:20250309T080000
END:DAYLIGHT
BEGIN:STANDARD
TZOFFSETFROM:-0500
TZOFFSETTO:-0600
TZNAME:CST
DTSTART:20251102T070000
END:STANDARD
BEGIN:DAYLIGHT
TZOFFSETFROM:-0600
TZOFFSETTO:-0500
TZNAME:CDT
DTSTART:20260308T080000
END:DAYLIGHT
BEGIN:STANDARD
TZOFFSETFROM:-0500
TZOFFSETTO:-0600
TZNAME:CST
DTSTART:20261101T070000
END:STANDARD
BEGIN:DAYLIGHT
TZOFFSETFROM:-0600
TZOFFSETTO:-0500
TZNAME:CDT
DTSTART:20270314T080000
END:DAYLIGHT
BEGIN:STANDARD
TZOFFSETFROM:-0500
TZOFFSETTO:-0600
TZNAME:CST
DTSTART:20271107T070000
END:STANDARD
END:VTIMEZONE
BEGIN:VEVENT
DTSTART;TZID=America/Chicago:20260504T090000
DTEND;TZID=America/Chicago:20260504T110000
DTSTAMP:20260423T053507
CREATED:20260417T180132Z
LAST-MODIFIED:20260417T180444Z
UID:10028961-1777885200-1777892400@giveit2goodwill.org
SUMMARY:Basic Digital Literacy Class in Tiny Town
DESCRIPTION:Goodwill Career Solutions will conduct a free Basic Digital Literacy Class on the first Monday of every month\, from 9p.m. – 11 a.m. at the Clarksville (Tiny Town) Career Solutions Location. Participants must pre-register by visiting the career center or calling (931) 241-4730
URL:https://giveit2goodwill.org/calendar/basic-digital-literacy-class-in-tiny-town/
LOCATION:Clarksville Goodwill Career Solutions\, 2001 Needmore Road\, Clarksville\, Tennessee\, 37042
CATEGORIES:Clarksville
ORGANIZER;CN="Goodwill Middle Tennessee":MAILTO:training@givegw.org
END:VEVENT
BEGIN:VEVENT
DTSTART;TZID=America/Chicago:20260504T120000
DTEND;TZID=America/Chicago:20260504T140000
DTSTAMP:20260423T053507
CREATED:20260417T180932Z
LAST-MODIFIED:20260417T180932Z
UID:10028962-1777896000-1777903200@giveit2goodwill.org
SUMMARY:Resume Writing Class in Tiny Town
DESCRIPTION:Goodwill Career Solutions will conduct a free Resume Writing Class from 12 p.m. – 2 p.m. on Monday\, May 4th\, at the Clarksville (Tiny Town) Career Solutions Location. Participants must pre-register by visiting www.giveit2goodwill.org/digital-literacy or calling (931) 241-4730.
URL:https://giveit2goodwill.org/calendar/resume-writing-class-in-tiny-town/
LOCATION:Clarksville Goodwill Career Solutions\, 2001 Needmore Road\, Clarksville\, Tennessee\, 37042
CATEGORIES:Clarksville
ORGANIZER;CN="Goodwill Middle Tennessee":MAILTO:training@givegw.org
END:VEVENT
BEGIN:VEVENT
DTSTART;TZID=America/Chicago:20260504T141500
DTEND;TZID=America/Chicago:20260504T161500
DTSTAMP:20260423T053507
CREATED:20260417T181145Z
LAST-MODIFIED:20260417T181145Z
UID:10028963-1777904100-1777911300@giveit2goodwill.org
SUMMARY:Money Matters Class in Tiny Town
DESCRIPTION:Goodwill Career Solutions will conduct a free Money Matters (Financial Literacy) Class from 2:15 p.m. – 4:15 p.m. on Monday\, May 4th\, at the Clarksville (Tiny Town) Career Solutions Location. Participants must pre-register by visiting www.giveit2goodwill.org/digital-literacy or calling (931) 241-4730.
URL:https://giveit2goodwill.org/calendar/money-matters-class-in-tiny-town/
LOCATION:Clarksville Goodwill Career Solutions\, 2001 Needmore Road\, Clarksville\, Tennessee\, 37042
CATEGORIES:Clarksville
ORGANIZER;CN="Goodwill Middle Tennessee":MAILTO:training@givegw.org
END:VEVENT
BEGIN:VEVENT
DTSTART;TZID=America/Chicago:20260506T090000
DTEND;TZID=America/Chicago:20260506T123000
DTSTAMP:20260423T053507
CREATED:20260417T195024Z
LAST-MODIFIED:20260417T195024Z
UID:10028966-1778058000-1778070600@giveit2goodwill.org
SUMMARY:Resume & Job Fair Prep: Mock Interviews in Spring Hill
DESCRIPTION:Goodwill Career Solutions will conduct a free Resume Support Class from 9 a.m. – 11a.m. (Resume Writing) and 11:30 am – 12:30 pm on May 6th at the Spring Hill Career Solutions Location. Participants must pre-register by calling (931) 548-3460.
URL:https://giveit2goodwill.org/calendar/resume-job-fair-prep-mock-interviews-in-spring-hill/
LOCATION:Spring Hill Goodwill Career Solutions\, 1008 Nasdaq St.\, Spring Hill\, TN\, 37174
CATEGORIES:Spring Hill
ORGANIZER;CN="Goodwill Middle Tennessee":MAILTO:training@givegw.org
END:VEVENT
BEGIN:VEVENT
DTSTART;TZID=America/Chicago:20260506T110000
DTEND;TZID=America/Chicago:20260506T120000
DTSTAMP:20260423T053507
CREATED:20250827T134538Z
LAST-MODIFIED:20260422T195306Z
UID:10029175-1778065200-1778068800@giveit2goodwill.org
SUMMARY:Resume Writing (Virtual Training)
DESCRIPTION:Goodwill Career Solutions will conduct a free Virtual Resume Writing Class on the first Wednesday and third and fourth Thursday of every month from 11:00AM – 12:00PM. Participants must pre-register by at their closet Career Center or calling (615) 742-4151.
URL:https://giveit2goodwill.org/calendar/resume-writing-virtual-training/2026-05-06/
CATEGORIES:Nashville
END:VEVENT
BEGIN:VEVENT
DTSTART;TZID=America/Chicago:20260506T130000
DTEND;TZID=America/Chicago:20260506T140000
DTSTAMP:20260423T053507
CREATED:20260327T125250Z
LAST-MODIFIED:20260422T154141Z
UID:10028995-1778072400-1778076000@giveit2goodwill.org
SUMMARY:Interviewing for Work (Virtual)
DESCRIPTION:Goodwill Career Solutions will conduct a free Virtual Interviewing for Work Class on the first Wednesday\, third Thursday\, and last Thursday of every month from 1:00 PM – 2:00 PM. Participants must pre-register by visiting their closet Career Center or calling (615) 742-4151.
URL:https://giveit2goodwill.org/calendar/interviewing-for-work-virtual/2026-05-06/
CATEGORIES:Nashville
ORGANIZER;CN="Goodwill Middle Tennessee":MAILTO:training@givegw.org
END:VEVENT
BEGIN:VEVENT
DTSTART;TZID=America/Chicago:20260506T140000
DTEND;TZID=America/Chicago:20260506T160000
DTSTAMP:20260423T053507
CREATED:20260417T195639Z
LAST-MODIFIED:20260417T195639Z
UID:10028967-1778076000-1778083200@giveit2goodwill.org
SUMMARY:Basic Digital Literacy Class in Murfreesboro
DESCRIPTION:Goodwill Career Solutions will conduct a free Basic Digital Literacy Class from 2:00pm – 4:00pm on the first Wednesday of every other month\, at the Murfreesboro Career Solutions Location. Participants must pre-register by visiting www.giveit2goodwill.org/digital-literacy or calling (615) 346-1818.
URL:https://giveit2goodwill.org/calendar/basic-digital-literacy-class-in-murfreesboro/
LOCATION:Murfreesboro Goodwill Career Solutions\, 2955 S. Church St.\, Murfreesboro\, TN\, 37127\, United States
CATEGORIES:Murfreesboro
ORGANIZER;CN="Goodwill Middle Tennessee":MAILTO:training@givegw.org
END:VEVENT
BEGIN:VEVENT
DTSTART;TZID=America/Chicago:20260507T130000
DTEND;TZID=America/Chicago:20260507T150000
DTSTAMP:20260423T053507
CREATED:20260417T195947Z
LAST-MODIFIED:20260417T195947Z
UID:10028968-1778158800-1778166000@giveit2goodwill.org
SUMMARY:Resume Writing Class in Nashville
DESCRIPTION:Goodwill Career Solutions will conduct a free Resume Writing Class every other Thursday from 1p.m. – 3p.m. at the Nashville Career Solutions Location (Lifsey Building). Participants must pre-register by visiting the career center or calling (615) 742-4151.
URL:https://giveit2goodwill.org/calendar/resume-writing-class-in-nashville/
LOCATION:Career Solutions – Nashville\, 937 Herman Street\, Nashville\, 37208\, United States
CATEGORIES:Nashville
ORGANIZER;CN="Goodwill Middle Tennessee":MAILTO:training@givegw.org
END:VEVENT
BEGIN:VEVENT
DTSTART;TZID=America/Chicago:20260511T080000
DTEND;TZID=America/Chicago:20260511T170000
DTSTAMP:20260423T053507
CREATED:20260330T152837Z
LAST-MODIFIED:20260413T155857Z
UID:10028940-1778486400-1778518800@giveit2goodwill.org
SUMMARY:Construction Training Begins – Jackson
DESCRIPTION:Goodwill Career Solutions will conduct a free\, four-week Construction and Weatherization Training Program from 8:00 am – 5:00 pm four days per week at its facility at 1320 S. Highland Avenue in Jackson.    \nParticipants attend classes five days per week for four weeks at one of our Goodwill facilities in West Nashville or South Jackson. Three hours of each day are spent in the classroom\, and three are spent in the workshop. The course covers safety\, construction math\, hand and power tools\, blueprints\, rigging\, weatherization\, communication\, forklift operation\, employability skills and more. Graduates receive an OSHA 10 safety certification. \nWhat You’ll Learn:\nConstruction safety\nHands-on use of hand and power tools\nReading blueprints\nBasic rigging\nConstruction math\nEmployability skills and more \nWhat You’ll Receive:\nStudents receive a stipend of $100 per week while in the program\nOSHA 10 certification\nJob placement services upon completion\nParticipants must register as a Goodwill Client and be on a free service plan with a Career Coach.
URL:https://giveit2goodwill.org/calendar/construction-training-begins-jackson/2026-05-11/
LOCATION:Career Solutions-Jackson\, 1320 South Highland\, Jackson\, Tennessee\, 35301
ORGANIZER;CN="Goodwill Middle Tennessee":MAILTO:training@givegw.org
END:VEVENT
BEGIN:VEVENT
DTSTART;TZID=America/Chicago:20260511T090000
DTEND;TZID=America/Chicago:20260511T110000
DTSTAMP:20260423T053507
CREATED:20260417T200705Z
LAST-MODIFIED:20260417T200705Z
UID:10028969-1778490000-1778497200@giveit2goodwill.org
SUMMARY:Basic Digital Literacy Class in Dickson
DESCRIPTION:Goodwill Career Solutions will conduct a free Basic Digital Literacy Class from 9 a.m. – 11 a.m. on Monday\, May 11th\, at the Dickson Career Solutions Location. Participants must pre-register by visiting www.giveit2goodwill.org/digital-literacy or calling (615) 377-2566.
URL:https://giveit2goodwill.org/calendar/basic-digital-literacy-class-in-dickson/
LOCATION:Dickson Goodwill Career Solutions\, 543 TN-46\, Dickson\, Tennessee\, 37055
CATEGORIES:Dickson
ORGANIZER;CN="Goodwill Middle Tennessee":MAILTO:training@givegw.org
END:VEVENT
BEGIN:VEVENT
DTSTART;TZID=America/Chicago:20260511T120000
DTEND;TZID=America/Chicago:20260511T140000
DTSTAMP:20260423T053507
CREATED:20260417T202202Z
LAST-MODIFIED:20260417T202202Z
UID:10028970-1778500800-1778508000@giveit2goodwill.org
SUMMARY:Beginner Google Workspace Class in Dickson
DESCRIPTION:Goodwill Career Solutions will conduct a free Beginner Office Productivity Class from 12 p.m. – 2 p.m. on Monday\, May 11th\, at the Dickson Career Solutions Location. Participants must pre-register by visiting www.giveit2goodwill.org/digital-literacy or calling (615) 377-2566.
URL:https://giveit2goodwill.org/calendar/beginner-google-workspace-class-in-dickson/
LOCATION:Dickson Goodwill Career Solutions\, 543 TN-46\, Dickson\, Tennessee\, 37055
CATEGORIES:Dickson
ORGANIZER;CN="Goodwill Middle Tennessee":MAILTO:training@givegw.org
END:VEVENT
BEGIN:VEVENT
DTSTART;TZID=America/Chicago:20260511T141500
DTEND;TZID=America/Chicago:20260511T161500
DTSTAMP:20260423T053507
CREATED:20260417T202422Z
LAST-MODIFIED:20260417T202422Z
UID:10028971-1778508900-1778516100@giveit2goodwill.org
SUMMARY:Intermediate Google Workspace Class in Dickson
DESCRIPTION:Goodwill Career Solutions will conduct a free Intermediate Office Productivity Class from 2:15 p.m. – 4:15 p.m. on Monday\, May 11th\, at the Dickson Career Solutions Location. Participants must pre-register by visiting www.giveit2goodwill.org/digital-literacy or calling (615) 377-2566.
URL:https://giveit2goodwill.org/calendar/intermediate-google-workspace-class-in-dickson/
LOCATION:Dickson Goodwill Career Solutions\, 543 TN-46\, Dickson\, Tennessee\, 37055
CATEGORIES:Dickson
ORGANIZER;CN="Goodwill Middle Tennessee":MAILTO:training@givegw.org
END:VEVENT
BEGIN:VEVENT
DTSTART;TZID=America/Chicago:20260512T090000
DTEND;TZID=America/Chicago:20260512T103000
DTSTAMP:20260423T053507
CREATED:20260420T195422Z
LAST-MODIFIED:20260420T195625Z
UID:10028975-1778576400-1778581800@giveit2goodwill.org
SUMMARY:Resume Support in Mt. Juliet
DESCRIPTION:Goodwill Career Solutions will conduct a free Resume Support Class from 9 a.m. – 10:30a.m. on the second Tuesday of every month\, at the Mt. Juliet Career Solutions Location. Participants must pre-register by visiting their closest career center or calling (615) 288-2389.
URL:https://giveit2goodwill.org/calendar/resume-writing-in-mt-juliet-2/
LOCATION:Mt. Juliet Goodwill Career Solutions\, 1985 Providence West Parkway\, Mt. Juliet\, TN\, 37122\, United States
CATEGORIES:Mt. Juliet
ORGANIZER;CN="Goodwill Middle Tennessee":MAILTO:training@givegw.org
END:VEVENT
BEGIN:VEVENT
DTSTART;TZID=America/Chicago:20260512T100000
DTEND;TZID=America/Chicago:20260512T130000
DTSTAMP:20260423T053507
CREATED:20260420T201435Z
LAST-MODIFIED:20260420T201435Z
UID:10028978-1778580000-1778590800@giveit2goodwill.org
SUMMARY:Beginner OPS in Nashville
DESCRIPTION:Goodwill Career Solutions will conduct a free Beginner Office Productivity Class from 10 a.m. – 1:00 p.m. on Tuesday\, May 12th\, at the Lifsey Career Solutions Location. Participants must pre-register by visiting their closest career center or calling (615) 742-4151.
URL:https://giveit2goodwill.org/calendar/beginner-ops-in-nashville/
LOCATION:Career Solutions – Nashville\, 937 Herman Street\, Nashville\, 37208\, United States
CATEGORIES:Nashville
ORGANIZER;CN="Goodwill Middle Tennessee":MAILTO:training@givegw.org
END:VEVENT
BEGIN:VEVENT
DTSTART;TZID=America/Chicago:20260512T104500
DTEND;TZID=America/Chicago:20260512T121500
DTSTAMP:20260423T053507
CREATED:20260420T195958Z
LAST-MODIFIED:20260420T195958Z
UID:10028976-1778582700-1778588100@giveit2goodwill.org
SUMMARY:Mock Interview in Mr. Juliet
DESCRIPTION:Goodwill Career Solutions will conduct Mock Interviews from 10:45a.m. – 12:15p.m. on the second Tuesday of every month as preparation for the job fair\, at the Mt. Juliet Career Solutions Location. Participants must pre-register by visiting their closest career center or calling (615) 288-2389.
URL:https://giveit2goodwill.org/calendar/mock-interview-in-mr-juliet/
LOCATION:Mt. Juliet Goodwill Career Solutions\, 1985 Providence West Parkway\, Mt. Juliet\, TN\, 37122\, United States
CATEGORIES:Mt. Juliet
ORGANIZER;CN="Goodwill Middle Tennessee":MAILTO:training@givegw.org
END:VEVENT
BEGIN:VEVENT
DTSTART;TZID=America/Chicago:20260512T130000
DTEND;TZID=America/Chicago:20260512T153000
DTSTAMP:20260423T053507
CREATED:20250708T025524Z
LAST-MODIFIED:20260327T141801Z
UID:10028299-1778590800-1778599800@giveit2goodwill.org
SUMMARY:Intermediate OPS in Nashville
DESCRIPTION:Goodwill Career Solutions will conduct a free Intermediate Office Productivity Class on the second Tuesday of each month from 1 p.m. – 3:30 p.m. at the Nashville Career Solutions Location (Lifsey Building). Participants must pre-register by visiting www.giveit2goodwill.org/digital-literacy or calling (615) 742-4151.
URL:https://giveit2goodwill.org/calendar/intermediate-ops-in-nashville/2026-05-12/
CATEGORIES:Nashville
END:VEVENT
BEGIN:VEVENT
DTSTART;TZID=America/Chicago:20260512T140000
DTEND;TZID=America/Chicago:20260512T160000
DTSTAMP:20260423T053507
CREATED:20250827T140639Z
LAST-MODIFIED:20260422T193805Z
UID:10022809-1778594400-1778601600@giveit2goodwill.org
SUMMARY:Basic Digital Literacy in Lebanon
DESCRIPTION:Goodwill Career Solutions will conduct a free Basic Digital Literacy Class from 2:00 p.m. – 4:00 p.m. on the second Tuesday of every other month\, at the Lebanon Career Solutions Location (Indian Lake). Participants must pre-register by visiting the closet career center or calling (615) 742-4151.
URL:https://giveit2goodwill.org/calendar/money-matters-financial-lit-in-lebanon/2026-05-12/
LOCATION:Lebanon Career Solutions\, 1414 W Main St\, Lebanon\, TN\, 37087\, United States
CATEGORIES:Lebanon
END:VEVENT
BEGIN:VEVENT
DTSTART;TZID=America/Chicago:20260513T090000
DTEND;TZID=America/Chicago:20260513T110000
DTSTAMP:20260423T053507
CREATED:20260420T202900Z
LAST-MODIFIED:20260420T202900Z
UID:10028979-1778662800-1778670000@giveit2goodwill.org
SUMMARY:Beginner Google Workspace Class in Lebanon
DESCRIPTION:Goodwill Career Solutions will conduct a free Beginner Google Workspace class from 9 a.m. – 11 a.m. on the third Wednesday of every other month\, at the Lebanon Career Solutions Location. Participants must pre-register by visiting their closest career center or calling (615) 742-4151.
URL:https://giveit2goodwill.org/calendar/beginner-google-workspace-class-in-lebanon/
LOCATION:Lebanon Career Solutions\, 1414 W Main St\, Lebanon\, TN\, 37087\, United States
CATEGORIES:Lebanon
ORGANIZER;CN="Goodwill Middle Tennessee":MAILTO:training@givegw.org
END:VEVENT
BEGIN:VEVENT
DTSTART;TZID=America/Chicago:20260513T100000
DTEND;TZID=America/Chicago:20260513T123000
DTSTAMP:20260423T053507
CREATED:20260421T173301Z
LAST-MODIFIED:20260421T173301Z
UID:10028981-1778666400-1778675400@giveit2goodwill.org
SUMMARY:Intermediate OPS Class in Nashville
DESCRIPTION:Goodwill Career Solutions will conduct a free Intermediate Office Productivity Class from 10:00 a.m – 12:30 p.m. on Wednesday\, May 13th\, at the Nashville Career Solutions Location (Lifsey Building).  Participants must pre-register by visiting www.giveit2goodwill.org/digital-literacy or calling (615) 742-4151.
URL:https://giveit2goodwill.org/calendar/intermediate-ops-class-in-nashville/
LOCATION:Career Solutions – Nashville\, 937 Herman Street\, Nashville\, 37208\, United States
CATEGORIES:Nashville
ORGANIZER;CN="Goodwill Middle Tennessee":MAILTO:training@givegw.org
END:VEVENT
BEGIN:VEVENT
DTSTART;TZID=America/Chicago:20260513T120000
DTEND;TZID=America/Chicago:20260513T140000
DTSTAMP:20260423T053507
CREATED:20260420T203511Z
LAST-MODIFIED:20260420T203511Z
UID:10028980-1778673600-1778680800@giveit2goodwill.org
SUMMARY:Intermediate Google Workspace Class in Lebanon
DESCRIPTION:Goodwill Career Solutions will conduct a free Intermediate Google Workspace class from 12 p.m. – 2:00 p.m. on Wednesday\, May 13th\, at the Lebanon Career Solutions Location. Participants must pre-register by visiting their closest career center or calling (615) 742-4151.
URL:https://giveit2goodwill.org/calendar/intermediate-google-workspace-class-in-lebanon/
LOCATION:Lebanon Career Solutions\, 1414 W Main St\, Lebanon\, TN\, 37087\, United States
CATEGORIES:Lebanon
ORGANIZER;CN="Goodwill Middle Tennessee":MAILTO:training@givegw.org
END:VEVENT
BEGIN:VEVENT
DTSTART;TZID=America/Chicago:20260514T090000
DTEND;TZID=America/Chicago:20260514T110000
DTSTAMP:20260423T053507
CREATED:20260421T174437Z
LAST-MODIFIED:20260421T174437Z
UID:10028982-1778749200-1778756400@giveit2goodwill.org
SUMMARY:Basic Digital Literacy Class in Brentwood
DESCRIPTION:Goodwill Career Solutions will conduct a free Basic Digital Literacy Class on the second Thursday of every other month from 9:00a.m. – 11:00 a.m.\, at the Brentwood (Mill Creek) Career Solutions Location. Participants must pre-register by visiting the career center or calling (615) 953-0040.
URL:https://giveit2goodwill.org/calendar/basic-digital-literacy-class-in-brentwood/
LOCATION:Brentwood Goodwill Career Solutions\, 6708 Nolensville Pike\, Brentwood\, TN\, 37027\, United States
CATEGORIES:Brentwood
ORGANIZER;CN="Goodwill Middle Tennessee":MAILTO:training@givegw.org
END:VEVENT
BEGIN:VEVENT
DTSTART;TZID=America/Chicago:20260514T100000
DTEND;TZID=America/Chicago:20260514T120000
DTSTAMP:20260423T053507
CREATED:20260421T174823Z
LAST-MODIFIED:20260421T174823Z
UID:10028983-1778752800-1778760000@giveit2goodwill.org
SUMMARY:Money Matters in Nashville
DESCRIPTION:Goodwill Career Solutions will conduct a free Money Matters (Financial Literacy) Class on Thursday\, May 14th from 10:00 a.m. – 12:00 p.m. at the Nashville Career Solutions Location (Lifsey Building). Participants must pre-register by visiting www.giveit2goodwill.org/digital-literacy or calling (615) 742-4151.
URL:https://giveit2goodwill.org/calendar/money-matters-in-nashville/
LOCATION:Career Solutions – Nashville\, 937 Herman Street\, Nashville\, 37208\, United States
CATEGORIES:Nashville
ORGANIZER;CN="Goodwill Middle Tennessee":MAILTO:training@givegw.org
END:VEVENT
BEGIN:VEVENT
DTSTART;TZID=America/Chicago:20260514T100000
DTEND;TZID=America/Chicago:20260514T120000
DTSTAMP:20260423T053507
CREATED:20260422T201148Z
LAST-MODIFIED:20260422T201148Z
UID:10029295-1778752800-1778760000@giveit2goodwill.org
SUMMARY:Work from Home (Virtual)
DESCRIPTION:Goodwill Career Solutions will conduct a free Virtual Work from Home Class on the second Thursday of every month from 10:00 AM – 12:00 PM. Participants must pre-register by visiting their closet Career Center or calling (615) 742-4151.
URL:https://giveit2goodwill.org/calendar/work-from-home-virtual/2026-05-14/
CATEGORIES:Virtual
ORGANIZER;CN="Goodwill Middle Tennessee":MAILTO:training@givegw.org
END:VEVENT
BEGIN:VEVENT
DTSTART;TZID=America/Chicago:20260514T120000
DTEND;TZID=America/Chicago:20260514T140000
DTSTAMP:20260423T053507
CREATED:20260422T200749Z
LAST-MODIFIED:20260422T200749Z
UID:10029235-1778760000-1778767200@giveit2goodwill.org
SUMMARY:Money Matters in Brentwood
DESCRIPTION:Goodwill Career Solutions will conduct a free Money Matters (Financial Literacy) Class on the second Thursday of each month from 12 p.m. – 2 p.m.\, at the Brentwood (Mill Creek) Career Solutions Location. Participants must pre-register by visiting the career center or calling (615) 953-0040.
URL:https://giveit2goodwill.org/calendar/money-matters-in-brentwood/2026-05-14/
LOCATION:Mill Creek Career Solutions\, 6708 Nolensville Pike\, Brentwood\, TN\, 37027\, United States
CATEGORIES:Brentwood
ORGANIZER;CN="Goodwill Middle Tennessee":MAILTO:training@givegw.org
END:VEVENT
BEGIN:VEVENT
DTSTART;TZID=America/Chicago:20260514T130000
DTEND;TZID=America/Chicago:20260514T150000
DTSTAMP:20260423T053507
CREATED:20260422T201444Z
LAST-MODIFIED:20260422T201444Z
UID:10029355-1778763600-1778770800@giveit2goodwill.org
SUMMARY:Explore & Apply (Virtual)
DESCRIPTION:Goodwill Career Solutions will conduct a free Virtual Explore Jobs Online & Apply for Work Class on the second Thursday of every month from 1:00 PM – 3:00 PM. Participants must pre-register by visiting their closet Career Center or calling (615) 742-4151.
URL:https://giveit2goodwill.org/calendar/explore-apply-virtual/2026-05-14/
CATEGORIES:Virtual
ORGANIZER;CN="Goodwill Middle Tennessee":MAILTO:training@givegw.org
END:VEVENT
BEGIN:VEVENT
DTSTART;TZID=America/Chicago:20260518T080000
DTEND;TZID=America/Chicago:20260518T170000
DTSTAMP:20260423T053507
CREATED:20260413T180443Z
LAST-MODIFIED:20260413T180443Z
UID:10028958-1779091200-1779123600@giveit2goodwill.org
SUMMARY:Construction Training Begins – Nashville
DESCRIPTION:Goodwill Career Solutions will conduct a free\, four-week Construction and Weatherization Training Program from 8:00 am – 5:00 pm four days per week at its facility at 7237 Cockrill Bend Blvd. in Nashville. \nParticipants attend classes five days per week for four weeks at one of our Goodwill facilities in West Nashville or South Jackson. Three hours of each day are spent in the classroom\, and three are spent in the workshop. The course covers safety\, construction math\, hand and power tools\, blueprints\, rigging\, weatherization\, communication\, forklift operation\, employability skills and more. Graduates receive an OSHA 10 safety certification. \nWhat You’ll Learn:\nConstruction safety\nHands-on use of hand and power tools\nReading blueprints\nBasic rigging\nConstruction math\nEmployability skills and more \nWhat You’ll Receive:\nStudents receive a stipend of $100 per week while in the program\nOSHA 10 certification\nJob placement services upon completion\nParticipants must register as a Goodwill Client and be on a free service plan with a Career Coach.
URL:https://giveit2goodwill.org/calendar/construction-training-begins-nashville/
LOCATION:Cockrill Bend Outlet\, 7237 Cockrill Bend Blvd.\, Nashville\, TN\, 37209\, United States
CATEGORIES:Nashville
ORGANIZER;CN="Goodwill Middle Tennessee":MAILTO:training@givegw.org
END:VEVENT
BEGIN:VEVENT
DTSTART;TZID=America/Chicago:20260518T090000
DTEND;TZID=America/Chicago:20260518T120000
DTSTAMP:20260423T053507
CREATED:20260421T175606Z
LAST-MODIFIED:20260421T175606Z
UID:10028984-1779094800-1779105600@giveit2goodwill.org
SUMMARY:Beginner OPS in Murfreesboro
DESCRIPTION:Goodwill Career Solutions will conduct a free Beginner Office Productivity Class from 9 a.m. – 12 p.m. on Monday\, May 18th\, at the Murfreesboro Career Solutions Location. Participants must pre-register by visiting the closest career center or calling (615) 346-1818.
URL:https://giveit2goodwill.org/calendar/beginner-ops-in-murfreesboro-2/
LOCATION:Murfreesboro Goodwill Career Solutions\, 2955 S. Church St.\, Murfreesboro\, TN\, 37127\, United States
CATEGORIES:Murfreesboro
ORGANIZER;CN="Goodwill Middle Tennessee":MAILTO:training@givegw.org
END:VEVENT
BEGIN:VEVENT
DTSTART;TZID=America/Chicago:20260518T130000
DTEND;TZID=America/Chicago:20260518T153000
DTSTAMP:20260423T053507
CREATED:20260421T181042Z
LAST-MODIFIED:20260421T181042Z
UID:10028985-1779109200-1779118200@giveit2goodwill.org
SUMMARY:Intermediate OPS Class in Murfreesboro
DESCRIPTION:Goodwill Career Solutions will conduct a free Intermediate Office Productivity Class from 1 p.m. – 3:30 p.m. on Monday\, May 18th\, at the Murfreesboro Career Solutions Location. Participants must pre-register by visiting the closest career center or calling (615) 346-1818.
URL:https://giveit2goodwill.org/calendar/intermediate-ops-class-in-murfreesboro/
LOCATION:Murfreesboro Goodwill Career Solutions\, 2955 S. Church St.\, Murfreesboro\, TN\, 37127\, United States
CATEGORIES:Murfreesboro
ORGANIZER;CN="Goodwill Middle Tennessee":MAILTO:training@givegw.org
END:VEVENT
BEGIN:VEVENT
DTSTART;TZID=America/Chicago:20260519T090000
DTEND;TZID=America/Chicago:20260519T120000
DTSTAMP:20260423T053507
CREATED:20260422T202457Z
LAST-MODIFIED:20260422T202457Z
UID:10029475-1779181200-1779192000@giveit2goodwill.org
SUMMARY:Beginner OPS in Spring Hill
DESCRIPTION:Goodwill Career Solutions will conduct a free Beginner Office Productivity Class from 9 a.m.-noon on the fourth Tuesday of every other month\, at the Spring Hill Career Solutions Location. Participants must pre-register by visiting their closest career center or calling (931) 548-3460.
URL:https://giveit2goodwill.org/calendar/beginner-ops-in-spring-hill-2/2026-05-19/
LOCATION:Spring Hill Goodwill Career Solutions\, 1008 Nasdaq St.\, Spring Hill\, TN\, 37174
CATEGORIES:Spring Hill
ORGANIZER;CN="Goodwill Middle Tennessee":MAILTO:training@givegw.org
END:VEVENT
BEGIN:VEVENT
DTSTART;TZID=America/Chicago:20260519T100000
DTEND;TZID=America/Chicago:20260519T120000
DTSTAMP:20260423T053507
CREATED:20250722T222503Z
LAST-MODIFIED:20260327T140429Z
UID:10027999-1779184800-1779192000@giveit2goodwill.org
SUMMARY:Beginner Google Workspace in Nashville
DESCRIPTION:Goodwill Career Solutions will conduct a free Beginner Google Workspace Class on the third Tuesday of every month from 10 a.m. – 12 p.m. at the Nashville Career Solutions Location (Lifsey Building). Participants must pre-register by visiting www.giveit2goodwill.org/digital-literacy or calling (615) 742-4151.
URL:https://giveit2goodwill.org/calendar/beginner-google-workspace-in-nashville-2/2026-05-19/
CATEGORIES:Nashville
END:VEVENT
END:VCALENDAR