BEGIN:VCALENDAR
VERSION:2.0
PRODID:-//Goodwill Industries of Middle Tennessee, Inc. - ECPv6.15.13//NONSGML v1.0//EN
CALSCALE:GREGORIAN
METHOD:PUBLISH
X-WR-CALNAME:Goodwill Industries of Middle Tennessee, Inc.
X-ORIGINAL-URL:https://giveit2goodwill.org
X-WR-CALDESC:Events for Goodwill Industries of Middle Tennessee, Inc.
REFRESH-INTERVAL;VALUE=DURATION:PT1H
X-Robots-Tag:noindex
X-PUBLISHED-TTL:PT1H
BEGIN:VTIMEZONE
TZID:America/Chicago
BEGIN:DAYLIGHT
TZOFFSETFROM:-0600
TZOFFSETTO:-0500
TZNAME:CDT
DTSTART:20250309T080000
END:DAYLIGHT
BEGIN:STANDARD
TZOFFSETFROM:-0500
TZOFFSETTO:-0600
TZNAME:CST
DTSTART:20251102T070000
END:STANDARD
BEGIN:DAYLIGHT
TZOFFSETFROM:-0600
TZOFFSETTO:-0500
TZNAME:CDT
DTSTART:20260308T080000
END:DAYLIGHT
BEGIN:STANDARD
TZOFFSETFROM:-0500
TZOFFSETTO:-0600
TZNAME:CST
DTSTART:20261101T070000
END:STANDARD
BEGIN:DAYLIGHT
TZOFFSETFROM:-0600
TZOFFSETTO:-0500
TZNAME:CDT
DTSTART:20270314T080000
END:DAYLIGHT
BEGIN:STANDARD
TZOFFSETFROM:-0500
TZOFFSETTO:-0600
TZNAME:CST
DTSTART:20271107T070000
END:STANDARD
END:VTIMEZONE
BEGIN:VEVENT
DTSTART;TZID=America/Chicago:20260514T090000
DTEND;TZID=America/Chicago:20260514T110000
DTSTAMP:20260425T121339
CREATED:20260421T174437Z
LAST-MODIFIED:20260421T174437Z
UID:10028982-1778749200-1778756400@giveit2goodwill.org
SUMMARY:Basic Digital Literacy Class in Brentwood
DESCRIPTION:Goodwill Career Solutions will conduct a free Basic Digital Literacy Class on the second Thursday of every other month from 9:00a.m. – 11:00 a.m.\, at the Brentwood (Mill Creek) Career Solutions Location. Participants must pre-register by visiting the career center or calling (615) 953-0040.
URL:https://giveit2goodwill.org/calendar/basic-digital-literacy-class-in-brentwood/
LOCATION:Brentwood Goodwill Career Solutions\, 6708 Nolensville Pike\, Brentwood\, TN\, 37027\, United States
CATEGORIES:Brentwood
ORGANIZER;CN="Goodwill Middle Tennessee":MAILTO:training@givegw.org
END:VEVENT
BEGIN:VEVENT
DTSTART;TZID=America/Chicago:20260514T100000
DTEND;TZID=America/Chicago:20260514T120000
DTSTAMP:20260425T121339
CREATED:20260421T174823Z
LAST-MODIFIED:20260421T174823Z
UID:10028983-1778752800-1778760000@giveit2goodwill.org
SUMMARY:Money Matters in Nashville
DESCRIPTION:Goodwill Career Solutions will conduct a free Money Matters (Financial Literacy) Class on Thursday\, May 14th from 10:00 a.m. – 12:00 p.m. at the Nashville Career Solutions Location (Lifsey Building). Participants must pre-register by visiting www.giveit2goodwill.org/digital-literacy or calling (615) 742-4151.
URL:https://giveit2goodwill.org/calendar/money-matters-in-nashville/
LOCATION:Career Solutions – Nashville\, 937 Herman Street\, Nashville\, 37208\, United States
CATEGORIES:Nashville
ORGANIZER;CN="Goodwill Middle Tennessee":MAILTO:training@givegw.org
END:VEVENT
BEGIN:VEVENT
DTSTART;TZID=America/Chicago:20260514T100000
DTEND;TZID=America/Chicago:20260514T120000
DTSTAMP:20260425T121339
CREATED:20260422T201148Z
LAST-MODIFIED:20260422T201148Z
UID:10029295-1778752800-1778760000@giveit2goodwill.org
SUMMARY:Work from Home (Virtual)
DESCRIPTION:Goodwill Career Solutions will conduct a free Virtual Work from Home Class on the second Thursday of every month from 10:00 AM – 12:00 PM. Participants must pre-register by visiting their closet Career Center or calling (615) 742-4151.
URL:https://giveit2goodwill.org/calendar/work-from-home-virtual/2026-05-14/
CATEGORIES:Virtual
ORGANIZER;CN="Goodwill Middle Tennessee":MAILTO:training@givegw.org
END:VEVENT
BEGIN:VEVENT
DTSTART;TZID=America/Chicago:20260514T120000
DTEND;TZID=America/Chicago:20260514T140000
DTSTAMP:20260425T121339
CREATED:20260422T200749Z
LAST-MODIFIED:20260422T200749Z
UID:10029235-1778760000-1778767200@giveit2goodwill.org
SUMMARY:Money Matters in Brentwood
DESCRIPTION:Goodwill Career Solutions will conduct a free Money Matters (Financial Literacy) Class on the second Thursday of each month from 12 p.m. – 2 p.m.\, at the Brentwood (Mill Creek) Career Solutions Location. Participants must pre-register by visiting the career center or calling (615) 953-0040.
URL:https://giveit2goodwill.org/calendar/money-matters-in-brentwood/2026-05-14/
LOCATION:Mill Creek Career Solutions\, 6708 Nolensville Pike\, Brentwood\, TN\, 37027\, United States
CATEGORIES:Brentwood
ORGANIZER;CN="Goodwill Middle Tennessee":MAILTO:training@givegw.org
END:VEVENT
BEGIN:VEVENT
DTSTART;TZID=America/Chicago:20260514T130000
DTEND;TZID=America/Chicago:20260514T150000
DTSTAMP:20260425T121339
CREATED:20260422T201444Z
LAST-MODIFIED:20260422T201444Z
UID:10029355-1778763600-1778770800@giveit2goodwill.org
SUMMARY:Explore & Apply (Virtual)
DESCRIPTION:Goodwill Career Solutions will conduct a free Virtual Explore Jobs Online & Apply for Work Class on the second Thursday of every month from 1:00 PM – 3:00 PM. Participants must pre-register by visiting their closet Career Center or calling (615) 742-4151.
URL:https://giveit2goodwill.org/calendar/explore-apply-virtual/2026-05-14/
CATEGORIES:Virtual
ORGANIZER;CN="Goodwill Middle Tennessee":MAILTO:training@givegw.org
END:VEVENT
BEGIN:VEVENT
DTSTART;TZID=America/Chicago:20260518T080000
DTEND;TZID=America/Chicago:20260518T170000
DTSTAMP:20260425T121339
CREATED:20260413T180443Z
LAST-MODIFIED:20260413T180443Z
UID:10028958-1779091200-1779123600@giveit2goodwill.org
SUMMARY:Construction Training Begins – Nashville
DESCRIPTION:Goodwill Career Solutions will conduct a free\, four-week Construction and Weatherization Training Program from 8:00 am – 5:00 pm four days per week at its facility at 7237 Cockrill Bend Blvd. in Nashville. \nParticipants attend classes five days per week for four weeks at one of our Goodwill facilities in West Nashville or South Jackson. Three hours of each day are spent in the classroom\, and three are spent in the workshop. The course covers safety\, construction math\, hand and power tools\, blueprints\, rigging\, weatherization\, communication\, forklift operation\, employability skills and more. Graduates receive an OSHA 10 safety certification. \nWhat You’ll Learn:\nConstruction safety\nHands-on use of hand and power tools\nReading blueprints\nBasic rigging\nConstruction math\nEmployability skills and more \nWhat You’ll Receive:\nStudents receive a stipend of $100 per week while in the program\nOSHA 10 certification\nJob placement services upon completion\nParticipants must register as a Goodwill Client and be on a free service plan with a Career Coach.
URL:https://giveit2goodwill.org/calendar/construction-training-begins-nashville/
LOCATION:Cockrill Bend Outlet\, 7237 Cockrill Bend Blvd.\, Nashville\, TN\, 37209\, United States
CATEGORIES:Nashville
ORGANIZER;CN="Goodwill Middle Tennessee":MAILTO:training@givegw.org
END:VEVENT
BEGIN:VEVENT
DTSTART;TZID=America/Chicago:20260518T090000
DTEND;TZID=America/Chicago:20260518T120000
DTSTAMP:20260425T121339
CREATED:20260421T175606Z
LAST-MODIFIED:20260421T175606Z
UID:10028984-1779094800-1779105600@giveit2goodwill.org
SUMMARY:Beginner OPS in Murfreesboro
DESCRIPTION:Goodwill Career Solutions will conduct a free Beginner Office Productivity Class from 9 a.m. – 12 p.m. on Monday\, May 18th\, at the Murfreesboro Career Solutions Location. Participants must pre-register by visiting the closest career center or calling (615) 346-1818.
URL:https://giveit2goodwill.org/calendar/beginner-ops-in-murfreesboro-2/
LOCATION:Murfreesboro Goodwill Career Solutions\, 2955 S. Church St.\, Murfreesboro\, TN\, 37127\, United States
CATEGORIES:Murfreesboro
ORGANIZER;CN="Goodwill Middle Tennessee":MAILTO:training@givegw.org
END:VEVENT
BEGIN:VEVENT
DTSTART;TZID=America/Chicago:20260518T130000
DTEND;TZID=America/Chicago:20260518T153000
DTSTAMP:20260425T121339
CREATED:20260421T181042Z
LAST-MODIFIED:20260421T181042Z
UID:10028985-1779109200-1779118200@giveit2goodwill.org
SUMMARY:Intermediate OPS Class in Murfreesboro
DESCRIPTION:Goodwill Career Solutions will conduct a free Intermediate Office Productivity Class from 1 p.m. – 3:30 p.m. on Monday\, May 18th\, at the Murfreesboro Career Solutions Location. Participants must pre-register by visiting the closest career center or calling (615) 346-1818.
URL:https://giveit2goodwill.org/calendar/intermediate-ops-class-in-murfreesboro/
LOCATION:Murfreesboro Goodwill Career Solutions\, 2955 S. Church St.\, Murfreesboro\, TN\, 37127\, United States
CATEGORIES:Murfreesboro
ORGANIZER;CN="Goodwill Middle Tennessee":MAILTO:training@givegw.org
END:VEVENT
BEGIN:VEVENT
DTSTART;TZID=America/Chicago:20260519T090000
DTEND;TZID=America/Chicago:20260519T120000
DTSTAMP:20260425T121339
CREATED:20260422T202457Z
LAST-MODIFIED:20260422T202457Z
UID:10029475-1779181200-1779192000@giveit2goodwill.org
SUMMARY:Beginner OPS in Spring Hill
DESCRIPTION:Goodwill Career Solutions will conduct a free Beginner Office Productivity Class from 9 a.m.-noon on the fourth Tuesday of every other month\, at the Spring Hill Career Solutions Location. Participants must pre-register by visiting their closest career center or calling (931) 548-3460.
URL:https://giveit2goodwill.org/calendar/beginner-ops-in-spring-hill-2/2026-05-19/
LOCATION:Spring Hill Goodwill Career Solutions\, 1008 Nasdaq St.\, Spring Hill\, TN\, 37174
CATEGORIES:Spring Hill
ORGANIZER;CN="Goodwill Middle Tennessee":MAILTO:training@givegw.org
END:VEVENT
BEGIN:VEVENT
DTSTART;TZID=America/Chicago:20260519T100000
DTEND;TZID=America/Chicago:20260519T120000
DTSTAMP:20260425T121339
CREATED:20250722T222503Z
LAST-MODIFIED:20260327T140429Z
UID:10027999-1779184800-1779192000@giveit2goodwill.org
SUMMARY:Beginner Google Workspace in Nashville
DESCRIPTION:Goodwill Career Solutions will conduct a free Beginner Google Workspace Class on the third Tuesday of every month from 10 a.m. – 12 p.m. at the Nashville Career Solutions Location (Lifsey Building). Participants must pre-register by visiting www.giveit2goodwill.org/digital-literacy or calling (615) 742-4151.
URL:https://giveit2goodwill.org/calendar/beginner-google-workspace-in-nashville-2/2026-05-19/
CATEGORIES:Nashville
END:VEVENT
BEGIN:VEVENT
DTSTART;TZID=America/Chicago:20260519T100000
DTEND;TZID=America/Chicago:20260519T120000
DTSTAMP:20260425T121339
CREATED:20260422T202050Z
LAST-MODIFIED:20260422T202050Z
UID:10029415-1779184800-1779192000@giveit2goodwill.org
SUMMARY:Explore & Apply (Virtual)
DESCRIPTION:Goodwill Career Solutions will conduct a free Virtual Explore Jobs Online & Apply for Work Class on the third Tuesday of every month from 10:00 AM – 12:00 PM. Participants must pre-register by visiting their closet Career Center or calling (615) 742-4151.
URL:https://giveit2goodwill.org/calendar/explore-apply-virtual-2/2026-05-19/
CATEGORIES:Virtual
ORGANIZER;CN="Goodwill Middle Tennessee":MAILTO:training@givegw.org
END:VEVENT
BEGIN:VEVENT
DTSTART;TZID=America/Chicago:20260519T130000
DTEND;TZID=America/Chicago:20260519T153000
DTSTAMP:20260425T121339
CREATED:20250722T222705Z
LAST-MODIFIED:20260327T141207Z
UID:10028119-1779195600-1779204600@giveit2goodwill.org
SUMMARY:Intermediate Google Workspace in Nashville
DESCRIPTION:Goodwill Career Solutions will conduct a free Intermediate Google Workspace Class on the third Tuesday of every month from 1 p.m. – 3:30 p.m. at the Nashville Career Solutions Location (Lifsey Building). Participants must pre-register by visiting www.giveit2goodwill.org/digital-literacy or calling (615) 742-4151.
URL:https://giveit2goodwill.org/calendar/intermediate-google-workspace-in-nashville-2/2026-05-19/
CATEGORIES:Nashville
END:VEVENT
BEGIN:VEVENT
DTSTART;TZID=America/Chicago:20260520T090000
DTEND;TZID=America/Chicago:20260520T120000
DTSTAMP:20260425T121339
CREATED:20250916T200803Z
LAST-MODIFIED:20260327T142614Z
UID:10026107-1779267600-1779278400@giveit2goodwill.org
SUMMARY:Beginner OPS in Mt. Juliet
DESCRIPTION:Goodwill Career Solutions will conduct a free Beginner Office Productivity Class from 9 a.m. – 12 p.m. on the third Wednesday of every other month. Participants must pre-register by visiting a career center or calling (615) 288-2389.
URL:https://giveit2goodwill.org/calendar/beginner-ops-in-mt-juliet/2026-05-20/
CATEGORIES:Mt. Juliet
ORGANIZER;CN="Goodwill Middle Tennessee":MAILTO:training@givegw.org
END:VEVENT
BEGIN:VEVENT
DTSTART;TZID=America/Chicago:20260520T100000
DTEND;TZID=America/Chicago:20260520T120000
DTSTAMP:20260425T121339
CREATED:20260421T185528Z
LAST-MODIFIED:20260421T185528Z
UID:10028988-1779271200-1779278400@giveit2goodwill.org
SUMMARY:Intermediate Google Workspace in Nashville
DESCRIPTION:Goodwill Career Solutions will conduct a free Intermediate Google Workspace Class from 10 a.m. – 12 p.m. on Wednesday\, May 20th at the Lifsey Career Solutions Location. Participants must pre-register by visiting their closest career center or calling (615) 742-4151.
URL:https://giveit2goodwill.org/calendar/intermediate-google-workspace-in-nashville/
LOCATION:Career Solutions – Nashville\, 937 Herman Street\, Nashville\, 37208\, United States
CATEGORIES:Nashville
ORGANIZER;CN="Goodwill Middle Tennessee":MAILTO:training@givegw.org
END:VEVENT
BEGIN:VEVENT
DTSTART;TZID=America/Chicago:20260520T130000
DTEND;TZID=America/Chicago:20260520T153000
DTSTAMP:20260425T121339
CREATED:20251226T220931Z
LAST-MODIFIED:20260421T184616Z
UID:10026257-1779282000-1779291000@giveit2goodwill.org
SUMMARY:Intermediate OPS in Mt. Juliet
DESCRIPTION:Goodwill Career Solutions will conduct a free Intermediate Office Productivity Class from 1 p.m. – 3:30 p.m. on the third Wednesday of every other month. Participants must pre-register by visiting a career center or calling (615) 288-2389.
URL:https://giveit2goodwill.org/calendar/intermediate-ops-in-mt-juliet/2026-05-20/
LOCATION:Mt. Juliet Goodwill Career Solutions\, 1985 Providence West Parkway\, Mt. Juliet\, TN\, 37122\, United States
CATEGORIES:Mt. Juliet
ORGANIZER;CN="Goodwill Middle Tennessee":MAILTO:training@givegw.org
END:VEVENT
BEGIN:VEVENT
DTSTART;TZID=America/Chicago:20260521T110000
DTEND;TZID=America/Chicago:20260521T120000
DTSTAMP:20260425T121339
CREATED:20260422T203229Z
LAST-MODIFIED:20260422T203229Z
UID:10029535-1779361200-1779364800@giveit2goodwill.org
SUMMARY:Resume Writing (Virtual Training)
DESCRIPTION:Goodwill Career Solutions will conduct a free Virtual Resume Writing Class on the first Wednesday\, third Thursday\, and last Thursday of every month from 11:00 AM – 12:00 PM. Participants must pre-register by visiting their closet Career Center or calling (615) 742-4151.
URL:https://giveit2goodwill.org/calendar/resume-writing-virtual-training-2/2026-05-21/
CATEGORIES:Virtual
ORGANIZER;CN="Goodwill Middle Tennessee":MAILTO:training@givegw.org
END:VEVENT
BEGIN:VEVENT
DTSTART;TZID=America/Chicago:20260521T130000
DTEND;TZID=America/Chicago:20260521T140000
DTSTAMP:20260425T121339
CREATED:20260422T155221Z
LAST-MODIFIED:20260422T155221Z
UID:10029055-1779368400-1779372000@giveit2goodwill.org
SUMMARY:Interviewing for Work (Virtual)
DESCRIPTION:Goodwill Career Solutions will conduct a free Virtual Interviewing for Work Class on the first Wednesday\, third Thursday\, and last Thursday of every month from 1:00 PM – 2:00 PM. Participants must pre-register by visiting their closet Career Center or calling (615) 742-4151.
URL:https://giveit2goodwill.org/calendar/interviewing-for-work-virtual-3/2026-05-21/
CATEGORIES:Nashville
ORGANIZER;CN="Goodwill Middle Tennessee":MAILTO:training@givegw.org
END:VEVENT
BEGIN:VEVENT
DTSTART;TZID=America/Chicago:20260522T090000
DTEND;TZID=America/Chicago:20260522T110000
DTSTAMP:20260425T121339
CREATED:20260421T190145Z
LAST-MODIFIED:20260421T190145Z
UID:10028989-1779440400-1779447600@giveit2goodwill.org
SUMMARY:Basic Digital Literacy Class in Hendersonville
DESCRIPTION:Goodwill Career Solutions will conduct a free Basic Digital Literacy Class from 9 a.m. – 11 a.m. on Friday\, May 22nd at the Hendersonville Career Solutions Location (Indian Lake). Participants must pre-register by visiting their closest career center or calling (615) 346-1810.
URL:https://giveit2goodwill.org/calendar/basic-digital-literacy-class-in-hendersonville/
LOCATION:Indian Lake\, 205A Indian Lake Blvd\, Hendersonville\, TN\, United States
CATEGORIES:Hendersonville
ORGANIZER;CN="Goodwill Middle Tennessee":MAILTO:training@givegw.org
END:VEVENT
BEGIN:VEVENT
DTSTART;TZID=America/Chicago:20260522T120000
DTEND;TZID=America/Chicago:20260522T140000
DTSTAMP:20260425T121339
CREATED:20260421T190622Z
LAST-MODIFIED:20260421T190622Z
UID:10028990-1779451200-1779458400@giveit2goodwill.org
SUMMARY:Resume Writing in Hendersonville
DESCRIPTION:Goodwill Career Solutions will conduct a free Resume Writing Class from 12 p.m. – 2 p.m. on Friday\, May 22nd\, at the Hendersonville Career Solutions Location (Indian Lake). Participants must pre-register by visiting www.giveit2goodwill.org/digital-literacy or calling (615) 346-1810.
URL:https://giveit2goodwill.org/calendar/resume-writing-in-hendersonville-2/
LOCATION:Indian Lake\, 205A Indian Lake Blvd\, Hendersonville\, TN\, United States
CATEGORIES:Hendersonville
ORGANIZER;CN="Goodwill Middle Tennessee":MAILTO:training@givegw.org
END:VEVENT
BEGIN:VEVENT
DTSTART;TZID=America/Chicago:20260522T141500
DTEND;TZID=America/Chicago:20260522T161500
DTSTAMP:20260425T121339
CREATED:20260421T191241Z
LAST-MODIFIED:20260421T191241Z
UID:10028991-1779459300-1779466500@giveit2goodwill.org
SUMMARY:Money Matters in Hendersonville
DESCRIPTION:Goodwill Career Solutions will conduct a free Money Matters (Financial Literacy) Class from 2:15 p.m. – 4:15 p.m. on\, at the Hendersonville Career Solutions Location (Indian Lake). Participants must pre-register by visiting www.giveit2goodwill.org/digital-literacy or calling (615) 346-1810.
URL:https://giveit2goodwill.org/calendar/money-matters-in-hendersonville/
LOCATION:Indian Lake\, 205A Indian Lake Blvd\, Hendersonville\, TN\, United States
CATEGORIES:Hendersonville
ORGANIZER;CN="Goodwill Middle Tennessee":MAILTO:training@givegw.org
END:VEVENT
BEGIN:VEVENT
DTSTART;TZID=America/Chicago:20260526T090000
DTEND;TZID=America/Chicago:20260526T120000
DTSTAMP:20260425T121339
CREATED:20260421T202509Z
LAST-MODIFIED:20260421T202509Z
UID:10028992-1779786000-1779796800@giveit2goodwill.org
SUMMARY:Beginner OPS in Hendersonville
DESCRIPTION:Goodwill Career Solutions will conduct a free Beginner Office Productivity Class from 9 a.m. – 12 p.m. on Tuesday\, May 26th\, at the Hendersonville Career Solutions Location (Indian Lake). Participants must pre-register by visiting their closest career center or calling (615) 346-1810.
URL:https://giveit2goodwill.org/calendar/beginner-ops-in-hendersonville/
LOCATION:Hendersonville Goodwill Career Solutions\, 205A Indian Lake Boulevard\, Hendersonville\, TN\, 37075\, United States
CATEGORIES:Hendersonville
ORGANIZER;CN="Goodwill Middle Tennessee":MAILTO:training@givegw.org
END:VEVENT
BEGIN:VEVENT
DTSTART;TZID=America/Chicago:20260526T100000
DTEND;TZID=America/Chicago:20260526T120000
DTSTAMP:20260425T121339
CREATED:20260421T203306Z
LAST-MODIFIED:20260421T203306Z
UID:10028994-1779789600-1779796800@giveit2goodwill.org
SUMMARY:Basic Digital Literacy Class in Nashville
DESCRIPTION:Goodwill Career Solutions will conduct a free Basic Digital Literacy Class from 9 a.m. – 11 a.m. on Tuesday\, May 26th at the Nashville Career Solutions Location (Lifsey Building). Participants must pre-register by visiting your closest career center or calling (615) 742-4151.
URL:https://giveit2goodwill.org/calendar/basic-digital-literacy-class-in-nashville/
LOCATION:Career Solutions – Nashville\, 937 Herman Street\, Nashville\, 37208\, United States
CATEGORIES:Nashville
ORGANIZER;CN="Goodwill Middle Tennessee":MAILTO:training@givegw.org
END:VEVENT
BEGIN:VEVENT
DTSTART;TZID=America/Chicago:20260526T100000
DTEND;TZID=America/Chicago:20260526T120000
DTSTAMP:20260425T121339
CREATED:20260422T203854Z
LAST-MODIFIED:20260422T204235Z
UID:10029655-1779789600-1779796800@giveit2goodwill.org
SUMMARY:Work from Home (Virtual)
DESCRIPTION:Goodwill Career Solutions will conduct a free Virtual Work from Home Class on the last Tuesday of every month from 10:00 AM – 12:00 PM. Participants must pre-register by visiting their closet Career Center or calling (615) 742-4151.
URL:https://giveit2goodwill.org/calendar/work-from-home-virtual-2/2026-05-26/
CATEGORIES:Virtual
ORGANIZER;CN="Goodwill Middle Tennessee":MAILTO:training@givegw.org
END:VEVENT
BEGIN:VEVENT
DTSTART;TZID=America/Chicago:20260526T130000
DTEND;TZID=America/Chicago:20260526T153000
DTSTAMP:20260425T121340
CREATED:20260421T202959Z
LAST-MODIFIED:20260421T202959Z
UID:10028993-1779800400-1779809400@giveit2goodwill.org
SUMMARY:Intermediate OPS in Hendersonville
DESCRIPTION:Goodwill Career Solutions will conduct a free Intermediate Office Productivity Class from 1 p.m. – 3:30 p.m. on Tuesday\, May 26th\, at the Hendersonville Career Solutions Location (Indian Lake). Participants must pre-register by visiting their closest career center or calling (615) 346-1810.
URL:https://giveit2goodwill.org/calendar/intermediate-ops-in-hendersonville-2/
LOCATION:Hendersonville Goodwill Career Solutions\, 205A Indian Lake Boulevard\, Hendersonville\, TN\, 37075\, United States
CATEGORIES:Hendersonville
ORGANIZER;CN="Goodwill Middle Tennessee":MAILTO:training@givegw.org
END:VEVENT
BEGIN:VEVENT
DTSTART;TZID=America/Chicago:20260527T090000
DTEND;TZID=America/Chicago:20260527T110000
DTSTAMP:20260425T121340
CREATED:20260327T150810Z
LAST-MODIFIED:20260422T204430Z
UID:10028578-1779872400-1779879600@giveit2goodwill.org
SUMMARY:Beginner Google Workspace in Murfreesboro
DESCRIPTION:Goodwill Career Solutions will conduct a free Beginner Google Workspace Class from 9 a.m. – 11 a.m. on Wednesday\, May 27\, at the Murfreesboro Career Solutions Location. Participants must pre-register by visiting the closest career center or calling (615) 346-1818.
URL:https://giveit2goodwill.org/calendar/beginner-google-workspace-in-murfreesboro/2026-05-27/
CATEGORIES:Murfreesboro
ORGANIZER;CN="Goodwill Middle Tennessee":MAILTO:training@givegw.org
END:VEVENT
BEGIN:VEVENT
DTSTART;TZID=America/Chicago:20260527T090000
DTEND;TZID=America/Chicago:20260527T120000
DTSTAMP:20260425T121340
CREATED:20260422T211251Z
LAST-MODIFIED:20260422T211251Z
UID:10029865-1779872400-1779883200@giveit2goodwill.org
SUMMARY:Beginner OPS in Dickson
DESCRIPTION:Goodwill Career Solutions will conduct a free Beginner Office Productivity Class from 9 a.m. – 12 p.m. on Wednesday\,May27th at the Dickson Career Solutions Location. Participants must pre-register by visiting www.giveit2goodwill.org/digital-literacy or calling (615) 377-2566.
URL:https://giveit2goodwill.org/calendar/beginner-ops-in-dickson-2/
LOCATION:Dickson Goodwill Career Solutions\, 543 TN-46\, Dickson\, Tennessee\, 37055
CATEGORIES:Dickson
ORGANIZER;CN="Goodwill Middle Tennessee":MAILTO:training@givegw.org
END:VEVENT
BEGIN:VEVENT
DTSTART;TZID=America/Chicago:20260527T120000
DTEND;TZID=America/Chicago:20260527T140000
DTSTAMP:20260425T121340
CREATED:20260422T210909Z
LAST-MODIFIED:20260422T210909Z
UID:10029835-1779883200-1779890400@giveit2goodwill.org
SUMMARY:Intermediate Google Workspace in Murfreesboro
DESCRIPTION:Goodwill Career Solutions will conduct a free Intermediate Google Workspace Class from 12 p.m. – 2 p.m. on the last Wednesday of every other month\, at the Murfreesboro Career Solutions Location. Participants must pre-register by visiting the closest career center or calling (615) 346-1818.
URL:https://giveit2goodwill.org/calendar/intermediate-google-workspace-in-murfreesboro/2026-05-27/
LOCATION:Murfreesboro Goodwill Career Solutions\, 2955 S. Church St.\, Murfreesboro\, TN\, 37127\, United States
CATEGORIES:Murfreesboro
ORGANIZER;CN="Goodwill Middle Tennessee":MAILTO:training@givegw.org
END:VEVENT
BEGIN:VEVENT
DTSTART;TZID=America/Chicago:20260527T130000
DTEND;TZID=America/Chicago:20260527T150000
DTSTAMP:20260425T121340
CREATED:20260327T151026Z
LAST-MODIFIED:20260422T204854Z
UID:10028638-1779886800-1779894000@giveit2goodwill.org
SUMMARY:Money Matters (Financial Lit) in Dickson
DESCRIPTION:Goodwill Career Solutions will conduct a free Money Matters (Financial Literacy) Class from 1 p.m. – 3:00 p.m. on May 27th\, at the Dickson Career Solutions Location. Participants must pre-register by visiting the career center or calling (615) 377-2566.
URL:https://giveit2goodwill.org/calendar/money-matters-financial-lit-in-murfreesboro/2026-05-27/
CATEGORIES:Murfreesboro
ORGANIZER;CN="Goodwill Middle Tennessee":MAILTO:training@givegw.org
END:VEVENT
BEGIN:VEVENT
DTSTART;TZID=America/Chicago:20260528T090000
DTEND;TZID=America/Chicago:20260528T110000
DTSTAMP:20260425T121340
CREATED:20260422T212404Z
LAST-MODIFIED:20260422T212404Z
UID:10029866-1779958800-1779966000@giveit2goodwill.org
SUMMARY:Beginner Google Workspace in Clarksville
DESCRIPTION:Goodwill Career Solutions will conduct a free Beginner Google Workspace training from 9 a.m. – 11 a.m. on Thursday\, May 28th\, at the Clarksville Career Solutions Location. Participants must pre-register by calling (931) 241-4730.
URL:https://giveit2goodwill.org/calendar/beginner-google-workspace-in-clarksville/
LOCATION:Clarksville Goodwill Career Solutions\, 2001 Needmore Road\, Clarksville\, Tennessee\, 37042
CATEGORIES:Clarksville
ORGANIZER;CN="Goodwill Middle Tennessee":MAILTO:training@givegw.org
END:VEVENT
BEGIN:VEVENT
DTSTART;TZID=America/Chicago:20260528T090000
DTEND;TZID=America/Chicago:20260528T110000
DTSTAMP:20260425T121340
CREATED:20260423T155709Z
LAST-MODIFIED:20260423T155709Z
UID:10029868-1779958800-1779966000@giveit2goodwill.org
SUMMARY:Beginner Google Workspace in Brentwood
DESCRIPTION:Goodwill Career Solutions will conduct a free Beginner Google Workspace training from 9a.m. – 11a.m. on Thursday\, May28th\, at the Dickson Career Solutions Location. Participants must pre-register by calling (615) 953-0040.
URL:https://giveit2goodwill.org/calendar/beginner-google-workspace-in-brentwood/
LOCATION:Brentwood Goodwill Career Solutions\, 6708 Nolensville Pike\, Brentwood\, TN\, 37027\, United States
CATEGORIES:Brentwood
ORGANIZER;CN="Goodwill Middle Tennessee":MAILTO:training@givegw.org
END:VEVENT
END:VCALENDAR