BEGIN:VCALENDAR
VERSION:2.0
PRODID:-//Goodwill Industries of Middle Tennessee, Inc. - ECPv6.15.13//NONSGML v1.0//EN
CALSCALE:GREGORIAN
METHOD:PUBLISH
X-WR-CALNAME:Goodwill Industries of Middle Tennessee, Inc.
X-ORIGINAL-URL:https://giveit2goodwill.org
X-WR-CALDESC:Events for Goodwill Industries of Middle Tennessee, Inc.
REFRESH-INTERVAL;VALUE=DURATION:PT1H
X-Robots-Tag:noindex
X-PUBLISHED-TTL:PT1H
BEGIN:VTIMEZONE
TZID:America/Chicago
BEGIN:DAYLIGHT
TZOFFSETFROM:-0600
TZOFFSETTO:-0500
TZNAME:CDT
DTSTART:20270314T080000
END:DAYLIGHT
BEGIN:STANDARD
TZOFFSETFROM:-0500
TZOFFSETTO:-0600
TZNAME:CST
DTSTART:20271107T070000
END:STANDARD
BEGIN:DAYLIGHT
TZOFFSETFROM:-0600
TZOFFSETTO:-0500
TZNAME:CDT
DTSTART:20280312T080000
END:DAYLIGHT
BEGIN:STANDARD
TZOFFSETFROM:-0500
TZOFFSETTO:-0600
TZNAME:CST
DTSTART:20281105T070000
END:STANDARD
BEGIN:DAYLIGHT
TZOFFSETFROM:-0600
TZOFFSETTO:-0500
TZNAME:CDT
DTSTART:20290311T080000
END:DAYLIGHT
BEGIN:STANDARD
TZOFFSETFROM:-0500
TZOFFSETTO:-0600
TZNAME:CST
DTSTART:20291104T070000
END:STANDARD
BEGIN:DAYLIGHT
TZOFFSETFROM:-0600
TZOFFSETTO:-0500
TZNAME:CDT
DTSTART:20300310T080000
END:DAYLIGHT
BEGIN:STANDARD
TZOFFSETFROM:-0500
TZOFFSETTO:-0600
TZNAME:CST
DTSTART:20301103T070000
END:STANDARD
END:VTIMEZONE
BEGIN:VEVENT
DTSTART;TZID=America/Chicago:20281220T130000
DTEND;TZID=America/Chicago:20281220T153000
DTSTAMP:20260425T121313
CREATED:20251226T220931Z
LAST-MODIFIED:20260421T184616Z
UID:10028405-1860930000-1860939000@giveit2goodwill.org
SUMMARY:Intermediate OPS in Mt. Juliet
DESCRIPTION:Goodwill Career Solutions will conduct a free Intermediate Office Productivity Class from 1 p.m. – 3:30 p.m. on the third Wednesday of every other month. Participants must pre-register by visiting a career center or calling (615) 288-2389.
URL:https://giveit2goodwill.org/calendar/intermediate-ops-in-mt-juliet/2028-12-20/
LOCATION:Mt. Juliet Goodwill Career Solutions\, 1985 Providence West Parkway\, Mt. Juliet\, TN\, 37122\, United States
CATEGORIES:Mt. Juliet
ORGANIZER;CN="Goodwill Middle Tennessee":MAILTO:training@givegw.org
END:VEVENT
BEGIN:VEVENT
DTSTART;TZID=America/Chicago:20281221T110000
DTEND;TZID=America/Chicago:20281221T120000
DTSTAMP:20260425T121313
CREATED:20260422T203229Z
LAST-MODIFIED:20260422T203229Z
UID:10029566-1861009200-1861012800@giveit2goodwill.org
SUMMARY:Resume Writing (Virtual Training)
DESCRIPTION:Goodwill Career Solutions will conduct a free Virtual Resume Writing Class on the first Wednesday\, third Thursday\, and last Thursday of every month from 11:00 AM – 12:00 PM. Participants must pre-register by visiting their closet Career Center or calling (615) 742-4151.
URL:https://giveit2goodwill.org/calendar/resume-writing-virtual-training-2/2028-12-21/
CATEGORIES:Virtual
ORGANIZER;CN="Goodwill Middle Tennessee":MAILTO:training@givegw.org
END:VEVENT
BEGIN:VEVENT
DTSTART;TZID=America/Chicago:20281221T130000
DTEND;TZID=America/Chicago:20281221T140000
DTSTAMP:20260425T121313
CREATED:20260422T155221Z
LAST-MODIFIED:20260422T155221Z
UID:10029086-1861016400-1861020000@giveit2goodwill.org
SUMMARY:Interviewing for Work (Virtual)
DESCRIPTION:Goodwill Career Solutions will conduct a free Virtual Interviewing for Work Class on the first Wednesday\, third Thursday\, and last Thursday of every month from 1:00 PM – 2:00 PM. Participants must pre-register by visiting their closet Career Center or calling (615) 742-4151.
URL:https://giveit2goodwill.org/calendar/interviewing-for-work-virtual-3/2028-12-21/
CATEGORIES:Nashville
ORGANIZER;CN="Goodwill Middle Tennessee":MAILTO:training@givegw.org
END:VEVENT
BEGIN:VEVENT
DTSTART;TZID=America/Chicago:20281226T090000
DTEND;TZID=America/Chicago:20281226T120000
DTSTAMP:20260425T121313
CREATED:20250827T144456Z
LAST-MODIFIED:20260327T150218Z
UID:10028502-1861434000-1861444800@giveit2goodwill.org
SUMMARY:Beginner OPS in Hendersonville
DESCRIPTION:Goodwill Career Solutions will conduct a free Beginner Office Productivity Class from 9 a.m. – 12 p.m. on the fourth Tuesday of every other month\, at the Hendersonville Career Solutions Location (Indian Lake). Participants must pre-register by visiting their closest career center or calling (615) 346-1810.
URL:https://giveit2goodwill.org/calendar/beginner-ops-in-hendersonville-3/2028-12-26/
CATEGORIES:Hendersonville
END:VEVENT
BEGIN:VEVENT
DTSTART;TZID=America/Chicago:20281226T100000
DTEND;TZID=America/Chicago:20281226T120000
DTSTAMP:20260425T121313
CREATED:20260422T203854Z
LAST-MODIFIED:20260422T204235Z
UID:10029686-1861437600-1861444800@giveit2goodwill.org
SUMMARY:Work from Home (Virtual)
DESCRIPTION:Goodwill Career Solutions will conduct a free Virtual Work from Home Class on the last Tuesday of every month from 10:00 AM – 12:00 PM. Participants must pre-register by visiting their closet Career Center or calling (615) 742-4151.
URL:https://giveit2goodwill.org/calendar/work-from-home-virtual-2/2028-12-26/
CATEGORIES:Virtual
ORGANIZER;CN="Goodwill Middle Tennessee":MAILTO:training@givegw.org
END:VEVENT
BEGIN:VEVENT
DTSTART;TZID=America/Chicago:20281227T090000
DTEND;TZID=America/Chicago:20281227T110000
DTSTAMP:20260425T121313
CREATED:20260327T150810Z
LAST-MODIFIED:20260422T204430Z
UID:10028609-1861520400-1861527600@giveit2goodwill.org
SUMMARY:Beginner Google Workspace in Murfreesboro
DESCRIPTION:Goodwill Career Solutions will conduct a free Beginner Google Workspace Class from 9 a.m. – 11 a.m. on Wednesday\, May 27\, at the Murfreesboro Career Solutions Location. Participants must pre-register by visiting the closest career center or calling (615) 346-1818.
URL:https://giveit2goodwill.org/calendar/beginner-google-workspace-in-murfreesboro/2028-12-27/
CATEGORIES:Murfreesboro
ORGANIZER;CN="Goodwill Middle Tennessee":MAILTO:training@givegw.org
END:VEVENT
BEGIN:VEVENT
DTSTART;TZID=America/Chicago:20281228T110000
DTEND;TZID=America/Chicago:20281228T120000
DTSTAMP:20260425T121313
CREATED:20260327T150552Z
LAST-MODIFIED:20260422T205433Z
UID:10029807-1861614000-1861617600@giveit2goodwill.org
SUMMARY:Resume Writing (Virtual)
DESCRIPTION:Goodwill Career Solutions will conduct a free Virtual Resume Writing Class on the first Wednesday and third and fourth Thursday of every month from 11:00PM – 12:00PM. Participants must pre-register by at their closet Career Center or calling (615) 742-4151.
URL:https://giveit2goodwill.org/calendar/resume-writing-virtual/2028-12-28/
CATEGORIES:Nashville
ORGANIZER;CN="Goodwill Middle Tennessee":MAILTO:training@givegw.org
END:VEVENT
BEGIN:VEVENT
DTSTART;TZID=America/Chicago:20281228T130000
DTEND;TZID=America/Chicago:20281228T140000
DTSTAMP:20260425T121313
CREATED:20260327T131957Z
LAST-MODIFIED:20260422T205204Z
UID:10029747-1861621200-1861624800@giveit2goodwill.org
SUMMARY:Interviewing for Work (Virtual)
DESCRIPTION:Goodwill Career Solutions will conduct a free Virtual Interviewing for Work Class on the first Wednesday and third and fourth Thursday of every month from 1:00PM – 2:00PM. Participants must pre-register by at their closet Career Center or calling (615) 742-4151.
URL:https://giveit2goodwill.org/calendar/interviewing-for-work-virtual-2/2028-12-28/
CATEGORIES:Nashville
ORGANIZER;CN="Goodwill Middle Tennessee":MAILTO:training@givegw.org
END:VEVENT
BEGIN:VEVENT
DTSTART;TZID=America/Chicago:20290103T110000
DTEND;TZID=America/Chicago:20290103T120000
DTSTAMP:20260425T121313
CREATED:20250827T134538Z
LAST-MODIFIED:20260422T195306Z
UID:10029207-1862132400-1862136000@giveit2goodwill.org
SUMMARY:Resume Writing (Virtual Training)
DESCRIPTION:Goodwill Career Solutions will conduct a free Virtual Resume Writing Class on the first Wednesday and third and fourth Thursday of every month from 11:00AM – 12:00PM. Participants must pre-register by at their closet Career Center or calling (615) 742-4151.
URL:https://giveit2goodwill.org/calendar/resume-writing-virtual-training/2029-01-03/
CATEGORIES:Nashville
END:VEVENT
BEGIN:VEVENT
DTSTART;TZID=America/Chicago:20290103T130000
DTEND;TZID=America/Chicago:20290103T140000
DTSTAMP:20260425T121313
CREATED:20260327T125250Z
LAST-MODIFIED:20260422T154141Z
UID:10029027-1862139600-1862143200@giveit2goodwill.org
SUMMARY:Interviewing for Work (Virtual)
DESCRIPTION:Goodwill Career Solutions will conduct a free Virtual Interviewing for Work Class on the first Wednesday\, third Thursday\, and last Thursday of every month from 1:00 PM – 2:00 PM. Participants must pre-register by visiting their closet Career Center or calling (615) 742-4151.
URL:https://giveit2goodwill.org/calendar/interviewing-for-work-virtual/2029-01-03/
CATEGORIES:Nashville
ORGANIZER;CN="Goodwill Middle Tennessee":MAILTO:training@givegw.org
END:VEVENT
BEGIN:VEVENT
DTSTART;TZID=America/Chicago:20290109T130000
DTEND;TZID=America/Chicago:20290109T153000
DTSTAMP:20260425T121313
CREATED:20250708T025524Z
LAST-MODIFIED:20260327T141801Z
UID:10028331-1862658000-1862667000@giveit2goodwill.org
SUMMARY:Intermediate OPS in Nashville
DESCRIPTION:Goodwill Career Solutions will conduct a free Intermediate Office Productivity Class on the second Tuesday of each month from 1 p.m. – 3:30 p.m. at the Nashville Career Solutions Location (Lifsey Building). Participants must pre-register by visiting www.giveit2goodwill.org/digital-literacy or calling (615) 742-4151.
URL:https://giveit2goodwill.org/calendar/intermediate-ops-in-nashville/2029-01-09/
CATEGORIES:Nashville
END:VEVENT
BEGIN:VEVENT
DTSTART;TZID=America/Chicago:20290109T140000
DTEND;TZID=America/Chicago:20290109T160000
DTSTAMP:20260425T121314
CREATED:20250827T140639Z
LAST-MODIFIED:20260422T193805Z
UID:10022841-1862661600-1862668800@giveit2goodwill.org
SUMMARY:Basic Digital Literacy in Lebanon
DESCRIPTION:Goodwill Career Solutions will conduct a free Basic Digital Literacy Class from 2:00 p.m. – 4:00 p.m. on the second Tuesday of every other month\, at the Lebanon Career Solutions Location (Indian Lake). Participants must pre-register by visiting the closet career center or calling (615) 742-4151.
URL:https://giveit2goodwill.org/calendar/money-matters-financial-lit-in-lebanon/2029-01-09/
LOCATION:Lebanon Career Solutions\, 1414 W Main St\, Lebanon\, TN\, 37087\, United States
CATEGORIES:Lebanon
END:VEVENT
BEGIN:VEVENT
DTSTART;TZID=America/Chicago:20290111T100000
DTEND;TZID=America/Chicago:20290111T120000
DTSTAMP:20260425T121314
CREATED:20260422T201148Z
LAST-MODIFIED:20260422T201148Z
UID:10029327-1862820000-1862827200@giveit2goodwill.org
SUMMARY:Work from Home (Virtual)
DESCRIPTION:Goodwill Career Solutions will conduct a free Virtual Work from Home Class on the second Thursday of every month from 10:00 AM – 12:00 PM. Participants must pre-register by visiting their closet Career Center or calling (615) 742-4151.
URL:https://giveit2goodwill.org/calendar/work-from-home-virtual/2029-01-11/
CATEGORIES:Virtual
ORGANIZER;CN="Goodwill Middle Tennessee":MAILTO:training@givegw.org
END:VEVENT
BEGIN:VEVENT
DTSTART;TZID=America/Chicago:20290111T120000
DTEND;TZID=America/Chicago:20290111T140000
DTSTAMP:20260425T121314
CREATED:20260422T200749Z
LAST-MODIFIED:20260422T200749Z
UID:10029267-1862827200-1862834400@giveit2goodwill.org
SUMMARY:Money Matters in Brentwood
DESCRIPTION:Goodwill Career Solutions will conduct a free Money Matters (Financial Literacy) Class on the second Thursday of each month from 12 p.m. – 2 p.m.\, at the Brentwood (Mill Creek) Career Solutions Location. Participants must pre-register by visiting the career center or calling (615) 953-0040.
URL:https://giveit2goodwill.org/calendar/money-matters-in-brentwood/2029-01-11/
LOCATION:Mill Creek Career Solutions\, 6708 Nolensville Pike\, Brentwood\, TN\, 37027\, United States
CATEGORIES:Brentwood
ORGANIZER;CN="Goodwill Middle Tennessee":MAILTO:training@givegw.org
END:VEVENT
BEGIN:VEVENT
DTSTART;TZID=America/Chicago:20290111T130000
DTEND;TZID=America/Chicago:20290111T150000
DTSTAMP:20260425T121314
CREATED:20260422T201444Z
LAST-MODIFIED:20260422T201444Z
UID:10029387-1862830800-1862838000@giveit2goodwill.org
SUMMARY:Explore & Apply (Virtual)
DESCRIPTION:Goodwill Career Solutions will conduct a free Virtual Explore Jobs Online & Apply for Work Class on the second Thursday of every month from 1:00 PM – 3:00 PM. Participants must pre-register by visiting their closet Career Center or calling (615) 742-4151.
URL:https://giveit2goodwill.org/calendar/explore-apply-virtual/2029-01-11/
CATEGORIES:Virtual
ORGANIZER;CN="Goodwill Middle Tennessee":MAILTO:training@givegw.org
END:VEVENT
BEGIN:VEVENT
DTSTART;TZID=America/Chicago:20290116T090000
DTEND;TZID=America/Chicago:20290116T120000
DTSTAMP:20260425T121314
CREATED:20260422T202457Z
LAST-MODIFIED:20260422T202457Z
UID:10029507-1863248400-1863259200@giveit2goodwill.org
SUMMARY:Beginner OPS in Spring Hill
DESCRIPTION:Goodwill Career Solutions will conduct a free Beginner Office Productivity Class from 9 a.m.-noon on the fourth Tuesday of every other month\, at the Spring Hill Career Solutions Location. Participants must pre-register by visiting their closest career center or calling (931) 548-3460.
URL:https://giveit2goodwill.org/calendar/beginner-ops-in-spring-hill-2/2029-01-16/
LOCATION:Spring Hill Goodwill Career Solutions\, 1008 Nasdaq St.\, Spring Hill\, TN\, 37174
CATEGORIES:Spring Hill
ORGANIZER;CN="Goodwill Middle Tennessee":MAILTO:training@givegw.org
END:VEVENT
BEGIN:VEVENT
DTSTART;TZID=America/Chicago:20290116T100000
DTEND;TZID=America/Chicago:20290116T120000
DTSTAMP:20260425T121314
CREATED:20250722T222503Z
LAST-MODIFIED:20260327T140429Z
UID:10028031-1863252000-1863259200@giveit2goodwill.org
SUMMARY:Beginner Google Workspace in Nashville
DESCRIPTION:Goodwill Career Solutions will conduct a free Beginner Google Workspace Class on the third Tuesday of every month from 10 a.m. – 12 p.m. at the Nashville Career Solutions Location (Lifsey Building). Participants must pre-register by visiting www.giveit2goodwill.org/digital-literacy or calling (615) 742-4151.
URL:https://giveit2goodwill.org/calendar/beginner-google-workspace-in-nashville-2/2029-01-16/
CATEGORIES:Nashville
END:VEVENT
BEGIN:VEVENT
DTSTART;TZID=America/Chicago:20290116T100000
DTEND;TZID=America/Chicago:20290116T120000
DTSTAMP:20260425T121314
CREATED:20260422T202050Z
LAST-MODIFIED:20260422T202050Z
UID:10029447-1863252000-1863259200@giveit2goodwill.org
SUMMARY:Explore & Apply (Virtual)
DESCRIPTION:Goodwill Career Solutions will conduct a free Virtual Explore Jobs Online & Apply for Work Class on the third Tuesday of every month from 10:00 AM – 12:00 PM. Participants must pre-register by visiting their closet Career Center or calling (615) 742-4151.
URL:https://giveit2goodwill.org/calendar/explore-apply-virtual-2/2029-01-16/
CATEGORIES:Virtual
ORGANIZER;CN="Goodwill Middle Tennessee":MAILTO:training@givegw.org
END:VEVENT
BEGIN:VEVENT
DTSTART;TZID=America/Chicago:20290116T130000
DTEND;TZID=America/Chicago:20290116T153000
DTSTAMP:20260425T121314
CREATED:20250722T222705Z
LAST-MODIFIED:20260327T141207Z
UID:10028151-1863262800-1863271800@giveit2goodwill.org
SUMMARY:Intermediate Google Workspace in Nashville
DESCRIPTION:Goodwill Career Solutions will conduct a free Intermediate Google Workspace Class on the third Tuesday of every month from 1 p.m. – 3:30 p.m. at the Nashville Career Solutions Location (Lifsey Building). Participants must pre-register by visiting www.giveit2goodwill.org/digital-literacy or calling (615) 742-4151.
URL:https://giveit2goodwill.org/calendar/intermediate-google-workspace-in-nashville-2/2029-01-16/
CATEGORIES:Nashville
END:VEVENT
BEGIN:VEVENT
DTSTART;TZID=America/Chicago:20290117T090000
DTEND;TZID=America/Chicago:20290117T120000
DTSTAMP:20260425T121314
CREATED:20250916T200803Z
LAST-MODIFIED:20260327T142614Z
UID:10026123-1863334800-1863345600@giveit2goodwill.org
SUMMARY:Beginner OPS in Mt. Juliet
DESCRIPTION:Goodwill Career Solutions will conduct a free Beginner Office Productivity Class from 9 a.m. – 12 p.m. on the third Wednesday of every other month. Participants must pre-register by visiting a career center or calling (615) 288-2389.
URL:https://giveit2goodwill.org/calendar/beginner-ops-in-mt-juliet/2029-01-17/
CATEGORIES:Mt. Juliet
ORGANIZER;CN="Goodwill Middle Tennessee":MAILTO:training@givegw.org
END:VEVENT
BEGIN:VEVENT
DTSTART;TZID=America/Chicago:20290117T130000
DTEND;TZID=America/Chicago:20290117T153000
DTSTAMP:20260425T121314
CREATED:20251226T220931Z
LAST-MODIFIED:20260421T184616Z
UID:10026273-1863349200-1863358200@giveit2goodwill.org
SUMMARY:Intermediate OPS in Mt. Juliet
DESCRIPTION:Goodwill Career Solutions will conduct a free Intermediate Office Productivity Class from 1 p.m. – 3:30 p.m. on the third Wednesday of every other month. Participants must pre-register by visiting a career center or calling (615) 288-2389.
URL:https://giveit2goodwill.org/calendar/intermediate-ops-in-mt-juliet/2029-01-17/
LOCATION:Mt. Juliet Goodwill Career Solutions\, 1985 Providence West Parkway\, Mt. Juliet\, TN\, 37122\, United States
CATEGORIES:Mt. Juliet
ORGANIZER;CN="Goodwill Middle Tennessee":MAILTO:training@givegw.org
END:VEVENT
BEGIN:VEVENT
DTSTART;TZID=America/Chicago:20290118T110000
DTEND;TZID=America/Chicago:20290118T120000
DTSTAMP:20260425T121314
CREATED:20260422T203229Z
LAST-MODIFIED:20260422T203229Z
UID:10029567-1863428400-1863432000@giveit2goodwill.org
SUMMARY:Resume Writing (Virtual Training)
DESCRIPTION:Goodwill Career Solutions will conduct a free Virtual Resume Writing Class on the first Wednesday\, third Thursday\, and last Thursday of every month from 11:00 AM – 12:00 PM. Participants must pre-register by visiting their closet Career Center or calling (615) 742-4151.
URL:https://giveit2goodwill.org/calendar/resume-writing-virtual-training-2/2029-01-18/
CATEGORIES:Virtual
ORGANIZER;CN="Goodwill Middle Tennessee":MAILTO:training@givegw.org
END:VEVENT
BEGIN:VEVENT
DTSTART;TZID=America/Chicago:20290118T130000
DTEND;TZID=America/Chicago:20290118T140000
DTSTAMP:20260425T121314
CREATED:20260422T155221Z
LAST-MODIFIED:20260422T155221Z
UID:10029087-1863435600-1863439200@giveit2goodwill.org
SUMMARY:Interviewing for Work (Virtual)
DESCRIPTION:Goodwill Career Solutions will conduct a free Virtual Interviewing for Work Class on the first Wednesday\, third Thursday\, and last Thursday of every month from 1:00 PM – 2:00 PM. Participants must pre-register by visiting their closet Career Center or calling (615) 742-4151.
URL:https://giveit2goodwill.org/calendar/interviewing-for-work-virtual-3/2029-01-18/
CATEGORIES:Nashville
ORGANIZER;CN="Goodwill Middle Tennessee":MAILTO:training@givegw.org
END:VEVENT
BEGIN:VEVENT
DTSTART;TZID=America/Chicago:20290123T100000
DTEND;TZID=America/Chicago:20290123T120000
DTSTAMP:20260425T121314
CREATED:20260422T203854Z
LAST-MODIFIED:20260422T204235Z
UID:10029687-1863856800-1863864000@giveit2goodwill.org
SUMMARY:Work from Home (Virtual)
DESCRIPTION:Goodwill Career Solutions will conduct a free Virtual Work from Home Class on the last Tuesday of every month from 10:00 AM – 12:00 PM. Participants must pre-register by visiting their closet Career Center or calling (615) 742-4151.
URL:https://giveit2goodwill.org/calendar/work-from-home-virtual-2/2029-01-23/
CATEGORIES:Virtual
ORGANIZER;CN="Goodwill Middle Tennessee":MAILTO:training@givegw.org
END:VEVENT
BEGIN:VEVENT
DTSTART;TZID=America/Chicago:20290124T090000
DTEND;TZID=America/Chicago:20290124T110000
DTSTAMP:20260425T121314
CREATED:20260327T150810Z
LAST-MODIFIED:20260422T204430Z
UID:10028610-1863939600-1863946800@giveit2goodwill.org
SUMMARY:Beginner Google Workspace in Murfreesboro
DESCRIPTION:Goodwill Career Solutions will conduct a free Beginner Google Workspace Class from 9 a.m. – 11 a.m. on Wednesday\, May 27\, at the Murfreesboro Career Solutions Location. Participants must pre-register by visiting the closest career center or calling (615) 346-1818.
URL:https://giveit2goodwill.org/calendar/beginner-google-workspace-in-murfreesboro/2029-01-24/
CATEGORIES:Murfreesboro
ORGANIZER;CN="Goodwill Middle Tennessee":MAILTO:training@givegw.org
END:VEVENT
BEGIN:VEVENT
DTSTART;TZID=America/Chicago:20290124T120000
DTEND;TZID=America/Chicago:20290124T140000
DTSTAMP:20260425T121314
CREATED:20260422T210909Z
LAST-MODIFIED:20260422T210909Z
UID:10029851-1863950400-1863957600@giveit2goodwill.org
SUMMARY:Intermediate Google Workspace in Murfreesboro
DESCRIPTION:Goodwill Career Solutions will conduct a free Intermediate Google Workspace Class from 12 p.m. – 2 p.m. on the last Wednesday of every other month\, at the Murfreesboro Career Solutions Location. Participants must pre-register by visiting the closest career center or calling (615) 346-1818.
URL:https://giveit2goodwill.org/calendar/intermediate-google-workspace-in-murfreesboro/2029-01-24/
LOCATION:Murfreesboro Goodwill Career Solutions\, 2955 S. Church St.\, Murfreesboro\, TN\, 37127\, United States
CATEGORIES:Murfreesboro
ORGANIZER;CN="Goodwill Middle Tennessee":MAILTO:training@givegw.org
END:VEVENT
BEGIN:VEVENT
DTSTART;TZID=America/Chicago:20290125T110000
DTEND;TZID=America/Chicago:20290125T120000
DTSTAMP:20260425T121314
CREATED:20260327T150552Z
LAST-MODIFIED:20260422T205433Z
UID:10029808-1864033200-1864036800@giveit2goodwill.org
SUMMARY:Resume Writing (Virtual)
DESCRIPTION:Goodwill Career Solutions will conduct a free Virtual Resume Writing Class on the first Wednesday and third and fourth Thursday of every month from 11:00PM – 12:00PM. Participants must pre-register by at their closet Career Center or calling (615) 742-4151.
URL:https://giveit2goodwill.org/calendar/resume-writing-virtual/2029-01-25/
CATEGORIES:Nashville
ORGANIZER;CN="Goodwill Middle Tennessee":MAILTO:training@givegw.org
END:VEVENT
BEGIN:VEVENT
DTSTART;TZID=America/Chicago:20290125T130000
DTEND;TZID=America/Chicago:20290125T140000
DTSTAMP:20260425T121314
CREATED:20260327T131957Z
LAST-MODIFIED:20260422T205204Z
UID:10029748-1864040400-1864044000@giveit2goodwill.org
SUMMARY:Interviewing for Work (Virtual)
DESCRIPTION:Goodwill Career Solutions will conduct a free Virtual Interviewing for Work Class on the first Wednesday and third and fourth Thursday of every month from 1:00PM – 2:00PM. Participants must pre-register by at their closet Career Center or calling (615) 742-4151.
URL:https://giveit2goodwill.org/calendar/interviewing-for-work-virtual-2/2029-01-25/
CATEGORIES:Nashville
ORGANIZER;CN="Goodwill Middle Tennessee":MAILTO:training@givegw.org
END:VEVENT
BEGIN:VEVENT
DTSTART;TZID=America/Chicago:20290207T110000
DTEND;TZID=America/Chicago:20290207T120000
DTSTAMP:20260425T121314
CREATED:20250827T134538Z
LAST-MODIFIED:20260422T195306Z
UID:10029208-1865156400-1865160000@giveit2goodwill.org
SUMMARY:Resume Writing (Virtual Training)
DESCRIPTION:Goodwill Career Solutions will conduct a free Virtual Resume Writing Class on the first Wednesday and third and fourth Thursday of every month from 11:00AM – 12:00PM. Participants must pre-register by at their closet Career Center or calling (615) 742-4151.
URL:https://giveit2goodwill.org/calendar/resume-writing-virtual-training/2029-02-07/
CATEGORIES:Nashville
END:VEVENT
BEGIN:VEVENT
DTSTART;TZID=America/Chicago:20290207T130000
DTEND;TZID=America/Chicago:20290207T140000
DTSTAMP:20260425T121314
CREATED:20260327T125250Z
LAST-MODIFIED:20260422T154141Z
UID:10029028-1865163600-1865167200@giveit2goodwill.org
SUMMARY:Interviewing for Work (Virtual)
DESCRIPTION:Goodwill Career Solutions will conduct a free Virtual Interviewing for Work Class on the first Wednesday\, third Thursday\, and last Thursday of every month from 1:00 PM – 2:00 PM. Participants must pre-register by visiting their closet Career Center or calling (615) 742-4151.
URL:https://giveit2goodwill.org/calendar/interviewing-for-work-virtual/2029-02-07/
CATEGORIES:Nashville
ORGANIZER;CN="Goodwill Middle Tennessee":MAILTO:training@givegw.org
END:VEVENT
END:VCALENDAR