BEGIN:VCALENDAR
VERSION:2.0
PRODID:-//Goodwill Industries of Middle Tennessee, Inc. - ECPv6.15.13//NONSGML v1.0//EN
CALSCALE:GREGORIAN
METHOD:PUBLISH
X-ORIGINAL-URL:https://giveit2goodwill.org
X-WR-CALDESC:Events for Goodwill Industries of Middle Tennessee, Inc.
REFRESH-INTERVAL;VALUE=DURATION:PT1H
X-Robots-Tag:noindex
X-PUBLISHED-TTL:PT1H
BEGIN:VTIMEZONE
TZID:America/Chicago
BEGIN:DAYLIGHT
TZOFFSETFROM:-0600
TZOFFSETTO:-0500
TZNAME:CDT
DTSTART:20280312T080000
END:DAYLIGHT
BEGIN:STANDARD
TZOFFSETFROM:-0500
TZOFFSETTO:-0600
TZNAME:CST
DTSTART:20281105T070000
END:STANDARD
BEGIN:DAYLIGHT
TZOFFSETFROM:-0600
TZOFFSETTO:-0500
TZNAME:CDT
DTSTART:20290311T080000
END:DAYLIGHT
BEGIN:STANDARD
TZOFFSETFROM:-0500
TZOFFSETTO:-0600
TZNAME:CST
DTSTART:20291104T070000
END:STANDARD
BEGIN:DAYLIGHT
TZOFFSETFROM:-0600
TZOFFSETTO:-0500
TZNAME:CDT
DTSTART:20300310T080000
END:DAYLIGHT
BEGIN:STANDARD
TZOFFSETFROM:-0500
TZOFFSETTO:-0600
TZNAME:CST
DTSTART:20301103T070000
END:STANDARD
END:VTIMEZONE
BEGIN:VEVENT
DTSTART;TZID=America/Chicago:20290614T100000
DTEND;TZID=America/Chicago:20290614T120000
DTSTAMP:20260425T100444
CREATED:20260422T201148Z
LAST-MODIFIED:20260422T201148Z
UID:10029332-1876125600-1876132800@giveit2goodwill.org
SUMMARY:Work from Home (Virtual)
DESCRIPTION:Goodwill Career Solutions will conduct a free Virtual Work from Home Class on the second Thursday of every month from 10:00 AM – 12:00 PM. Participants must pre-register by visiting their closet Career Center or calling (615) 742-4151.
URL:https://giveit2goodwill.org/calendar/work-from-home-virtual/2029-06-14/
CATEGORIES:Virtual
ORGANIZER;CN="Goodwill Middle Tennessee":MAILTO:training@givegw.org
END:VEVENT
BEGIN:VEVENT
DTSTART;TZID=America/Chicago:20290614T120000
DTEND;TZID=America/Chicago:20290614T140000
DTSTAMP:20260425T100444
CREATED:20260422T200749Z
LAST-MODIFIED:20260422T200749Z
UID:10029272-1876132800-1876140000@giveit2goodwill.org
SUMMARY:Money Matters in Brentwood
DESCRIPTION:Goodwill Career Solutions will conduct a free Money Matters (Financial Literacy) Class on the second Thursday of each month from 12 p.m. – 2 p.m.\, at the Brentwood (Mill Creek) Career Solutions Location. Participants must pre-register by visiting the career center or calling (615) 953-0040.
URL:https://giveit2goodwill.org/calendar/money-matters-in-brentwood/2029-06-14/
LOCATION:Mill Creek Career Solutions\, 6708 Nolensville Pike\, Brentwood\, TN\, 37027\, United States
CATEGORIES:Brentwood
ORGANIZER;CN="Goodwill Middle Tennessee":MAILTO:training@givegw.org
END:VEVENT
BEGIN:VEVENT
DTSTART;TZID=America/Chicago:20290614T130000
DTEND;TZID=America/Chicago:20290614T150000
DTSTAMP:20260425T100444
CREATED:20260422T201444Z
LAST-MODIFIED:20260422T201444Z
UID:10029392-1876136400-1876143600@giveit2goodwill.org
SUMMARY:Explore & Apply (Virtual)
DESCRIPTION:Goodwill Career Solutions will conduct a free Virtual Explore Jobs Online & Apply for Work Class on the second Thursday of every month from 1:00 PM – 3:00 PM. Participants must pre-register by visiting their closet Career Center or calling (615) 742-4151.
URL:https://giveit2goodwill.org/calendar/explore-apply-virtual/2029-06-14/
CATEGORIES:Virtual
ORGANIZER;CN="Goodwill Middle Tennessee":MAILTO:training@givegw.org
END:VEVENT
BEGIN:VEVENT
DTSTART;TZID=America/Chicago:20290618T090000
DTEND;TZID=America/Chicago:20290618T110000
DTSTAMP:20260425T100444
CREATED:20260326T201957Z
LAST-MODIFIED:20260327T140146Z
UID:10027680-1876467600-1876474800@giveit2goodwill.org
SUMMARY:Beginner Google Workspace in Dickson
DESCRIPTION:Goodwill Career Solutions will conduct a free Beginner Google Workspace Class from 9 a.m. – 12 p.m. on the third Monday of every other month\, at the Dickson Career Solutions Location. Participants must pre-register by visiting the career center or calling (615) 377-2566.
URL:https://giveit2goodwill.org/calendar/beginner-ops/2029-06-18/
CATEGORIES:Dickson
ORGANIZER;CN="Goodwill Middle Tennessee":MAILTO:training@givegw.org
END:VEVENT
BEGIN:VEVENT
DTSTART;TZID=America/Chicago:20290619T090000
DTEND;TZID=America/Chicago:20290619T120000
DTSTAMP:20260425T100444
CREATED:20260422T202457Z
LAST-MODIFIED:20260422T202457Z
UID:10029512-1876554000-1876564800@giveit2goodwill.org
SUMMARY:Beginner OPS in Spring Hill
DESCRIPTION:Goodwill Career Solutions will conduct a free Beginner Office Productivity Class from 9 a.m.-noon on the fourth Tuesday of every other month\, at the Spring Hill Career Solutions Location. Participants must pre-register by visiting their closest career center or calling (931) 548-3460.
URL:https://giveit2goodwill.org/calendar/beginner-ops-in-spring-hill-2/2029-06-19/
LOCATION:Spring Hill Goodwill Career Solutions\, 1008 Nasdaq St.\, Spring Hill\, TN\, 37174
CATEGORIES:Spring Hill
ORGANIZER;CN="Goodwill Middle Tennessee":MAILTO:training@givegw.org
END:VEVENT
BEGIN:VEVENT
DTSTART;TZID=America/Chicago:20290619T100000
DTEND;TZID=America/Chicago:20290619T120000
DTSTAMP:20260425T100444
CREATED:20250722T222503Z
LAST-MODIFIED:20260327T140429Z
UID:10028036-1876557600-1876564800@giveit2goodwill.org
SUMMARY:Beginner Google Workspace in Nashville
DESCRIPTION:Goodwill Career Solutions will conduct a free Beginner Google Workspace Class on the third Tuesday of every month from 10 a.m. – 12 p.m. at the Nashville Career Solutions Location (Lifsey Building). Participants must pre-register by visiting www.giveit2goodwill.org/digital-literacy or calling (615) 742-4151.
URL:https://giveit2goodwill.org/calendar/beginner-google-workspace-in-nashville-2/2029-06-19/
CATEGORIES:Nashville
END:VEVENT
BEGIN:VEVENT
DTSTART;TZID=America/Chicago:20290619T100000
DTEND;TZID=America/Chicago:20290619T120000
DTSTAMP:20260425T100444
CREATED:20260422T202050Z
LAST-MODIFIED:20260422T202050Z
UID:10029452-1876557600-1876564800@giveit2goodwill.org
SUMMARY:Explore & Apply (Virtual)
DESCRIPTION:Goodwill Career Solutions will conduct a free Virtual Explore Jobs Online & Apply for Work Class on the third Tuesday of every month from 10:00 AM – 12:00 PM. Participants must pre-register by visiting their closet Career Center or calling (615) 742-4151.
URL:https://giveit2goodwill.org/calendar/explore-apply-virtual-2/2029-06-19/
CATEGORIES:Virtual
ORGANIZER;CN="Goodwill Middle Tennessee":MAILTO:training@givegw.org
END:VEVENT
BEGIN:VEVENT
DTSTART;TZID=America/Chicago:20290619T130000
DTEND;TZID=America/Chicago:20290619T153000
DTSTAMP:20260425T100444
CREATED:20250722T222705Z
LAST-MODIFIED:20260327T141207Z
UID:10028156-1876568400-1876577400@giveit2goodwill.org
SUMMARY:Intermediate Google Workspace in Nashville
DESCRIPTION:Goodwill Career Solutions will conduct a free Intermediate Google Workspace Class on the third Tuesday of every month from 1 p.m. – 3:30 p.m. at the Nashville Career Solutions Location (Lifsey Building). Participants must pre-register by visiting www.giveit2goodwill.org/digital-literacy or calling (615) 742-4151.
URL:https://giveit2goodwill.org/calendar/intermediate-google-workspace-in-nashville-2/2029-06-19/
CATEGORIES:Nashville
END:VEVENT
BEGIN:VEVENT
DTSTART;TZID=America/Chicago:20290620T090000
DTEND;TZID=America/Chicago:20290620T120000
DTSTAMP:20260425T100444
CREATED:20250916T200803Z
LAST-MODIFIED:20260327T142614Z
UID:10028377-1876640400-1876651200@giveit2goodwill.org
SUMMARY:Beginner OPS in Mt. Juliet
DESCRIPTION:Goodwill Career Solutions will conduct a free Beginner Office Productivity Class from 9 a.m. – 12 p.m. on the third Wednesday of every other month. Participants must pre-register by visiting a career center or calling (615) 288-2389.
URL:https://giveit2goodwill.org/calendar/beginner-ops-in-mt-juliet/2029-06-20/
CATEGORIES:Mt. Juliet
ORGANIZER;CN="Goodwill Middle Tennessee":MAILTO:training@givegw.org
END:VEVENT
BEGIN:VEVENT
DTSTART;TZID=America/Chicago:20290620T130000
DTEND;TZID=America/Chicago:20290620T153000
DTSTAMP:20260425T100444
CREATED:20251226T220931Z
LAST-MODIFIED:20260421T184616Z
UID:10028408-1876654800-1876663800@giveit2goodwill.org
SUMMARY:Intermediate OPS in Mt. Juliet
DESCRIPTION:Goodwill Career Solutions will conduct a free Intermediate Office Productivity Class from 1 p.m. – 3:30 p.m. on the third Wednesday of every other month. Participants must pre-register by visiting a career center or calling (615) 288-2389.
URL:https://giveit2goodwill.org/calendar/intermediate-ops-in-mt-juliet/2029-06-20/
LOCATION:Mt. Juliet Goodwill Career Solutions\, 1985 Providence West Parkway\, Mt. Juliet\, TN\, 37122\, United States
CATEGORIES:Mt. Juliet
ORGANIZER;CN="Goodwill Middle Tennessee":MAILTO:training@givegw.org
END:VEVENT
BEGIN:VEVENT
DTSTART;TZID=America/Chicago:20290621T110000
DTEND;TZID=America/Chicago:20290621T120000
DTSTAMP:20260425T100444
CREATED:20260422T203229Z
LAST-MODIFIED:20260422T203229Z
UID:10029572-1876734000-1876737600@giveit2goodwill.org
SUMMARY:Resume Writing (Virtual Training)
DESCRIPTION:Goodwill Career Solutions will conduct a free Virtual Resume Writing Class on the first Wednesday\, third Thursday\, and last Thursday of every month from 11:00 AM – 12:00 PM. Participants must pre-register by visiting their closet Career Center or calling (615) 742-4151.
URL:https://giveit2goodwill.org/calendar/resume-writing-virtual-training-2/2029-06-21/
CATEGORIES:Virtual
ORGANIZER;CN="Goodwill Middle Tennessee":MAILTO:training@givegw.org
END:VEVENT
BEGIN:VEVENT
DTSTART;TZID=America/Chicago:20290621T130000
DTEND;TZID=America/Chicago:20290621T140000
DTSTAMP:20260425T100444
CREATED:20260422T155221Z
LAST-MODIFIED:20260422T155221Z
UID:10029092-1876741200-1876744800@giveit2goodwill.org
SUMMARY:Interviewing for Work (Virtual)
DESCRIPTION:Goodwill Career Solutions will conduct a free Virtual Interviewing for Work Class on the first Wednesday\, third Thursday\, and last Thursday of every month from 1:00 PM – 2:00 PM. Participants must pre-register by visiting their closet Career Center or calling (615) 742-4151.
URL:https://giveit2goodwill.org/calendar/interviewing-for-work-virtual-3/2029-06-21/
CATEGORIES:Nashville
ORGANIZER;CN="Goodwill Middle Tennessee":MAILTO:training@givegw.org
END:VEVENT
BEGIN:VEVENT
DTSTART;TZID=America/Chicago:20290626T090000
DTEND;TZID=America/Chicago:20290626T120000
DTSTAMP:20260425T100444
CREATED:20250827T144456Z
LAST-MODIFIED:20260327T150218Z
UID:10028505-1877158800-1877169600@giveit2goodwill.org
SUMMARY:Beginner OPS in Hendersonville
DESCRIPTION:Goodwill Career Solutions will conduct a free Beginner Office Productivity Class from 9 a.m. – 12 p.m. on the fourth Tuesday of every other month\, at the Hendersonville Career Solutions Location (Indian Lake). Participants must pre-register by visiting their closest career center or calling (615) 346-1810.
URL:https://giveit2goodwill.org/calendar/beginner-ops-in-hendersonville-3/2029-06-26/
CATEGORIES:Hendersonville
END:VEVENT
BEGIN:VEVENT
DTSTART;TZID=America/Chicago:20290626T100000
DTEND;TZID=America/Chicago:20290626T120000
DTSTAMP:20260425T100444
CREATED:20260422T203854Z
LAST-MODIFIED:20260422T204235Z
UID:10029692-1877162400-1877169600@giveit2goodwill.org
SUMMARY:Work from Home (Virtual)
DESCRIPTION:Goodwill Career Solutions will conduct a free Virtual Work from Home Class on the last Tuesday of every month from 10:00 AM – 12:00 PM. Participants must pre-register by visiting their closet Career Center or calling (615) 742-4151.
URL:https://giveit2goodwill.org/calendar/work-from-home-virtual-2/2029-06-26/
CATEGORIES:Virtual
ORGANIZER;CN="Goodwill Middle Tennessee":MAILTO:training@givegw.org
END:VEVENT
BEGIN:VEVENT
DTSTART;TZID=America/Chicago:20290627T090000
DTEND;TZID=America/Chicago:20290627T110000
DTSTAMP:20260425T100444
CREATED:20260327T150810Z
LAST-MODIFIED:20260422T204430Z
UID:10028615-1877245200-1877252400@giveit2goodwill.org
SUMMARY:Beginner Google Workspace in Murfreesboro
DESCRIPTION:Goodwill Career Solutions will conduct a free Beginner Google Workspace Class from 9 a.m. – 11 a.m. on Wednesday\, May 27\, at the Murfreesboro Career Solutions Location. Participants must pre-register by visiting the closest career center or calling (615) 346-1818.
URL:https://giveit2goodwill.org/calendar/beginner-google-workspace-in-murfreesboro/2029-06-27/
CATEGORIES:Murfreesboro
ORGANIZER;CN="Goodwill Middle Tennessee":MAILTO:training@givegw.org
END:VEVENT
BEGIN:VEVENT
DTSTART;TZID=America/Chicago:20290628T110000
DTEND;TZID=America/Chicago:20290628T120000
DTSTAMP:20260425T100444
CREATED:20260327T150552Z
LAST-MODIFIED:20260422T205433Z
UID:10029813-1877338800-1877342400@giveit2goodwill.org
SUMMARY:Resume Writing (Virtual)
DESCRIPTION:Goodwill Career Solutions will conduct a free Virtual Resume Writing Class on the first Wednesday and third and fourth Thursday of every month from 11:00PM – 12:00PM. Participants must pre-register by at their closet Career Center or calling (615) 742-4151.
URL:https://giveit2goodwill.org/calendar/resume-writing-virtual/2029-06-28/
CATEGORIES:Nashville
ORGANIZER;CN="Goodwill Middle Tennessee":MAILTO:training@givegw.org
END:VEVENT
BEGIN:VEVENT
DTSTART;TZID=America/Chicago:20290628T130000
DTEND;TZID=America/Chicago:20290628T140000
DTSTAMP:20260425T100444
CREATED:20260327T131957Z
LAST-MODIFIED:20260422T205204Z
UID:10029753-1877346000-1877349600@giveit2goodwill.org
SUMMARY:Interviewing for Work (Virtual)
DESCRIPTION:Goodwill Career Solutions will conduct a free Virtual Interviewing for Work Class on the first Wednesday and third and fourth Thursday of every month from 1:00PM – 2:00PM. Participants must pre-register by at their closet Career Center or calling (615) 742-4151.
URL:https://giveit2goodwill.org/calendar/interviewing-for-work-virtual-2/2029-06-28/
CATEGORIES:Nashville
ORGANIZER;CN="Goodwill Middle Tennessee":MAILTO:training@givegw.org
END:VEVENT
BEGIN:VEVENT
DTSTART;TZID=America/Chicago:20290704T110000
DTEND;TZID=America/Chicago:20290704T120000
DTSTAMP:20260425T100444
CREATED:20250827T134538Z
LAST-MODIFIED:20260422T195306Z
UID:10029213-1877857200-1877860800@giveit2goodwill.org
SUMMARY:Resume Writing (Virtual Training)
DESCRIPTION:Goodwill Career Solutions will conduct a free Virtual Resume Writing Class on the first Wednesday and third and fourth Thursday of every month from 11:00AM – 12:00PM. Participants must pre-register by at their closet Career Center or calling (615) 742-4151.
URL:https://giveit2goodwill.org/calendar/resume-writing-virtual-training/2029-07-04/
CATEGORIES:Nashville
END:VEVENT
BEGIN:VEVENT
DTSTART;TZID=America/Chicago:20290704T130000
DTEND;TZID=America/Chicago:20290704T140000
DTSTAMP:20260425T100444
CREATED:20260327T125250Z
LAST-MODIFIED:20260422T154141Z
UID:10029033-1877864400-1877868000@giveit2goodwill.org
SUMMARY:Interviewing for Work (Virtual)
DESCRIPTION:Goodwill Career Solutions will conduct a free Virtual Interviewing for Work Class on the first Wednesday\, third Thursday\, and last Thursday of every month from 1:00 PM – 2:00 PM. Participants must pre-register by visiting their closet Career Center or calling (615) 742-4151.
URL:https://giveit2goodwill.org/calendar/interviewing-for-work-virtual/2029-07-04/
CATEGORIES:Nashville
ORGANIZER;CN="Goodwill Middle Tennessee":MAILTO:training@givegw.org
END:VEVENT
BEGIN:VEVENT
DTSTART;TZID=America/Chicago:20290710T130000
DTEND;TZID=America/Chicago:20290710T153000
DTSTAMP:20260425T100444
CREATED:20250708T025524Z
LAST-MODIFIED:20260327T141801Z
UID:10028337-1878382800-1878391800@giveit2goodwill.org
SUMMARY:Intermediate OPS in Nashville
DESCRIPTION:Goodwill Career Solutions will conduct a free Intermediate Office Productivity Class on the second Tuesday of each month from 1 p.m. – 3:30 p.m. at the Nashville Career Solutions Location (Lifsey Building). Participants must pre-register by visiting www.giveit2goodwill.org/digital-literacy or calling (615) 742-4151.
URL:https://giveit2goodwill.org/calendar/intermediate-ops-in-nashville/2029-07-10/
CATEGORIES:Nashville
END:VEVENT
BEGIN:VEVENT
DTSTART;TZID=America/Chicago:20290710T140000
DTEND;TZID=America/Chicago:20290710T160000
DTSTAMP:20260425T100444
CREATED:20250827T140639Z
LAST-MODIFIED:20260422T193805Z
UID:10022847-1878386400-1878393600@giveit2goodwill.org
SUMMARY:Basic Digital Literacy in Lebanon
DESCRIPTION:Goodwill Career Solutions will conduct a free Basic Digital Literacy Class from 2:00 p.m. – 4:00 p.m. on the second Tuesday of every other month\, at the Lebanon Career Solutions Location (Indian Lake). Participants must pre-register by visiting the closet career center or calling (615) 742-4151.
URL:https://giveit2goodwill.org/calendar/money-matters-financial-lit-in-lebanon/2029-07-10/
LOCATION:Lebanon Career Solutions\, 1414 W Main St\, Lebanon\, TN\, 37087\, United States
CATEGORIES:Lebanon
END:VEVENT
BEGIN:VEVENT
DTSTART;TZID=America/Chicago:20290712T100000
DTEND;TZID=America/Chicago:20290712T120000
DTSTAMP:20260425T100444
CREATED:20260422T201148Z
LAST-MODIFIED:20260422T201148Z
UID:10029333-1878544800-1878552000@giveit2goodwill.org
SUMMARY:Work from Home (Virtual)
DESCRIPTION:Goodwill Career Solutions will conduct a free Virtual Work from Home Class on the second Thursday of every month from 10:00 AM – 12:00 PM. Participants must pre-register by visiting their closet Career Center or calling (615) 742-4151.
URL:https://giveit2goodwill.org/calendar/work-from-home-virtual/2029-07-12/
CATEGORIES:Virtual
ORGANIZER;CN="Goodwill Middle Tennessee":MAILTO:training@givegw.org
END:VEVENT
BEGIN:VEVENT
DTSTART;TZID=America/Chicago:20290712T120000
DTEND;TZID=America/Chicago:20290712T140000
DTSTAMP:20260425T100444
CREATED:20260422T200749Z
LAST-MODIFIED:20260422T200749Z
UID:10029273-1878552000-1878559200@giveit2goodwill.org
SUMMARY:Money Matters in Brentwood
DESCRIPTION:Goodwill Career Solutions will conduct a free Money Matters (Financial Literacy) Class on the second Thursday of each month from 12 p.m. – 2 p.m.\, at the Brentwood (Mill Creek) Career Solutions Location. Participants must pre-register by visiting the career center or calling (615) 953-0040.
URL:https://giveit2goodwill.org/calendar/money-matters-in-brentwood/2029-07-12/
LOCATION:Mill Creek Career Solutions\, 6708 Nolensville Pike\, Brentwood\, TN\, 37027\, United States
CATEGORIES:Brentwood
ORGANIZER;CN="Goodwill Middle Tennessee":MAILTO:training@givegw.org
END:VEVENT
BEGIN:VEVENT
DTSTART;TZID=America/Chicago:20290712T130000
DTEND;TZID=America/Chicago:20290712T150000
DTSTAMP:20260425T100444
CREATED:20260422T201444Z
LAST-MODIFIED:20260422T201444Z
UID:10029393-1878555600-1878562800@giveit2goodwill.org
SUMMARY:Explore & Apply (Virtual)
DESCRIPTION:Goodwill Career Solutions will conduct a free Virtual Explore Jobs Online & Apply for Work Class on the second Thursday of every month from 1:00 PM – 3:00 PM. Participants must pre-register by visiting their closet Career Center or calling (615) 742-4151.
URL:https://giveit2goodwill.org/calendar/explore-apply-virtual/2029-07-12/
CATEGORIES:Virtual
ORGANIZER;CN="Goodwill Middle Tennessee":MAILTO:training@givegw.org
END:VEVENT
BEGIN:VEVENT
DTSTART;TZID=America/Chicago:20290717T090000
DTEND;TZID=America/Chicago:20290717T120000
DTSTAMP:20260425T100444
CREATED:20260422T202457Z
LAST-MODIFIED:20260422T202457Z
UID:10029513-1878973200-1878984000@giveit2goodwill.org
SUMMARY:Beginner OPS in Spring Hill
DESCRIPTION:Goodwill Career Solutions will conduct a free Beginner Office Productivity Class from 9 a.m.-noon on the fourth Tuesday of every other month\, at the Spring Hill Career Solutions Location. Participants must pre-register by visiting their closest career center or calling (931) 548-3460.
URL:https://giveit2goodwill.org/calendar/beginner-ops-in-spring-hill-2/2029-07-17/
LOCATION:Spring Hill Goodwill Career Solutions\, 1008 Nasdaq St.\, Spring Hill\, TN\, 37174
CATEGORIES:Spring Hill
ORGANIZER;CN="Goodwill Middle Tennessee":MAILTO:training@givegw.org
END:VEVENT
BEGIN:VEVENT
DTSTART;TZID=America/Chicago:20290717T100000
DTEND;TZID=America/Chicago:20290717T120000
DTSTAMP:20260425T100444
CREATED:20250722T222503Z
LAST-MODIFIED:20260327T140429Z
UID:10028037-1878976800-1878984000@giveit2goodwill.org
SUMMARY:Beginner Google Workspace in Nashville
DESCRIPTION:Goodwill Career Solutions will conduct a free Beginner Google Workspace Class on the third Tuesday of every month from 10 a.m. – 12 p.m. at the Nashville Career Solutions Location (Lifsey Building). Participants must pre-register by visiting www.giveit2goodwill.org/digital-literacy or calling (615) 742-4151.
URL:https://giveit2goodwill.org/calendar/beginner-google-workspace-in-nashville-2/2029-07-17/
CATEGORIES:Nashville
END:VEVENT
BEGIN:VEVENT
DTSTART;TZID=America/Chicago:20290717T100000
DTEND;TZID=America/Chicago:20290717T120000
DTSTAMP:20260425T100444
CREATED:20260422T202050Z
LAST-MODIFIED:20260422T202050Z
UID:10029453-1878976800-1878984000@giveit2goodwill.org
SUMMARY:Explore & Apply (Virtual)
DESCRIPTION:Goodwill Career Solutions will conduct a free Virtual Explore Jobs Online & Apply for Work Class on the third Tuesday of every month from 10:00 AM – 12:00 PM. Participants must pre-register by visiting their closet Career Center or calling (615) 742-4151.
URL:https://giveit2goodwill.org/calendar/explore-apply-virtual-2/2029-07-17/
CATEGORIES:Virtual
ORGANIZER;CN="Goodwill Middle Tennessee":MAILTO:training@givegw.org
END:VEVENT
BEGIN:VEVENT
DTSTART;TZID=America/Chicago:20290717T130000
DTEND;TZID=America/Chicago:20290717T153000
DTSTAMP:20260425T100444
CREATED:20250722T222705Z
LAST-MODIFIED:20260327T141207Z
UID:10028157-1878987600-1878996600@giveit2goodwill.org
SUMMARY:Intermediate Google Workspace in Nashville
DESCRIPTION:Goodwill Career Solutions will conduct a free Intermediate Google Workspace Class on the third Tuesday of every month from 1 p.m. – 3:30 p.m. at the Nashville Career Solutions Location (Lifsey Building). Participants must pre-register by visiting www.giveit2goodwill.org/digital-literacy or calling (615) 742-4151.
URL:https://giveit2goodwill.org/calendar/intermediate-google-workspace-in-nashville-2/2029-07-17/
CATEGORIES:Nashville
END:VEVENT
BEGIN:VEVENT
DTSTART;TZID=America/Chicago:20290718T090000
DTEND;TZID=America/Chicago:20290718T120000
DTSTAMP:20260425T100444
CREATED:20250916T200803Z
LAST-MODIFIED:20260327T142614Z
UID:10026126-1879059600-1879070400@giveit2goodwill.org
SUMMARY:Beginner OPS in Mt. Juliet
DESCRIPTION:Goodwill Career Solutions will conduct a free Beginner Office Productivity Class from 9 a.m. – 12 p.m. on the third Wednesday of every other month. Participants must pre-register by visiting a career center or calling (615) 288-2389.
URL:https://giveit2goodwill.org/calendar/beginner-ops-in-mt-juliet/2029-07-18/
CATEGORIES:Mt. Juliet
ORGANIZER;CN="Goodwill Middle Tennessee":MAILTO:training@givegw.org
END:VEVENT
BEGIN:VEVENT
DTSTART;TZID=America/Chicago:20290718T130000
DTEND;TZID=America/Chicago:20290718T153000
DTSTAMP:20260425T100444
CREATED:20251226T220931Z
LAST-MODIFIED:20260421T184616Z
UID:10026276-1879074000-1879083000@giveit2goodwill.org
SUMMARY:Intermediate OPS in Mt. Juliet
DESCRIPTION:Goodwill Career Solutions will conduct a free Intermediate Office Productivity Class from 1 p.m. – 3:30 p.m. on the third Wednesday of every other month. Participants must pre-register by visiting a career center or calling (615) 288-2389.
URL:https://giveit2goodwill.org/calendar/intermediate-ops-in-mt-juliet/2029-07-18/
LOCATION:Mt. Juliet Goodwill Career Solutions\, 1985 Providence West Parkway\, Mt. Juliet\, TN\, 37122\, United States
CATEGORIES:Mt. Juliet
ORGANIZER;CN="Goodwill Middle Tennessee":MAILTO:training@givegw.org
END:VEVENT
END:VCALENDAR