BEGIN:VCALENDAR
VERSION:2.0
PRODID:-//Goodwill Industries of Middle Tennessee, Inc. - ECPv6.15.13//NONSGML v1.0//EN
CALSCALE:GREGORIAN
METHOD:PUBLISH
X-ORIGINAL-URL:https://giveit2goodwill.org
X-WR-CALDESC:Events for Goodwill Industries of Middle Tennessee, Inc.
REFRESH-INTERVAL;VALUE=DURATION:PT1H
X-Robots-Tag:noindex
X-PUBLISHED-TTL:PT1H
BEGIN:VTIMEZONE
TZID:America/Chicago
BEGIN:DAYLIGHT
TZOFFSETFROM:-0600
TZOFFSETTO:-0500
TZNAME:CDT
DTSTART:20250309T080000
END:DAYLIGHT
BEGIN:STANDARD
TZOFFSETFROM:-0500
TZOFFSETTO:-0600
TZNAME:CST
DTSTART:20251102T070000
END:STANDARD
BEGIN:DAYLIGHT
TZOFFSETFROM:-0600
TZOFFSETTO:-0500
TZNAME:CDT
DTSTART:20260308T080000
END:DAYLIGHT
BEGIN:STANDARD
TZOFFSETFROM:-0500
TZOFFSETTO:-0600
TZNAME:CST
DTSTART:20261101T070000
END:STANDARD
BEGIN:DAYLIGHT
TZOFFSETFROM:-0600
TZOFFSETTO:-0500
TZNAME:CDT
DTSTART:20270314T080000
END:DAYLIGHT
BEGIN:STANDARD
TZOFFSETFROM:-0500
TZOFFSETTO:-0600
TZNAME:CST
DTSTART:20271107T070000
END:STANDARD
END:VTIMEZONE
BEGIN:VEVENT
DTSTART;TZID=America/Chicago:20260611T120000
DTEND;TZID=America/Chicago:20260611T140000
DTSTAMP:20260425T052934
CREATED:20260422T200749Z
LAST-MODIFIED:20260422T200749Z
UID:10029236-1781179200-1781186400@giveit2goodwill.org
SUMMARY:Money Matters in Brentwood
DESCRIPTION:Goodwill Career Solutions will conduct a free Money Matters (Financial Literacy) Class on the second Thursday of each month from 12 p.m. – 2 p.m.\, at the Brentwood (Mill Creek) Career Solutions Location. Participants must pre-register by visiting the career center or calling (615) 953-0040.
URL:https://giveit2goodwill.org/calendar/money-matters-in-brentwood/2026-06-11/
LOCATION:Mill Creek Career Solutions\, 6708 Nolensville Pike\, Brentwood\, TN\, 37027\, United States
CATEGORIES:Brentwood
ORGANIZER;CN="Goodwill Middle Tennessee":MAILTO:training@givegw.org
END:VEVENT
END:VCALENDAR