BEGIN:VCALENDAR
VERSION:2.0
PRODID:-//Goodwill Industries of Middle Tennessee, Inc. - ECPv6.15.13//NONSGML v1.0//EN
CALSCALE:GREGORIAN
METHOD:PUBLISH
X-ORIGINAL-URL:https://giveit2goodwill.org
X-WR-CALDESC:Events for Goodwill Industries of Middle Tennessee, Inc.
REFRESH-INTERVAL;VALUE=DURATION:PT1H
X-Robots-Tag:noindex
X-PUBLISHED-TTL:PT1H
BEGIN:VTIMEZONE
TZID:America/Chicago
BEGIN:DAYLIGHT
TZOFFSETFROM:-0600
TZOFFSETTO:-0500
TZNAME:CDT
DTSTART:20250309T080000
END:DAYLIGHT
BEGIN:STANDARD
TZOFFSETFROM:-0500
TZOFFSETTO:-0600
TZNAME:CST
DTSTART:20251102T070000
END:STANDARD
BEGIN:DAYLIGHT
TZOFFSETFROM:-0600
TZOFFSETTO:-0500
TZNAME:CDT
DTSTART:20260308T080000
END:DAYLIGHT
BEGIN:STANDARD
TZOFFSETFROM:-0500
TZOFFSETTO:-0600
TZNAME:CST
DTSTART:20261101T070000
END:STANDARD
BEGIN:DAYLIGHT
TZOFFSETFROM:-0600
TZOFFSETTO:-0500
TZNAME:CDT
DTSTART:20270314T080000
END:DAYLIGHT
BEGIN:STANDARD
TZOFFSETFROM:-0500
TZOFFSETTO:-0600
TZNAME:CST
DTSTART:20271107T070000
END:STANDARD
END:VTIMEZONE
BEGIN:VEVENT
DTSTART;TZID=America/Chicago:20260622T080000
DTEND;TZID=America/Chicago:20260622T170000
DTSTAMP:20260420T101029
CREATED:20260330T152837Z
LAST-MODIFIED:20260413T155857Z
UID:10028941-1782115200-1782147600@giveit2goodwill.org
SUMMARY:Construction Training Begins – Jackson
DESCRIPTION:Goodwill Career Solutions will conduct a free\, four-week Construction and Weatherization Training Program from 8:00 am – 5:00 pm four days per week at its facility at 1320 S. Highland Avenue in Jackson.    \nParticipants attend classes five days per week for four weeks at one of our Goodwill facilities in West Nashville or South Jackson. Three hours of each day are spent in the classroom\, and three are spent in the workshop. The course covers safety\, construction math\, hand and power tools\, blueprints\, rigging\, weatherization\, communication\, forklift operation\, employability skills and more. Graduates receive an OSHA 10 safety certification. \nWhat You’ll Learn:\nConstruction safety\nHands-on use of hand and power tools\nReading blueprints\nBasic rigging\nConstruction math\nEmployability skills and more \nWhat You’ll Receive:\nStudents receive a stipend of $100 per week while in the program\nOSHA 10 certification\nJob placement services upon completion\nParticipants must register as a Goodwill Client and be on a free service plan with a Career Coach.
URL:https://giveit2goodwill.org/calendar/construction-training-begins-jackson/2026-06-22/
LOCATION:Career Solutions-Jackson\, 1320 South Highland\, Jackson\, Tennessee\, 35301
ORGANIZER;CN="Goodwill Middle Tennessee":MAILTO:training@givegw.org
END:VEVENT
END:VCALENDAR