BEGIN:VCALENDAR
VERSION:2.0
PRODID:-//Goodwill Industries of Middle Tennessee, Inc. - ECPv6.15.13//NONSGML v1.0//EN
CALSCALE:GREGORIAN
METHOD:PUBLISH
X-WR-CALNAME:Goodwill Industries of Middle Tennessee, Inc.
X-ORIGINAL-URL:https://giveit2goodwill.org
X-WR-CALDESC:Events for Goodwill Industries of Middle Tennessee, Inc.
REFRESH-INTERVAL;VALUE=DURATION:PT1H
X-Robots-Tag:noindex
X-PUBLISHED-TTL:PT1H
BEGIN:VTIMEZONE
TZID:America/Chicago
BEGIN:DAYLIGHT
TZOFFSETFROM:-0600
TZOFFSETTO:-0500
TZNAME:CDT
DTSTART:20250309T080000
END:DAYLIGHT
BEGIN:STANDARD
TZOFFSETFROM:-0500
TZOFFSETTO:-0600
TZNAME:CST
DTSTART:20251102T070000
END:STANDARD
BEGIN:DAYLIGHT
TZOFFSETFROM:-0600
TZOFFSETTO:-0500
TZNAME:CDT
DTSTART:20260308T080000
END:DAYLIGHT
BEGIN:STANDARD
TZOFFSETFROM:-0500
TZOFFSETTO:-0600
TZNAME:CST
DTSTART:20261101T070000
END:STANDARD
BEGIN:DAYLIGHT
TZOFFSETFROM:-0600
TZOFFSETTO:-0500
TZNAME:CDT
DTSTART:20270314T080000
END:DAYLIGHT
BEGIN:STANDARD
TZOFFSETFROM:-0500
TZOFFSETTO:-0600
TZNAME:CST
DTSTART:20271107T070000
END:STANDARD
END:VTIMEZONE
BEGIN:VEVENT
DTSTART;TZID=America/Chicago:20261202T120000
DTEND;TZID=America/Chicago:20261202T130000
DTSTAMP:20260420T140513
CREATED:20250827T134538Z
LAST-MODIFIED:20260326T203220Z
UID:10027700-1796212800-1796216400@giveit2goodwill.org
SUMMARY:Resume Writing (Virtual Training)
DESCRIPTION:Goodwill Career Solutions will conduct a free Virtual Resume Writing Class on the first Wednesday and third and fourth Thursday of every month from 12:00PM – 1:00PM. Participants must pre-register by at their closet Career Center or calling (615) 742-4151.
URL:https://giveit2goodwill.org/calendar/resume-writing-virtual-training/2026-12-02/
CATEGORIES:Nashville
END:VEVENT
BEGIN:VEVENT
DTSTART;TZID=America/Chicago:20261202T133000
DTEND;TZID=America/Chicago:20261202T143000
DTSTAMP:20260420T140513
CREATED:20260327T125250Z
LAST-MODIFIED:20260327T131748Z
UID:10027766-1796218200-1796221800@giveit2goodwill.org
SUMMARY:Interviewing for Work (Virtual)
DESCRIPTION:Goodwill Career Solutions will conduct a free Virtual Interviewing for Work Class on the first Wednesday and third and fourth Thursday of every month from 1:30PM – 2:30PM. Participants must pre-register by at their closet Career Center or calling (615) 742-4151.
URL:https://giveit2goodwill.org/calendar/interviewing-for-work-virtual/2026-12-02/
CATEGORIES:Nashville
ORGANIZER;CN="Goodwill Middle Tennessee":MAILTO:training@givegw.org
END:VEVENT
BEGIN:VEVENT
DTSTART;TZID=America/Chicago:20261208T090000
DTEND;TZID=America/Chicago:20261208T120000
DTSTAMP:20260420T140513
CREATED:20250722T203649Z
LAST-MODIFIED:20260327T141425Z
UID:10028186-1796720400-1796731200@giveit2goodwill.org
SUMMARY:Beginner OPS in Nashville
DESCRIPTION:Goodwill Career Solutions will conduct a free Beginner Office Productivity Class on the second Tuesday of each month from 9 a.m. – 12 p.m. at the Nashville Career Solutions Location (Lifsey Building). Participants must pre-register by visiting www.giveit2goodwill.org/digital-literacy or calling (615) 742-4151.
URL:https://giveit2goodwill.org/calendar/beginner-ops-in-nashville-2/2026-12-08/
CATEGORIES:Nashville
END:VEVENT
BEGIN:VEVENT
DTSTART;TZID=America/Chicago:20261208T100000
DTEND;TZID=America/Chicago:20261208T120000
DTSTAMP:20260420T140513
CREATED:20250708T025523Z
LAST-MODIFIED:20260326T200951Z
UID:10027556-1796724000-1796731200@giveit2goodwill.org
SUMMARY:Work from Home (Virtual)
DESCRIPTION:Goodwill Career Solutions will conduct a free Work from Home Class on the second Wednesday of each month from 10 a.m. – 12 p.m. Participants must pre-register by visiting www.giveit2goodwill.org/digital-literacy or calling (615) 742-4151.
URL:https://giveit2goodwill.org/calendar/work-from-home-virtual/2026-12-08/
CATEGORIES:Nashville
END:VEVENT
BEGIN:VEVENT
DTSTART;TZID=America/Chicago:20261209T130000
DTEND;TZID=America/Chicago:20261209T150000
DTSTAMP:20260420T140513
CREATED:20250718T190414Z
LAST-MODIFIED:20260326T184810Z
UID:10027427-1796821200-1796828400@giveit2goodwill.org
SUMMARY:Explore Jobs Online & Apply for Work (Virtual)
DESCRIPTION:Goodwill Career Solutions will conduct a free Virtual Explore Jobs Online & Apply for Work Class from 1 p.m. – 3 p.m. on second Wednesday of each month. Participants must pre-register by visiting www.giveit2goodwill.org/digital-literacy or calling (615) 742-4151.
URL:https://giveit2goodwill.org/calendar/explore-jobs-online-apply-for-work-virtual-3/2026-12-09/
CATEGORIES:Nashville
END:VEVENT
BEGIN:VEVENT
DTSTART;TZID=America/Chicago:20261210T130000
DTEND;TZID=America/Chicago:20261210T150000
DTSTAMP:20260420T140513
CREATED:20260326T201409Z
LAST-MODIFIED:20260326T201409Z
UID:10027609-1796907600-1796914800@giveit2goodwill.org
SUMMARY:Resume Writing in Nashville
DESCRIPTION:Goodwill Career Solutions will conduct a free Resume Writing Class on the second Thursday of the month from 1p.m. – 3p.m. at the Nashville Career Solutions Location (Lifsey Building). Participants must pre-register by visiting the career center or calling (615) 742-4151.
URL:https://giveit2goodwill.org/calendar/resume-writing-in-nashville/2026-12-10/
CATEGORIES:Nashville
ORGANIZER;CN="Goodwill Middle Tennessee":MAILTO:training@givegw.org
END:VEVENT
BEGIN:VEVENT
DTSTART;TZID=America/Chicago:20261216T130000
DTEND;TZID=America/Chicago:20261216T153000
DTSTAMP:20260420T140513
CREATED:20251226T220931Z
LAST-MODIFIED:20260327T142746Z
UID:10028393-1797426000-1797435000@giveit2goodwill.org
SUMMARY:Intermediate OPS in Mt. Juliet
DESCRIPTION:Goodwill Career Solutions will conduct a free Intermediate Office Productivity Class from 1 p.m. – 3:30 p.m. on the third Wednesday of every other month. Participants must pre-register by visiting a career center or calling (615) 288-2389.
URL:https://giveit2goodwill.org/calendar/intermediate-ops-in-mt-juliet/2026-12-16/
CATEGORIES:Mt. Juliet
ORGANIZER;CN="Goodwill Middle Tennessee":MAILTO:training@givegw.org
END:VEVENT
BEGIN:VEVENT
DTSTART;TZID=America/Chicago:20261222T090000
DTEND;TZID=America/Chicago:20261222T120000
DTSTAMP:20260420T140513
CREATED:20250827T144456Z
LAST-MODIFIED:20260327T150218Z
UID:10028490-1797930000-1797940800@giveit2goodwill.org
SUMMARY:Beginner OPS in Hendersonville
DESCRIPTION:Goodwill Career Solutions will conduct a free Beginner Office Productivity Class from 9 a.m. – 12 p.m. on the fourth Tuesday of every other month\, at the Hendersonville Career Solutions Location (Indian Lake). Participants must pre-register by visiting their closest career center or calling (615) 346-1810.
URL:https://giveit2goodwill.org/calendar/beginner-ops-in-hendersonville-3/2026-12-22/
CATEGORIES:Hendersonville
END:VEVENT
BEGIN:VEVENT
DTSTART;TZID=America/Chicago:20261224T120000
DTEND;TZID=America/Chicago:20261224T130000
DTSTAMP:20260420T140513
CREATED:20260327T150552Z
LAST-MODIFIED:20260327T150552Z
UID:10028525-1798113600-1798117200@giveit2goodwill.org
SUMMARY:Resume Writing (Virtual)
DESCRIPTION:Goodwill Career Solutions will conduct a free Virtual Resume Writing Class on the first Wednesday and third and fourth Thursday of every month from 12:00PM – 1:00PM. Participants must pre-register by at their closet Career Center or calling (615) 742-4151.
URL:https://giveit2goodwill.org/calendar/resume-writing-virtual/2026-12-24/
CATEGORIES:Nashville
ORGANIZER;CN="Goodwill Middle Tennessee":MAILTO:training@givegw.org
END:VEVENT
BEGIN:VEVENT
DTSTART;TZID=America/Chicago:20261224T133000
DTEND;TZID=America/Chicago:20261224T143000
DTSTAMP:20260420T140513
CREATED:20260327T131957Z
LAST-MODIFIED:20260327T132028Z
UID:10027886-1798119000-1798122600@giveit2goodwill.org
SUMMARY:Interviewing for Work (Virtual)
DESCRIPTION:Goodwill Career Solutions will conduct a free Virtual Interviewing for Work Class on the first Wednesday and third and fourth Thursday of every month from 1:30PM – 2:30PM. Participants must pre-register by at their closet Career Center or calling (615) 742-4151.
URL:https://giveit2goodwill.org/calendar/interviewing-for-work-virtual-2/2026-12-24/
CATEGORIES:Nashville
ORGANIZER;CN="Goodwill Middle Tennessee":MAILTO:training@givegw.org
END:VEVENT
BEGIN:VEVENT
DTSTART;TZID=America/Chicago:20261228T090000
DTEND;TZID=America/Chicago:20261228T120000
DTSTAMP:20260420T140513
CREATED:20251226T220018Z
LAST-MODIFIED:20260327T153106Z
UID:10028767-1798448400-1798459200@giveit2goodwill.org
SUMMARY:Beginner OPS in Spring Hill
DESCRIPTION:Goodwill Career Solutions will conduct a free Beginner Office Productivity Class from 9 a.m.-noon on Monday\, April 27th\, at the Spring Hill Career Solutions Location. Participants must pre-register by visiting their closest career center or calling (931) 548-3460.
URL:https://giveit2goodwill.org/calendar/beginner-ops-in-spring-hill/2026-12-28/
CATEGORIES:Spring Hill
ORGANIZER;CN="Goodwill Middle Tennessee":MAILTO:training@givegw.org
END:VEVENT
BEGIN:VEVENT
DTSTART;TZID=America/Chicago:20261228T130000
DTEND;TZID=America/Chicago:20261228T153000
DTSTAMP:20260420T140513
CREATED:20251226T220218Z
LAST-MODIFIED:20260327T153204Z
UID:10028827-1798462800-1798471800@giveit2goodwill.org
SUMMARY:Intermediate OPS in Spring Hill
DESCRIPTION:Goodwill Career Solutions will conduct a free Intermediate Office Productivity Class from 1 p.m. – 3:30 p.m. on Monday\, April 27th\, at the Spring Hill Career Solutions Location. Participants must pre-register by visiting their closest career center or calling (931) 548-3460.
URL:https://giveit2goodwill.org/calendar/intermediate-ops-in-spring-hill/2026-12-28/
CATEGORIES:Spring Hill
ORGANIZER;CN="Goodwill Middle Tennessee":MAILTO:training@givegw.org
END:VEVENT
BEGIN:VEVENT
DTSTART;TZID=America/Chicago:20261231T100000
DTEND;TZID=America/Chicago:20261231T120000
DTSTAMP:20260420T140513
CREATED:20250723T135649Z
LAST-MODIFIED:20260327T151152Z
UID:10028705-1798711200-1798718400@giveit2goodwill.org
SUMMARY:Basic Digital Literacy in Nashville
DESCRIPTION:Goodwill Career Solutions will conduct a free Basic Digital Literacy Class from 10 a.m. – 12 p.m. on the last Thursday of every month at the Nashville Career Solutions Location (Lifsey Building). Participants must pre-register by visiting www.giveit2goodwill.org/digital-literacy or calling (615) 742-4151.
URL:https://giveit2goodwill.org/calendar/basic-digital-literacy-in-nashville-2/2026-12-31/
CATEGORIES:Nashville
END:VEVENT
END:VCALENDAR