BEGIN:VCALENDAR
VERSION:2.0
PRODID:-//Goodwill Industries of Middle Tennessee, Inc. - ECPv6.15.13//NONSGML v1.0//EN
CALSCALE:GREGORIAN
METHOD:PUBLISH
X-ORIGINAL-URL:https://giveit2goodwill.org
X-WR-CALDESC:Events for Goodwill Industries of Middle Tennessee, Inc.
REFRESH-INTERVAL;VALUE=DURATION:PT1H
X-Robots-Tag:noindex
X-PUBLISHED-TTL:PT1H
BEGIN:VTIMEZONE
TZID:America/Chicago
BEGIN:DAYLIGHT
TZOFFSETFROM:-0600
TZOFFSETTO:-0500
TZNAME:CDT
DTSTART:20260308T080000
END:DAYLIGHT
BEGIN:STANDARD
TZOFFSETFROM:-0500
TZOFFSETTO:-0600
TZNAME:CST
DTSTART:20261101T070000
END:STANDARD
BEGIN:DAYLIGHT
TZOFFSETFROM:-0600
TZOFFSETTO:-0500
TZNAME:CDT
DTSTART:20270314T080000
END:DAYLIGHT
BEGIN:STANDARD
TZOFFSETFROM:-0500
TZOFFSETTO:-0600
TZNAME:CST
DTSTART:20271107T070000
END:STANDARD
BEGIN:DAYLIGHT
TZOFFSETFROM:-0600
TZOFFSETTO:-0500
TZNAME:CDT
DTSTART:20280312T080000
END:DAYLIGHT
BEGIN:STANDARD
TZOFFSETFROM:-0500
TZOFFSETTO:-0600
TZNAME:CST
DTSTART:20281105T070000
END:STANDARD
END:VTIMEZONE
BEGIN:VEVENT
DTSTART;TZID=America/Chicago:20270223T090000
DTEND;TZID=America/Chicago:20270223T120000
DTSTAMP:20260423T053844
CREATED:20250827T144456Z
LAST-MODIFIED:20260327T150218Z
UID:10028491-1803373200-1803384000@giveit2goodwill.org
SUMMARY:Beginner OPS in Hendersonville
DESCRIPTION:Goodwill Career Solutions will conduct a free Beginner Office Productivity Class from 9 a.m. – 12 p.m. on the fourth Tuesday of every other month\, at the Hendersonville Career Solutions Location (Indian Lake). Participants must pre-register by visiting their closest career center or calling (615) 346-1810.
URL:https://giveit2goodwill.org/calendar/beginner-ops-in-hendersonville-3/2027-02-23/
LOCATION:TN
CATEGORIES:Hendersonville
END:VEVENT
BEGIN:VEVENT
DTSTART;TZID=America/Chicago:20270225T110000
DTEND;TZID=America/Chicago:20270225T120000
DTSTAMP:20260423T053844
CREATED:20260327T150552Z
LAST-MODIFIED:20260422T205433Z
UID:10029785-1803553200-1803556800@giveit2goodwill.org
SUMMARY:Resume Writing (Virtual)
DESCRIPTION:Goodwill Career Solutions will conduct a free Virtual Resume Writing Class on the first Wednesday and third and fourth Thursday of every month from 11:00PM – 12:00PM. Participants must pre-register by at their closet Career Center or calling (615) 742-4151.
URL:https://giveit2goodwill.org/calendar/resume-writing-virtual/2027-02-25/
LOCATION:TN
CATEGORIES:Nashville
ORGANIZER;CN="Goodwill Middle Tennessee":MAILTO:training@givegw.org
END:VEVENT
BEGIN:VEVENT
DTSTART;TZID=America/Chicago:20270225T130000
DTEND;TZID=America/Chicago:20270225T140000
DTSTAMP:20260423T053844
CREATED:20260327T131957Z
LAST-MODIFIED:20260422T205204Z
UID:10029725-1803560400-1803564000@giveit2goodwill.org
SUMMARY:Interviewing for Work (Virtual)
DESCRIPTION:Goodwill Career Solutions will conduct a free Virtual Interviewing for Work Class on the first Wednesday and third and fourth Thursday of every month from 1:00PM – 2:00PM. Participants must pre-register by at their closet Career Center or calling (615) 742-4151.
URL:https://giveit2goodwill.org/calendar/interviewing-for-work-virtual-2/2027-02-25/
LOCATION:TN
CATEGORIES:Nashville
ORGANIZER;CN="Goodwill Middle Tennessee":MAILTO:training@givegw.org
END:VEVENT
BEGIN:VEVENT
DTSTART;TZID=America/Chicago:20270303T110000
DTEND;TZID=America/Chicago:20270303T120000
DTSTAMP:20260423T053844
CREATED:20250827T134538Z
LAST-MODIFIED:20260422T195306Z
UID:10029185-1804071600-1804075200@giveit2goodwill.org
SUMMARY:Resume Writing (Virtual Training)
DESCRIPTION:Goodwill Career Solutions will conduct a free Virtual Resume Writing Class on the first Wednesday and third and fourth Thursday of every month from 11:00AM – 12:00PM. Participants must pre-register by at their closet Career Center or calling (615) 742-4151.
URL:https://giveit2goodwill.org/calendar/resume-writing-virtual-training/2027-03-03/
LOCATION:TN
CATEGORIES:Nashville
END:VEVENT
BEGIN:VEVENT
DTSTART;TZID=America/Chicago:20270303T130000
DTEND;TZID=America/Chicago:20270303T140000
DTSTAMP:20260423T053844
CREATED:20260327T125250Z
LAST-MODIFIED:20260422T154141Z
UID:10029005-1804078800-1804082400@giveit2goodwill.org
SUMMARY:Interviewing for Work (Virtual)
DESCRIPTION:Goodwill Career Solutions will conduct a free Virtual Interviewing for Work Class on the first Wednesday\, third Thursday\, and last Thursday of every month from 1:00 PM – 2:00 PM. Participants must pre-register by visiting their closet Career Center or calling (615) 742-4151.
URL:https://giveit2goodwill.org/calendar/interviewing-for-work-virtual/2027-03-03/
LOCATION:TN
CATEGORIES:Nashville
ORGANIZER;CN="Goodwill Middle Tennessee":MAILTO:training@givegw.org
END:VEVENT
BEGIN:VEVENT
DTSTART;TZID=America/Chicago:20270309T140000
DTEND;TZID=America/Chicago:20270309T160000
DTSTAMP:20260423T053844
CREATED:20250827T140639Z
LAST-MODIFIED:20260422T193805Z
UID:10022819-1804600800-1804608000@giveit2goodwill.org
SUMMARY:Basic Digital Literacy in Lebanon
DESCRIPTION:Goodwill Career Solutions will conduct a free Basic Digital Literacy Class from 2:00 p.m. – 4:00 p.m. on the second Tuesday of every other month\, at the Lebanon Career Solutions Location (Indian Lake). Participants must pre-register by visiting the closet career center or calling (615) 742-4151.
URL:https://giveit2goodwill.org/calendar/money-matters-financial-lit-in-lebanon/2027-03-09/
LOCATION:Lebanon Career Solutions\, 1414 W Main St\, Lebanon\, TN\, 37087\, United States
CATEGORIES:Lebanon
END:VEVENT
BEGIN:VEVENT
DTSTART;TZID=America/Chicago:20270316T090000
DTEND;TZID=America/Chicago:20270316T120000
DTSTAMP:20260423T053844
CREATED:20260422T202457Z
LAST-MODIFIED:20260422T202457Z
UID:10029485-1805187600-1805198400@giveit2goodwill.org
SUMMARY:Beginner OPS in Spring Hill
DESCRIPTION:Goodwill Career Solutions will conduct a free Beginner Office Productivity Class from 9 a.m.-noon on the fourth Tuesday of every other month\, at the Spring Hill Career Solutions Location. Participants must pre-register by visiting their closest career center or calling (931) 548-3460.
URL:https://giveit2goodwill.org/calendar/beginner-ops-in-spring-hill-2/2027-03-16/
LOCATION:Spring Hill Goodwill Career Solutions\, 1008 Nasdaq St.\, Spring Hill\, TN\, 37174
CATEGORIES:Spring Hill
ORGANIZER;CN="Goodwill Middle Tennessee":MAILTO:training@givegw.org
END:VEVENT
BEGIN:VEVENT
DTSTART;TZID=America/Chicago:20270317T130000
DTEND;TZID=America/Chicago:20270317T153000
DTSTAMP:20260423T053844
CREATED:20251226T220931Z
LAST-MODIFIED:20260421T184616Z
UID:10026262-1805288400-1805297400@giveit2goodwill.org
SUMMARY:Intermediate OPS in Mt. Juliet
DESCRIPTION:Goodwill Career Solutions will conduct a free Intermediate Office Productivity Class from 1 p.m. – 3:30 p.m. on the third Wednesday of every other month. Participants must pre-register by visiting a career center or calling (615) 288-2389.
URL:https://giveit2goodwill.org/calendar/intermediate-ops-in-mt-juliet/2027-03-17/
LOCATION:Mt. Juliet Goodwill Career Solutions\, 1985 Providence West Parkway\, Mt. Juliet\, TN\, 37122\, United States
CATEGORIES:Mt. Juliet
ORGANIZER;CN="Goodwill Middle Tennessee":MAILTO:training@givegw.org
END:VEVENT
BEGIN:VEVENT
DTSTART;TZID=America/Chicago:20270318T110000
DTEND;TZID=America/Chicago:20270318T120000
DTSTAMP:20260423T053844
CREATED:20260422T203229Z
LAST-MODIFIED:20260422T203229Z
UID:10029545-1805367600-1805371200@giveit2goodwill.org
SUMMARY:Resume Writing (Virtual Training)
DESCRIPTION:Goodwill Career Solutions will conduct a free Virtual Resume Writing Class on the first Wednesday\, third Thursday\, and last Thursday of every month from 11:00 AM – 12:00 PM. Participants must pre-register by visiting their closet Career Center or calling (615) 742-4151.
URL:https://giveit2goodwill.org/calendar/resume-writing-virtual-training-2/2027-03-18/
LOCATION:TN
CATEGORIES:Virtual
ORGANIZER;CN="Goodwill Middle Tennessee":MAILTO:training@givegw.org
END:VEVENT
BEGIN:VEVENT
DTSTART;TZID=America/Chicago:20270318T130000
DTEND;TZID=America/Chicago:20270318T140000
DTSTAMP:20260423T053844
CREATED:20260422T155221Z
LAST-MODIFIED:20260422T155221Z
UID:10029065-1805374800-1805378400@giveit2goodwill.org
SUMMARY:Interviewing for Work (Virtual)
DESCRIPTION:Goodwill Career Solutions will conduct a free Virtual Interviewing for Work Class on the first Wednesday\, third Thursday\, and last Thursday of every month from 1:00 PM – 2:00 PM. Participants must pre-register by visiting their closet Career Center or calling (615) 742-4151.
URL:https://giveit2goodwill.org/calendar/interviewing-for-work-virtual-3/2027-03-18/
LOCATION:TN
CATEGORIES:Nashville
ORGANIZER;CN="Goodwill Middle Tennessee":MAILTO:training@givegw.org
END:VEVENT
BEGIN:VEVENT
DTSTART;TZID=America/Chicago:20270324T120000
DTEND;TZID=America/Chicago:20270324T140000
DTSTAMP:20260423T053844
CREATED:20260422T210909Z
LAST-MODIFIED:20260422T210909Z
UID:10029840-1805889600-1805896800@giveit2goodwill.org
SUMMARY:Intermediate Google Workspace in Murfreesboro
DESCRIPTION:Goodwill Career Solutions will conduct a free Intermediate Google Workspace Class from 12 p.m. – 2 p.m. on the last Wednesday of every other month\, at the Murfreesboro Career Solutions Location. Participants must pre-register by visiting the closest career center or calling (615) 346-1818.
URL:https://giveit2goodwill.org/calendar/intermediate-google-workspace-in-murfreesboro/2027-03-24/
LOCATION:Murfreesboro Goodwill Career Solutions\, 2955 S. Church St.\, Murfreesboro\, TN\, 37127\, United States
CATEGORIES:Murfreesboro
ORGANIZER;CN="Goodwill Middle Tennessee":MAILTO:training@givegw.org
END:VEVENT
BEGIN:VEVENT
DTSTART;TZID=America/Chicago:20270325T110000
DTEND;TZID=America/Chicago:20270325T120000
DTSTAMP:20260423T053844
CREATED:20260327T150552Z
LAST-MODIFIED:20260422T205433Z
UID:10029786-1805972400-1805976000@giveit2goodwill.org
SUMMARY:Resume Writing (Virtual)
DESCRIPTION:Goodwill Career Solutions will conduct a free Virtual Resume Writing Class on the first Wednesday and third and fourth Thursday of every month from 11:00PM – 12:00PM. Participants must pre-register by at their closet Career Center or calling (615) 742-4151.
URL:https://giveit2goodwill.org/calendar/resume-writing-virtual/2027-03-25/
LOCATION:TN
CATEGORIES:Nashville
ORGANIZER;CN="Goodwill Middle Tennessee":MAILTO:training@givegw.org
END:VEVENT
BEGIN:VEVENT
DTSTART;TZID=America/Chicago:20270325T130000
DTEND;TZID=America/Chicago:20270325T140000
DTSTAMP:20260423T053844
CREATED:20260327T131957Z
LAST-MODIFIED:20260422T205204Z
UID:10029726-1805979600-1805983200@giveit2goodwill.org
SUMMARY:Interviewing for Work (Virtual)
DESCRIPTION:Goodwill Career Solutions will conduct a free Virtual Interviewing for Work Class on the first Wednesday and third and fourth Thursday of every month from 1:00PM – 2:00PM. Participants must pre-register by at their closet Career Center or calling (615) 742-4151.
URL:https://giveit2goodwill.org/calendar/interviewing-for-work-virtual-2/2027-03-25/
LOCATION:TN
CATEGORIES:Nashville
ORGANIZER;CN="Goodwill Middle Tennessee":MAILTO:training@givegw.org
END:VEVENT
BEGIN:VEVENT
DTSTART;TZID=America/Chicago:20270407T110000
DTEND;TZID=America/Chicago:20270407T120000
DTSTAMP:20260423T053844
CREATED:20250827T134538Z
LAST-MODIFIED:20260422T195306Z
UID:10029186-1807095600-1807099200@giveit2goodwill.org
SUMMARY:Resume Writing (Virtual Training)
DESCRIPTION:Goodwill Career Solutions will conduct a free Virtual Resume Writing Class on the first Wednesday and third and fourth Thursday of every month from 11:00AM – 12:00PM. Participants must pre-register by at their closet Career Center or calling (615) 742-4151.
URL:https://giveit2goodwill.org/calendar/resume-writing-virtual-training/2027-04-07/
LOCATION:TN
CATEGORIES:Nashville
END:VEVENT
BEGIN:VEVENT
DTSTART;TZID=America/Chicago:20270407T130000
DTEND;TZID=America/Chicago:20270407T140000
DTSTAMP:20260423T053844
CREATED:20260327T125250Z
LAST-MODIFIED:20260422T154141Z
UID:10029006-1807102800-1807106400@giveit2goodwill.org
SUMMARY:Interviewing for Work (Virtual)
DESCRIPTION:Goodwill Career Solutions will conduct a free Virtual Interviewing for Work Class on the first Wednesday\, third Thursday\, and last Thursday of every month from 1:00 PM – 2:00 PM. Participants must pre-register by visiting their closet Career Center or calling (615) 742-4151.
URL:https://giveit2goodwill.org/calendar/interviewing-for-work-virtual/2027-04-07/
LOCATION:TN
CATEGORIES:Nashville
ORGANIZER;CN="Goodwill Middle Tennessee":MAILTO:training@givegw.org
END:VEVENT
BEGIN:VEVENT
DTSTART;TZID=America/Chicago:20270415T110000
DTEND;TZID=America/Chicago:20270415T120000
DTSTAMP:20260423T053844
CREATED:20260422T203229Z
LAST-MODIFIED:20260422T203229Z
UID:10029546-1807786800-1807790400@giveit2goodwill.org
SUMMARY:Resume Writing (Virtual Training)
DESCRIPTION:Goodwill Career Solutions will conduct a free Virtual Resume Writing Class on the first Wednesday\, third Thursday\, and last Thursday of every month from 11:00 AM – 12:00 PM. Participants must pre-register by visiting their closet Career Center or calling (615) 742-4151.
URL:https://giveit2goodwill.org/calendar/resume-writing-virtual-training-2/2027-04-15/
LOCATION:TN
CATEGORIES:Virtual
ORGANIZER;CN="Goodwill Middle Tennessee":MAILTO:training@givegw.org
END:VEVENT
BEGIN:VEVENT
DTSTART;TZID=America/Chicago:20270415T130000
DTEND;TZID=America/Chicago:20270415T140000
DTSTAMP:20260423T053844
CREATED:20260422T155221Z
LAST-MODIFIED:20260422T155221Z
UID:10029066-1807794000-1807797600@giveit2goodwill.org
SUMMARY:Interviewing for Work (Virtual)
DESCRIPTION:Goodwill Career Solutions will conduct a free Virtual Interviewing for Work Class on the first Wednesday\, third Thursday\, and last Thursday of every month from 1:00 PM – 2:00 PM. Participants must pre-register by visiting their closet Career Center or calling (615) 742-4151.
URL:https://giveit2goodwill.org/calendar/interviewing-for-work-virtual-3/2027-04-15/
LOCATION:TN
CATEGORIES:Nashville
ORGANIZER;CN="Goodwill Middle Tennessee":MAILTO:training@givegw.org
END:VEVENT
BEGIN:VEVENT
DTSTART;TZID=America/Chicago:20270420T090000
DTEND;TZID=America/Chicago:20270420T120000
DTSTAMP:20260423T053844
CREATED:20260422T202457Z
LAST-MODIFIED:20260422T202457Z
UID:10029486-1808211600-1808222400@giveit2goodwill.org
SUMMARY:Beginner OPS in Spring Hill
DESCRIPTION:Goodwill Career Solutions will conduct a free Beginner Office Productivity Class from 9 a.m.-noon on the fourth Tuesday of every other month\, at the Spring Hill Career Solutions Location. Participants must pre-register by visiting their closest career center or calling (931) 548-3460.
URL:https://giveit2goodwill.org/calendar/beginner-ops-in-spring-hill-2/2027-04-20/
LOCATION:Spring Hill Goodwill Career Solutions\, 1008 Nasdaq St.\, Spring Hill\, TN\, 37174
CATEGORIES:Spring Hill
ORGANIZER;CN="Goodwill Middle Tennessee":MAILTO:training@givegw.org
END:VEVENT
BEGIN:VEVENT
DTSTART;TZID=America/Chicago:20270421T130000
DTEND;TZID=America/Chicago:20270421T153000
DTSTAMP:20260423T053844
CREATED:20251226T220931Z
LAST-MODIFIED:20260421T184616Z
UID:10028395-1808312400-1808321400@giveit2goodwill.org
SUMMARY:Intermediate OPS in Mt. Juliet
DESCRIPTION:Goodwill Career Solutions will conduct a free Intermediate Office Productivity Class from 1 p.m. – 3:30 p.m. on the third Wednesday of every other month. Participants must pre-register by visiting a career center or calling (615) 288-2389.
URL:https://giveit2goodwill.org/calendar/intermediate-ops-in-mt-juliet/2027-04-21/
LOCATION:Mt. Juliet Goodwill Career Solutions\, 1985 Providence West Parkway\, Mt. Juliet\, TN\, 37122\, United States
CATEGORIES:Mt. Juliet
ORGANIZER;CN="Goodwill Middle Tennessee":MAILTO:training@givegw.org
END:VEVENT
BEGIN:VEVENT
DTSTART;TZID=America/Chicago:20270422T110000
DTEND;TZID=America/Chicago:20270422T120000
DTSTAMP:20260423T053844
CREATED:20260327T150552Z
LAST-MODIFIED:20260422T205433Z
UID:10029787-1808391600-1808395200@giveit2goodwill.org
SUMMARY:Resume Writing (Virtual)
DESCRIPTION:Goodwill Career Solutions will conduct a free Virtual Resume Writing Class on the first Wednesday and third and fourth Thursday of every month from 11:00PM – 12:00PM. Participants must pre-register by at their closet Career Center or calling (615) 742-4151.
URL:https://giveit2goodwill.org/calendar/resume-writing-virtual/2027-04-22/
LOCATION:TN
CATEGORIES:Nashville
ORGANIZER;CN="Goodwill Middle Tennessee":MAILTO:training@givegw.org
END:VEVENT
BEGIN:VEVENT
DTSTART;TZID=America/Chicago:20270422T130000
DTEND;TZID=America/Chicago:20270422T140000
DTSTAMP:20260423T053844
CREATED:20260327T131957Z
LAST-MODIFIED:20260422T205204Z
UID:10029727-1808398800-1808402400@giveit2goodwill.org
SUMMARY:Interviewing for Work (Virtual)
DESCRIPTION:Goodwill Career Solutions will conduct a free Virtual Interviewing for Work Class on the first Wednesday and third and fourth Thursday of every month from 1:00PM – 2:00PM. Participants must pre-register by at their closet Career Center or calling (615) 742-4151.
URL:https://giveit2goodwill.org/calendar/interviewing-for-work-virtual-2/2027-04-22/
LOCATION:TN
CATEGORIES:Nashville
ORGANIZER;CN="Goodwill Middle Tennessee":MAILTO:training@givegw.org
END:VEVENT
BEGIN:VEVENT
DTSTART;TZID=America/Chicago:20270427T090000
DTEND;TZID=America/Chicago:20270427T120000
DTSTAMP:20260423T053844
CREATED:20250827T144456Z
LAST-MODIFIED:20260327T150218Z
UID:10028492-1808816400-1808827200@giveit2goodwill.org
SUMMARY:Beginner OPS in Hendersonville
DESCRIPTION:Goodwill Career Solutions will conduct a free Beginner Office Productivity Class from 9 a.m. – 12 p.m. on the fourth Tuesday of every other month\, at the Hendersonville Career Solutions Location (Indian Lake). Participants must pre-register by visiting their closest career center or calling (615) 346-1810.
URL:https://giveit2goodwill.org/calendar/beginner-ops-in-hendersonville-3/2027-04-27/
LOCATION:TN
CATEGORIES:Hendersonville
END:VEVENT
BEGIN:VEVENT
DTSTART;TZID=America/Chicago:20270505T110000
DTEND;TZID=America/Chicago:20270505T120000
DTSTAMP:20260423T053844
CREATED:20250827T134538Z
LAST-MODIFIED:20260422T195306Z
UID:10029187-1809514800-1809518400@giveit2goodwill.org
SUMMARY:Resume Writing (Virtual Training)
DESCRIPTION:Goodwill Career Solutions will conduct a free Virtual Resume Writing Class on the first Wednesday and third and fourth Thursday of every month from 11:00AM – 12:00PM. Participants must pre-register by at their closet Career Center or calling (615) 742-4151.
URL:https://giveit2goodwill.org/calendar/resume-writing-virtual-training/2027-05-05/
LOCATION:TN
CATEGORIES:Nashville
END:VEVENT
BEGIN:VEVENT
DTSTART;TZID=America/Chicago:20270505T130000
DTEND;TZID=America/Chicago:20270505T140000
DTSTAMP:20260423T053844
CREATED:20260327T125250Z
LAST-MODIFIED:20260422T154141Z
UID:10029007-1809522000-1809525600@giveit2goodwill.org
SUMMARY:Interviewing for Work (Virtual)
DESCRIPTION:Goodwill Career Solutions will conduct a free Virtual Interviewing for Work Class on the first Wednesday\, third Thursday\, and last Thursday of every month from 1:00 PM – 2:00 PM. Participants must pre-register by visiting their closet Career Center or calling (615) 742-4151.
URL:https://giveit2goodwill.org/calendar/interviewing-for-work-virtual/2027-05-05/
LOCATION:TN
CATEGORIES:Nashville
ORGANIZER;CN="Goodwill Middle Tennessee":MAILTO:training@givegw.org
END:VEVENT
BEGIN:VEVENT
DTSTART;TZID=America/Chicago:20270511T140000
DTEND;TZID=America/Chicago:20270511T160000
DTSTAMP:20260423T053844
CREATED:20250827T140639Z
LAST-MODIFIED:20260422T193805Z
UID:10022821-1810044000-1810051200@giveit2goodwill.org
SUMMARY:Basic Digital Literacy in Lebanon
DESCRIPTION:Goodwill Career Solutions will conduct a free Basic Digital Literacy Class from 2:00 p.m. – 4:00 p.m. on the second Tuesday of every other month\, at the Lebanon Career Solutions Location (Indian Lake). Participants must pre-register by visiting the closet career center or calling (615) 742-4151.
URL:https://giveit2goodwill.org/calendar/money-matters-financial-lit-in-lebanon/2027-05-11/
LOCATION:Lebanon Career Solutions\, 1414 W Main St\, Lebanon\, TN\, 37087\, United States
CATEGORIES:Lebanon
END:VEVENT
BEGIN:VEVENT
DTSTART;TZID=America/Chicago:20270518T090000
DTEND;TZID=America/Chicago:20270518T120000
DTSTAMP:20260423T053844
CREATED:20260422T202457Z
LAST-MODIFIED:20260422T202457Z
UID:10029487-1810630800-1810641600@giveit2goodwill.org
SUMMARY:Beginner OPS in Spring Hill
DESCRIPTION:Goodwill Career Solutions will conduct a free Beginner Office Productivity Class from 9 a.m.-noon on the fourth Tuesday of every other month\, at the Spring Hill Career Solutions Location. Participants must pre-register by visiting their closest career center or calling (931) 548-3460.
URL:https://giveit2goodwill.org/calendar/beginner-ops-in-spring-hill-2/2027-05-18/
LOCATION:Spring Hill Goodwill Career Solutions\, 1008 Nasdaq St.\, Spring Hill\, TN\, 37174
CATEGORIES:Spring Hill
ORGANIZER;CN="Goodwill Middle Tennessee":MAILTO:training@givegw.org
END:VEVENT
BEGIN:VEVENT
DTSTART;TZID=America/Chicago:20270519T130000
DTEND;TZID=America/Chicago:20270519T153000
DTSTAMP:20260423T053844
CREATED:20251226T220931Z
LAST-MODIFIED:20260421T184616Z
UID:10026263-1810731600-1810740600@giveit2goodwill.org
SUMMARY:Intermediate OPS in Mt. Juliet
DESCRIPTION:Goodwill Career Solutions will conduct a free Intermediate Office Productivity Class from 1 p.m. – 3:30 p.m. on the third Wednesday of every other month. Participants must pre-register by visiting a career center or calling (615) 288-2389.
URL:https://giveit2goodwill.org/calendar/intermediate-ops-in-mt-juliet/2027-05-19/
LOCATION:Mt. Juliet Goodwill Career Solutions\, 1985 Providence West Parkway\, Mt. Juliet\, TN\, 37122\, United States
CATEGORIES:Mt. Juliet
ORGANIZER;CN="Goodwill Middle Tennessee":MAILTO:training@givegw.org
END:VEVENT
BEGIN:VEVENT
DTSTART;TZID=America/Chicago:20270520T110000
DTEND;TZID=America/Chicago:20270520T120000
DTSTAMP:20260423T053844
CREATED:20260422T203229Z
LAST-MODIFIED:20260422T203229Z
UID:10029547-1810810800-1810814400@giveit2goodwill.org
SUMMARY:Resume Writing (Virtual Training)
DESCRIPTION:Goodwill Career Solutions will conduct a free Virtual Resume Writing Class on the first Wednesday\, third Thursday\, and last Thursday of every month from 11:00 AM – 12:00 PM. Participants must pre-register by visiting their closet Career Center or calling (615) 742-4151.
URL:https://giveit2goodwill.org/calendar/resume-writing-virtual-training-2/2027-05-20/
LOCATION:TN
CATEGORIES:Virtual
ORGANIZER;CN="Goodwill Middle Tennessee":MAILTO:training@givegw.org
END:VEVENT
BEGIN:VEVENT
DTSTART;TZID=America/Chicago:20270520T130000
DTEND;TZID=America/Chicago:20270520T140000
DTSTAMP:20260423T053844
CREATED:20260422T155221Z
LAST-MODIFIED:20260422T155221Z
UID:10029067-1810818000-1810821600@giveit2goodwill.org
SUMMARY:Interviewing for Work (Virtual)
DESCRIPTION:Goodwill Career Solutions will conduct a free Virtual Interviewing for Work Class on the first Wednesday\, third Thursday\, and last Thursday of every month from 1:00 PM – 2:00 PM. Participants must pre-register by visiting their closet Career Center or calling (615) 742-4151.
URL:https://giveit2goodwill.org/calendar/interviewing-for-work-virtual-3/2027-05-20/
LOCATION:TN
CATEGORIES:Nashville
ORGANIZER;CN="Goodwill Middle Tennessee":MAILTO:training@givegw.org
END:VEVENT
BEGIN:VEVENT
DTSTART;TZID=America/Chicago:20270526T120000
DTEND;TZID=America/Chicago:20270526T140000
DTSTAMP:20260423T053844
CREATED:20260422T210909Z
LAST-MODIFIED:20260422T210909Z
UID:10029841-1811332800-1811340000@giveit2goodwill.org
SUMMARY:Intermediate Google Workspace in Murfreesboro
DESCRIPTION:Goodwill Career Solutions will conduct a free Intermediate Google Workspace Class from 12 p.m. – 2 p.m. on the last Wednesday of every other month\, at the Murfreesboro Career Solutions Location. Participants must pre-register by visiting the closest career center or calling (615) 346-1818.
URL:https://giveit2goodwill.org/calendar/intermediate-google-workspace-in-murfreesboro/2027-05-26/
LOCATION:Murfreesboro Goodwill Career Solutions\, 2955 S. Church St.\, Murfreesboro\, TN\, 37127\, United States
CATEGORIES:Murfreesboro
ORGANIZER;CN="Goodwill Middle Tennessee":MAILTO:training@givegw.org
END:VEVENT
END:VCALENDAR